Workbook
Name _C3A_Bouwheer.BouwheerNaam: 'Samenvatting MS'!$C$6
Name _C3A_Dossiernaam: Detail!$I$3
Name _C3A_Dossiernaam: 'Samenvatting MS'!$C$5
Name _C3A_Dossiernummer: Detail!$B$4
Name _C3A_Dossiernummer: 'Samenvatting MS'!$C$3
Name Art_01.: Detail!$A$14:$I$14
Name Art_01.00.: Detail!$A$17:$I$17
Name Art_01.01.: Detail!$A$20:$I$21
Name Art_01.02.: Detail!$A$24:$I$25
Name Art_01.03.: Detail!$A$28:$I$29
Name Art_01.04.: Detail!$A$32:$I$33
Name Art_01.05.: Detail!$A$36:$I$37
Name Art_01.06.: Detail!$A$40:$I$41
Name Art_01.07.: Detail!#REF!
Name Art_01.08.: Detail!$A$44:$I$45
Name Art_01.10.: Detail!#REF!
Name Art_01.11.: Detail!#REF!
Name Art_01.11.10.: Detail!#REF!
Name Art_01.11.20.: Detail!#REF!
Name Art_01.12.: Detail!#REF!
Name Art_01.12.10.: Detail!#REF!
Name Art_01.12.20.: Detail!#REF!
Name Art_01.14.: Detail!#REF!
Name Art_01.14.10.: Detail!#REF!
Name Art_01.14.20.: Detail!#REF!
Name Art_01.15.: Detail!#REF!
Name Art_01.15.10.: Detail!#REF!
Name Art_01.15.20.: Detail!#REF!
Name Art_01.20.: Detail!$A$47:$I$47
Name Art_01.21.: Detail!$A$50:$I$51
Name Art_01.22.: Detail!$A$54:$I$55
Name Art_01.23.: Detail!$A$58:$I$59
Name Art_01.25.: Detail!$A$62:$I$63
Name Art_01.26.: Detail!#REF!
Name Art_01.30.: Detail!$A$66:$I$66
Name Art_01.31.: Detail!$A$69:$I$70
Name Art_01.32.: Detail!$A$73:$I$74
Name Art_01.33.: Detail!$A$77:$I$78
Name Art_01.40.: Detail!$A$81:$I$82
Name Art_02.: Detail!$A$85:$I$85
Name Art_02.00.: Detail!$A$88:$I$88
Name Art_02.10.: Detail!$A$91:$I$91
Name Art_02.11.: Detail!$A$94:$I$95
Name Art_02.12.: Detail!$A$98:$I$98
Name Art_02.12.10.: Detail!$A$101:$I$102
Name Art_02.12.20.: Detail!$A$105:$I$106
Name Art_02.30.: Detail!#REF!
Name Art_02.31.: Detail!#REF!
Name Art_02.32.: Detail!#REF!
Name Art_02.33.: Detail!#REF!
Name Art_02.40.: Detail!#REF!
Name Art_02.50.: Detail!#REF!
Name Art_02.52.: Detail!#REF!
Name Art_02.60.: Detail!#REF!
Name Art_02.61.: Detail!#REF!
Name Art_02.63.: Detail!#REF!
Name Art_02.64.: Detail!#REF!
Name Art_02.70.: Detail!#REF!
Name Art_02.71.: Detail!#REF!
Name Art_02.72.: Detail!#REF!

Sheet Detail
A1: C:\Models\C3Admin\Database\Articles_VMSW_BouwtechnischBestekWoningbouw_2015.xlsx | B1: Artikels
I3: Woning Eva& David
A4: dos nr | B4: DED17 | E4: EERSTE GLOBALE RAMING | L4: A | M4: Klad
A5: uitgave | B5: 1ste – 22/09/2020 | L5: B | M5: Voorstel
A6: auteur | B6: MSC | L6: C | M6: Herzien
L7: D | M7: Goedgekeurd
I8: WAASMUNSTER - Renovatie van jeugdlokalen
A9: dos nr | B9: WRJ22 | E9: 40-BUITENSCHRIJNWERK | L9: A | M9: Klad
A10: uitgave | B10: 1ste – 16/12/2022 | L10: B | M10: Voorstel
A11: auteur | B11: STS_OMA | L11: C | M11: Herzien
L12: D | M12: Goedgekeurd
A14: 01. | B14: AANNEMINGSMODALITEITEN
A17: 01.00. | B17: aannemingsmodaliteiten - algemeen
A20: 01.01. | B20: aannemingsmodaliteiten – bestek
D21: Totaal | G21: PM
A24: 01.02. | B24: aannemingsmodaliteiten – voorafgaand plaatsbezoek
D25: Totaal | G25: PM
A28: 01.03. | B28: aannemingsmodaliteiten – burgerlijke aansprakelijkheid
D29: Totaal | G29: PM
A32: 01.04. | B32: aannemingsmodaliteiten – volledigheid van inschrijving
D33: Totaal | G33: PM
A36: 01.05. | B36: aannemingsmodaliteiten – onderaanneming
D37: Totaal | G37: PM
A40: 01.06. | B40: aannemingsmodaliteiten – verrekeningen
D41: Totaal | G41: PM
A44: 01.08. | B44: aannemingsmodaliteiten – materialenlijst
D45: Totaal | G45: PM
A47: 01.20. | B47: werfcoördinatie – algemeen
A50: 01.21. | B50: werfcoördinatie – planning van de werken
D51: Totaal | G51: PM
A54: 01.22. | B54: werfcoördinatie – werfleiding en controle
D55: Totaal | G55: PM
A58: 01.23. | B58: werfcoördinatie – werfvergaderingen
D59: Totaal | G59: PM
A62: 01.25. | B62: werfcoördinatie – as-builtdossier
D63: Totaal | G63: PM
A66: 01.30. | B66: werfcondities – algemeen
A69: 01.31. | B69: werfcondities – orde en netheid
D70: Totaal | G70: PM
A73: 01.32. | B73: werfcondities – geluids- en stofhinder
D74: Totaal | G74: PM
A77: 01.33. | B77: werfcondities – nazorg
D78: Totaal | G78: PM
A81: 01.40. | B81: veiligheidsvoorschriften – algemeen
D82: Totaal | G82: SOG
A85: 02. | B85: BOUWPLAATSVOORZIENINGEN
A88: 02.00. | B88: bouwplaatsvoorzieningen - algemeen
A91: 02.10. | B91: beschermingswerken – algemeen
A94: 02.11. | B94: beschermingswerken - openbare weg
D95: Totaal | G95: PM
A98: 02.12. | B98: beschermingswerken - beplantingen
A101: 02.12.10. | B101: beschermingswerken - beplantingen/bomen
D102: Totaal | G102: PM
A105: 02.12.20. | B105: beschermingswerken - beplantingen/struiken en hagen
D106: Totaal | G106: PM
A109: 02.80. | B109: arbeidsmiddelen – algemeen
A112: 02.81. | B112: arbeidsmiddelen – werken op hoogte
A115: 02.81.10. | B115: arbeidsmiddelen – werken op hoogte/ladders
D116: Totaal | G116: PM
A119: 02.82. | B119: arbeidsmiddelen – hijsen en heffen van lasten
D120: Totaal | G120: PM
A123: 03. | B123: AFBRAAKWERKEN
A126: 03.00. | B126: afbraakwerken - algemeen
A129: 03.40. | B129: afbraak gevelelementen - algemeen
A132: 03.44. | B132: afbraak gevelelementen - buitenschrijnwerk
A135: 03.44.20. | B135: afbraak gevelelementen - buitenschrijnwerk/ramen, deuren en poorten
B136: omschrijving | D136: lengte | E136: breedte | G136: aantal | I136: totaal
B137: afbraak alle ramen: grotendeels zelfde afmetingen als nieuw schrijnwerk | I137: =ROUND(PRODUCT(ROUND(PRODUCT(D137,E137,F137),2),G137,H137),2) -> 0
C138: draairamen | D138: =I200+I207+I214+I224+I238+I245+I252 -> 25.07 | I138: =ROUND(PRODUCT(ROUND(PRODUCT(D138,E138,F138),2),G138,H138),2) -> 25.07
C139: buitendeur | D139: =I265+I275+I285+I295+I305+I231*2 -> 22.25 | I139: =ROUND(PRODUCT(ROUND(PRODUCT(D139,E139,F139),2),G139,H139),2) -> 22.25
D140: Totaal | G140: FH | H140: m2 | I140: =SUBTOTAL(9,I137:I139) -> 47.32
A143: 04. | B143: GEBOUWPRESTATIES
A146: 04.00. | B146: gebouwprestaties - algemeen
A149: 04.20. | B149: luchtdichtheid - algemeen
D150: Totaal | G150: PM
A153: 04.30. | B153: akoestiek - algemeen
D154: Totaal | G154: PM
A157: 04.40. | B157: brandveiligheid - algemeen
D158: Totaal | G158: PM
A161: 40. | B161: BUITENSCHRIJNWERK
A164: 40.00. | B164: buitenschrijnwerk - algemeen
A167: 40.01. | B167: buitenschrijnwerk - prestaties
A170: 40.02. | B170: buitenschrijnwerk - proeven
A173: 40.02.10. | B173: buitenschrijnwerk - proeven/op kosten ongelijk
D174: Totaal | G174: PM
A177: 40.03. | B177: buitenschrijnwerk - montage
A180: 40.03.10. | B180: buitenschrijnwerk - montage/spouwconstructie en dorpel
D181: Totaal | G181: PM
A184: 40.04. | B184: buitenschrijnwerk – borderel
A187: 40.10. | B187: profielsystemen - algemeen
A190: 40.12. | B190: profielsysteem – aluminium (incl. luchtdichtheidslabben)
A193: 40.12.10 | B193: profielsystemen - aluminium/vaste ramen
A196: 40.12.10.1 | B196: R0.01 & R0.02 vast raam (1300 x 1340 mm)
B197: omschrijving | D197: lengte | E197: breedte | G197: aantal | I197: totaal
B198: 3 dubbel vast raam | D198: 1.3 | E198: 1.34 | G198: 2 | I198: =ROUND(PRODUCT(ROUND(PRODUCT(D198,E198,F198),2),G198,H198),2) -> 3.48
I199: =ROUND(PRODUCT(ROUND(PRODUCT(D199,E199,F199),2),G199,H199),2) -> 0
D200: Totaal | G200: FH | H200: m2 | I200: =SUBTOTAL(9,I198:I199) -> 3.48
A203: 40.12.10.2 | B203: R0.04 vast raam (1110 x 1340 mm)
B204: omschrijving | D204: lengte | E204: breedte | G204: aantal | I204: totaal
B205: 3 dubbel vast raam | D205: 1.11 | E205: 1.34 | G205: 1 | I205: =ROUND(PRODUCT(ROUND(PRODUCT(D205,E205,F205),2),G205,H205),2) -> 1.49
...

Sheet Samenvatting MS
C3: DED17 | I3: =_xlfn.SINGLE(_C3A_Dossiernaam) -> Woning Eva& David
A4: dos nr | B4: =_xlfn.SINGLE(_C3A_Dossiernummer) -> DED17 | E4: =meetstaat -> EERSTE GLOBALE RAMING | L4: A | M4: Klad
A5: uitgave | B5: =uitgave -> 1ste – 22/09/2020 | C5: Woning Eva& David | D5: =inhoud -> 0 | L5: B | M5: Voorstel
A6: auteur | B6: =auteur -> MSC | C6: dhr. David DE REU & mvr. Eva VAN CAENEGEM | L6: C | M6: Herzien
I8: =Detail!I8 -> WAASMUNSTER - Renovatie van jeugdlokalen
A9: dos nr | B9: =Detail!B9 -> WRJ22 | E9: =Detail!E9 -> 40-BUITENSCHRIJNWERK | L9: A | M9: Klad
A10: uitgave | B10: =Detail!B10 -> 1ste – 16/12/2022 | L10: B | M10: Voorstel
A11: auteur | B11: =Detail!B11 -> STS_OMA | L11: C | M11: Herzien
L12: Aannemer 1 | R12: Aannemer 2 | X12: Aannemer 3
A13: volgnr. | B13: art. | C13: omschrijving | D13: eenheid | F13: hoev. | G13: hoev. 2 | H13: eenh.pr. | I13: totaal | K13: gemiddelde | L13: prijs | M13: afw. hoev. | N13: prijs 2 | O13: totaal | P13: % tov tot. | Q13: % tov gem. | R13: prijs | S13: afw. hoev. | T13: prijs 2 | U13: totaal | V13: % tov tot. | W13: % tov gem. | X13: prijs | Y13: afw. hoev. | Z13: prijs 2 | AA13: totaal | AB13: % tov tot. | AC13: % tov gem.
B14: Hoofdstuk 1 | O14: =IF(MID($D14,3,1)="-","*********",ROUND(IF(NOT(ISNUMBER($G14)),IF(NOT(ISNUMBER($F14)),1,$F14),$G14)*(IF(NOT(ISNUMBER(N14)),L14,N14)),2)) -> 0 | P14: =IF(O$116=0,"",O14/O$116) | Q14: =IF($K14=0,"",IF(NOT(ISNUMBER(N14)),L14,N14)/$K14-1) | U14: =IF(MID($D14,3,1)="-","*********",ROUND(IF(NOT(ISNUMBER($G14)),IF(NOT(ISNUMBER($F14)),1,$F14),$G14)*(IF(NOT(ISNUMBER(T14)),R14,T14)),2)) -> 0 | V14: =IF(U$116=0,"",U14/U$116) | W14: =IF($K14=0,"",IF(NOT(ISNUMBER(T14)),R14,T14)/$K14-1) | AA14: =IF(MID($D14,3,1)="-","*********",ROUND(IF(NOT(ISNUMBER($G14)),IF(NOT(ISNUMBER($F14)),1,$F14),$G14)*(IF(NOT(ISNUMBER(Z14)),X14,Z14)),2)) -> 0 | AB14: =IF(AA$116=0,"",AA14/AA$116) | AC14: =IF($K14=0,"",IF(NOT(ISNUMBER(Z14)),X14,Z14)/$K14-1)
B15: =[3]!ArticleCode(Art_01.) -> 01. | C15: =[3]!ArticleDescription(Art_01.) -> AANNEMINGSMODALITEITEN | O15: =IF(MID($D15,3,1)="-","*********",ROUND(IF(NOT(ISNUMBER($G15)),IF(NOT(ISNUMBER($F15)),1,$F15),$G15)*(IF(NOT(ISNUMBER(N15)),L15,N15)),2)) -> 0 | P15: =IF(O$116=0,"",O15/O$116) | Q15: =IF($K15=0,"",IF(NOT(ISNUMBER(N15)),L15,N15)/$K15-1) | U15: =IF(MID($D15,3,1)="-","*********",ROUND(IF(NOT(ISNUMBER($G15)),IF(NOT(ISNUMBER($F15)),1,$F15),$G15)*(IF(NOT(ISNUMBER(T15)),R15,T15)),2)) -> 0 | V15: =IF(U$116=0,"",U15/U$116) | W15: =IF($K15=0,"",IF(NOT(ISNUMBER(T15)),R15,T15)/$K15-1) | AA15: =IF(MID($D15,3,1)="-","*********",ROUND(IF(NOT(ISNUMBER($G15)),IF(NOT(ISNUMBER($F15)),1,$F15),$G15)*(IF(NOT(ISNUMBER(Z15)),X15,Z15)),2)) -> 0 | AB15: =IF(AA$116=0,"",AA15/AA$116) | AC15: =IF($K15=0,"",IF(NOT(ISNUMBER(Z15)),X15,Z15)/$K15-1)
B16: =[3]!ArticleCode(Art_01.00.) -> 01.00. | C16: =[3]!ArticleDescription(Art_01.00.) -> aannemingsmodaliteiten - algemeen | O16: =IF(MID($D16,3,1)="-","*********",ROUND(IF(NOT(ISNUMBER($G16)),IF(NOT(ISNUMBER($F16)),1,$F16),$G16)*(IF(NOT(ISNUMBER(N16)),L16,N16)),2)) -> 0 | P16: =IF(O$116=0,"",O16/O$116) | Q16: =IF($K16=0,"",IF(NOT(ISNUMBER(N16)),L16,N16)/$K16-1) | U16: =IF(MID($D16,3,1)="-","*********",ROUND(IF(NOT(ISNUMBER($G16)),IF(NOT(ISNUMBER($F16)),1,$F16),$G16)*(IF(NOT(ISNUMBER(T16)),R16,T16)),2)) -> 0 | V16: =IF(U$116=0,"",U16/U$116) | W16: =IF($K16=0,"",IF(NOT(ISNUMBER(T16)),R16,T16)/$K16-1) | AA16: =IF(MID($D16,3,1)="-","*********",ROUND(IF(NOT(ISNUMBER($G16)),IF(NOT(ISNUMBER($F16)),1,$F16),$G16)*(IF(NOT(ISNUMBER(Z16)),X16,Z16)),2)) -> 0 | AB16: =IF(AA$116=0,"",AA16/AA$116) | AC16: =IF($K16=0,"",IF(NOT(ISNUMBER(Z16)),X16,Z16)/$K16-1)
A17: 1 | B17: =[3]!ArticleCode(Art_01.01.) -> 01.01. | C17: =[3]!ArticleDescription(Art_01.01.) -> aannemingsmodaliteiten – bestek | D17: =[3]!ArticleMeasureType(Art_01.01.) -> PM | E17: =[3]!ArticleMeasureUnit(Art_01.01.) | F17: =[3]!ArticleQuantity(Art_01.01.) | I17: =IF(RIGHT($D17,1)="-","************",ROUND(IF(NOT(ISNUMBER(G17)),IF(NOT(ISNUMBER(F17)),1,F17),G17)*H17,2)) -> 0 | O17: =IF(MID($D17,3,1)="-","*********",ROUND(IF(NOT(ISNUMBER($G17)),IF(NOT(ISNUMBER($F17)),1,$F17),$G17)*(IF(NOT(ISNUMBER(N17)),L17,N17)),2)) -> 0 | P17: =IF(O$116=0,"",O17/O$116) | Q17: =IF($K17=0,"",IF(NOT(ISNUMBER(N17)),L17,N17)/$K17-1) | U17: =IF(MID($D17,3,1)="-","*********",ROUND(IF(NOT(ISNUMBER($G17)),IF(NOT(ISNUMBER($F17)),1,$F17),$G17)*(IF(NOT(ISNUMBER(T17)),R17,T17)),2)) -> 0 | V17: =IF(U$116=0,"",U17/U$116) | W17: =IF($K17=0,"",IF(NOT(ISNUMBER(T17)),R17,T17)/$K17-1) | AA17: =IF(MID($D17,3,1)="-","*********",ROUND(IF(NOT(ISNUMBER($G17)),IF(NOT(ISNUMBER($F17)),1,$F17),$G17)*(IF(NOT(ISNUMBER(Z17)),X17,Z17)),2)) -> 0 | AB17: =IF(AA$116=0,"",AA17/AA$116) | AC17: =IF($K17=0,"",IF(NOT(ISNUMBER(Z17)),X17,Z17)/$K17-1)
A18: =A17+1 -> 2 | B18: =[3]!ArticleCode(Art_01.02.) -> 01.02. | C18: =[3]!ArticleDescription(Art_01.02.) -> aannemingsmodaliteiten – voorafgaand plaatsbezoek | D18: =[3]!ArticleMeasureType(Art_01.02.) -> PM | E18: =[3]!ArticleMeasureUnit(Art_01.02.) | F18: =[3]!ArticleQuantity(Art_01.02.) | I18: =IF(RIGHT($D18,1)="-","************",ROUND(IF(NOT(ISNUMBER(G18)),IF(NOT(ISNUMBER(F18)),1,F18),G18)*H18,2)) -> 0 | O18: =IF(MID($D18,3,1)="-","*********",ROUND(IF(NOT(ISNUMBER($G18)),IF(NOT(ISNUMBER($F18)),1,$F18),$G18)*(IF(NOT(ISNUMBER(N18)),L18,N18)),2)) -> 0 | P18: =IF(O$116=0,"",O18/O$116) | Q18: =IF($K18=0,"",IF(NOT(ISNUMBER(N18)),L18,N18)/$K18-1) | U18: =IF(MID($D18,3,1)="-","*********",ROUND(IF(NOT(ISNUMBER($G18)),IF(NOT(ISNUMBER($F18)),1,$F18),$G18)*(IF(NOT(ISNUMBER(T18)),R18,T18)),2)) -> 0 | V18: =IF(U$116=0,"",U18/U$116) | W18: =IF($K18=0,"",IF(NOT(ISNUMBER(T18)),R18,T18)/$K18-1) | AA18: =IF(MID($D18,3,1)="-","*********",ROUND(IF(NOT(ISNUMBER($G18)),IF(NOT(ISNUMBER($F18)),1,$F18),$G18)*(IF(NOT(ISNUMBER(Z18)),X18,Z18)),2)) -> 0 | AB18: =IF(AA$116=0,"",AA18/AA$116) | AC18: =IF($K18=0,"",IF(NOT(ISNUMBER(Z18)),X18,Z18)/$K18-1)
A19: =A18+1 -> 3 | B19: =[3]!ArticleCode(Art_01.03.) -> 01.03. | C19: =[3]!ArticleDescription(Art_01.03.) -> aannemingsmodaliteiten – burgerlijke aansprakelijkheid | D19: =[3]!ArticleMeasureType(Art_01.03.) -> PM | E19: =[3]!ArticleMeasureUnit(Art_01.03.) | F19: =[3]!ArticleQuantity(Art_01.03.) | I19: =IF(RIGHT($D19,1)="-","************",ROUND(IF(NOT(ISNUMBER(G19)),IF(NOT(ISNUMBER(F19)),1,F19),G19)*H19,2)) -> 0 | O19: =IF(MID($D19,3,1)="-","*********",ROUND(IF(NOT(ISNUMBER($G19)),IF(NOT(ISNUMBER($F19)),1,$F19),$G19)*(IF(NOT(ISNUMBER(N19)),L19,N19)),2)) -> 0 | P19: =IF(O$116=0,"",O19/O$116) | Q19: =IF($K19=0,"",IF(NOT(ISNUMBER(N19)),L19,N19)/$K19-1) | U19: =IF(MID($D19,3,1)="-","*********",ROUND(IF(NOT(ISNUMBER($G19)),IF(NOT(ISNUMBER($F19)),1,$F19),$G19)*(IF(NOT(ISNUMBER(T19)),R19,T19)),2)) -> 0 | V19: =IF(U$116=0,"",U19/U$116) | W19: =IF($K19=0,"",IF(NOT(ISNUMBER(T19)),R19,T19)/$K19-1) | AA19: =IF(MID($D19,3,1)="-","*********",ROUND(IF(NOT(ISNUMBER($G19)),IF(NOT(ISNUMBER($F19)),1,$F19),$G19)*(IF(NOT(ISNUMBER(Z19)),X19,Z19)),2)) -> 0 | AB19: =IF(AA$116=0,"",AA19/AA$116) | AC19: =IF($K19=0,"",IF(NOT(ISNUMBER(Z19)),X19,Z19)/$K19-1)
A20: =A19+1 -> 4 | B20: =[3]!ArticleCode(Art_01.04.) -> 01.04. | C20: =[3]!ArticleDescription(Art_01.04.) -> aannemingsmodaliteiten – volledigheid van inschrijving | D20: =[3]!ArticleMeasureType(Art_01.04.) -> PM | E20: =[3]!ArticleMeasureUnit(Art_01.04.) | F20: =[3]!ArticleQuantity(Art_01.04.) | I20: =IF(RIGHT($D20,1)="-","************",ROUND(IF(NOT(ISNUMBER(G20)),IF(NOT(ISNUMBER(F20)),1,F20),G20)*H20,2)) -> 0 | O20: =IF(MID($D20,3,1)="-","*********",ROUND(IF(NOT(ISNUMBER($G20)),IF(NOT(ISNUMBER($F20)),1,$F20),$G20)*(IF(NOT(ISNUMBER(N20)),L20,N20)),2)) -> 0 | P20: =IF(O$116=0,"",O20/O$116) | Q20: =IF($K20=0,"",IF(NOT(ISNUMBER(N20)),L20,N20)/$K20-1) | U20: =IF(MID($D20,3,1)="-","*********",ROUND(IF(NOT(ISNUMBER($G20)),IF(NOT(ISNUMBER($F20)),1,$F20),$G20)*(IF(NOT(ISNUMBER(T20)),R20,T20)),2)) -> 0 | V20: =IF(U$116=0,"",U20/U$116) | W20: =IF($K20=0,"",IF(NOT(ISNUMBER(T20)),R20,T20)/$K20-1) | AA20: =IF(MID($D20,3,1)="-","*********",ROUND(IF(NOT(ISNUMBER($G20)),IF(NOT(ISNUMBER($F20)),1,$F20),$G20)*(IF(NOT(ISNUMBER(Z20)),X20,Z20)),2)) -> 0 | AB20: =IF(AA$116=0,"",AA20/AA$116) | AC20: =IF($K20=0,"",IF(NOT(ISNUMBER(Z20)),X20,Z20)/$K20-1)
A21: =A20+1 -> 5 | B21: =[3]!ArticleCode(Art_01.05.) -> 01.05. | C21: =[3]!ArticleDescription(Art_01.05.) -> aannemingsmodaliteiten – onderaanneming | D21: =[3]!ArticleMeasureType(Art_01.05.) -> PM | E21: =[3]!ArticleMeasureUnit(Art_01.05.) | F21: =[3]!ArticleQuantity(Art_01.05.) | I21: =IF(RIGHT($D21,1)="-","************",ROUND(IF(NOT(ISNUMBER(G21)),IF(NOT(ISNUMBER(F21)),1,F21),G21)*H21,2)) -> 0 | O21: =IF(MID($D21,3,1)="-","*********",ROUND(IF(NOT(ISNUMBER($G21)),IF(NOT(ISNUMBER($F21)),1,$F21),$G21)*(IF(NOT(ISNUMBER(N21)),L21,N21)),2)) -> 0 | P21: =IF(O$116=0,"",O21/O$116) | Q21: =IF($K21=0,"",IF(NOT(ISNUMBER(N21)),L21,N21)/$K21-1) | U21: =IF(MID($D21,3,1)="-","*********",ROUND(IF(NOT(ISNUMBER($G21)),IF(NOT(ISNUMBER($F21)),1,$F21),$G21)*(IF(NOT(ISNUMBER(T21)),R21,T21)),2)) -> 0 | V21: =IF(U$116=0,"",U21/U$116) | W21: =IF($K21=0,"",IF(NOT(ISNUMBER(T21)),R21,T21)/$K21-1) | AA21: =IF(MID($D21,3,1)="-","*********",ROUND(IF(NOT(ISNUMBER($G21)),IF(NOT(ISNUMBER($F21)),1,$F21),$G21)*(IF(NOT(ISNUMBER(Z21)),X21,Z21)),2)) -> 0 | AB21: =IF(AA$116=0,"",AA21/AA$116) | AC21: =IF($K21=0,"",IF(NOT(ISNUMBER(Z21)),X21,Z21)/$K21-1)
A22: =A21+1 -> 6 | B22: =[3]!ArticleCode(Art_01.06.) -> 01.06. | C22: =[3]!ArticleDescription(Art_01.06.) -> aannemingsmodaliteiten – verrekeningen | D22: =[3]!ArticleMeasureType(Art_01.06.) -> PM | E22: =[3]!ArticleMeasureUnit(Art_01.06.) | F22: =[3]!ArticleQuantity(Art_01.06.) | I22: =IF(RIGHT($D22,1)="-","************",ROUND(IF(NOT(ISNUMBER(G22)),IF(NOT(ISNUMBER(F22)),1,F22),G22)*H22,2)) -> 0 | O22: =IF(MID($D22,3,1)="-","*********",ROUND(IF(NOT(ISNUMBER($G22)),IF(NOT(ISNUMBER($F22)),1,$F22),$G22)*(IF(NOT(ISNUMBER(N22)),L22,N22)),2)) -> 0 | P22: =IF(O$116=0,"",O22/O$116) | Q22: =IF($K22=0,"",IF(NOT(ISNUMBER(N22)),L22,N22)/$K22-1) | U22: =IF(MID($D22,3,1)="-","*********",ROUND(IF(NOT(ISNUMBER($G22)),IF(NOT(ISNUMBER($F22)),1,$F22),$G22)*(IF(NOT(ISNUMBER(T22)),R22,T22)),2)) -> 0 | V22: =IF(U$116=0,"",U22/U$116) | W22: =IF($K22=0,"",IF(NOT(ISNUMBER(T22)),R22,T22)/$K22-1) | AA22: =IF(MID($D22,3,1)="-","*********",ROUND(IF(NOT(ISNUMBER($G22)),IF(NOT(ISNUMBER($F22)),1,$F22),$G22)*(IF(NOT(ISNUMBER(Z22)),X22,Z22)),2)) -> 0 | AB22: =IF(AA$116=0,"",AA22/AA$116) | AC22: =IF($K22=0,"",IF(NOT(ISNUMBER(Z22)),X22,Z22)/$K22-1)
A23: =A22+1 -> 7 | B23: =[3]!ArticleCode(Art_01.08.) -> 01.08. | C23: =[3]!ArticleDescription(Art_01.08.) -> aannemingsmodaliteiten – materialenlijst | D23: =[3]!ArticleMeasureType(Art_01.08.) -> PM | E23: =[3]!ArticleMeasureUnit(Art_01.08.) | F23: =[3]!ArticleQuantity(Art_01.08.) | I23: =IF(RIGHT($D23,1)="-","************",ROUND(IF(NOT(ISNUMBER(G23)),IF(NOT(ISNUMBER(F23)),1,F23),G23)*H23,2)) -> 0 | O23: =IF(MID($D23,3,1)="-","*********",ROUND(IF(NOT(ISNUMBER($G23)),IF(NOT(ISNUMBER($F23)),1,$F23),$G23)*(IF(NOT(ISNUMBER(N23)),L23,N23)),2)) -> 0 | P23: =IF(O$116=0,"",O23/O$116) | Q23: =IF($K23=0,"",IF(NOT(ISNUMBER(N23)),L23,N23)/$K23-1) | U23: =IF(MID($D23,3,1)="-","*********",ROUND(IF(NOT(ISNUMBER($G23)),IF(NOT(ISNUMBER($F23)),1,$F23),$G23)*(IF(NOT(ISNUMBER(T23)),R23,T23)),2)) -> 0 | V23: =IF(U$116=0,"",U23/U$116) | W23: =IF($K23=0,"",IF(NOT(ISNUMBER(T23)),R23,T23)/$K23-1) | AA23: =IF(MID($D23,3,1)="-","*********",ROUND(IF(NOT(ISNUMBER($G23)),IF(NOT(ISNUMBER($F23)),1,$F23),$G23)*(IF(NOT(ISNUMBER(Z23)),X23,Z23)),2)) -> 0 | AB23: =IF(AA$116=0,"",AA23/AA$116) | AC23: =IF($K23=0,"",IF(NOT(ISNUMBER(Z23)),X23,Z23)/$K23-1)
B24: =[3]!ArticleCode(Art_01.20.) -> 01.20. | C24: =[3]!ArticleDescription(Art_01.20.) -> werfcoördinatie – algemeen | O24: =IF(MID($D24,3,1)="-","*********",ROUND(IF(NOT(ISNUMBER($G24)),IF(NOT(ISNUMBER($F24)),1,$F24),$G24)*(IF(NOT(ISNUMBER(N24)),L24,N24)),2)) -> 0 | P24: =IF(O$116=0,"",O24/O$116) | Q24: =IF($K24=0,"",IF(NOT(ISNUMBER(N24)),L24,N24)/$K24-1) | U24: =IF(MID($D24,3,1)="-","*********",ROUND(IF(NOT(ISNUMBER($G24)),IF(NOT(ISNUMBER($F24)),1,$F24),$G24)*(IF(NOT(ISNUMBER(T24)),R24,T24)),2)) -> 0 | V24: =IF(U$116=0,"",U24/U$116) | W24: =IF($K24=0,"",IF(NOT(ISNUMBER(T24)),R24,T24)/$K24-1) | AA24: =IF(MID($D24,3,1)="-","*********",ROUND(IF(NOT(ISNUMBER($G24)),IF(NOT(ISNUMBER($F24)),1,$F24),$G24)*(IF(NOT(ISNUMBER(Z24)),X24,Z24)),2)) -> 0 | AB24: =IF(AA$116=0,"",AA24/AA$116) | AC24: =IF($K24=0,"",IF(NOT(ISNUMBER(Z24)),X24,Z24)/$K24-1)
A25: =A23+1 -> 8 | B25: =[3]!ArticleCode(Art_01.21.) -> 01.21. | C25: =[3]!ArticleDescription(Art_01.21.) -> werfcoördinatie – planning van de werken | D25: =[3]!ArticleMeasureType(Art_01.21.) -> PM | E25: =[3]!ArticleMeasureUnit(Art_01.21.) | F25: =[3]!ArticleQuantity(Art_01.21.) | I25: =IF(RIGHT($D25,1)="-","************",ROUND(IF(NOT(ISNUMBER(G25)),IF(NOT(ISNUMBER(F25)),1,F25),G25)*H25,2)) -> 0 | O25: =IF(MID($D25,3,1)="-","*********",ROUND(IF(NOT(ISNUMBER($G25)),IF(NOT(ISNUMBER($F25)),1,$F25),$G25)*(IF(NOT(ISNUMBER(N25)),L25,N25)),2)) -> 0 | P25: =IF(O$116=0,"",O25/O$116) | Q25: =IF($K25=0,"",IF(NOT(ISNUMBER(N25)),L25,N25)/$K25-1) | U25: =IF(MID($D25,3,1)="-","*********",ROUND(IF(NOT(ISNUMBER($G25)),IF(NOT(ISNUMBER($F25)),1,$F25),$G25)*(IF(NOT(ISNUMBER(T25)),R25,T25)),2)) -> 0 | V25: =IF(U$116=0,"",U25/U$116) | W25: =IF($K25=0,"",IF(NOT(ISNUMBER(T25)),R25,T25)/$K25-1) | AA25: =IF(MID($D25,3,1)="-","*********",ROUND(IF(NOT(ISNUMBER($G25)),IF(NOT(ISNUMBER($F25)),1,$F25),$G25)*(IF(NOT(ISNUMBER(Z25)),X25,Z25)),2)) -> 0 | AB25: =IF(AA$116=0,"",AA25/AA$116) | AC25: =IF($K25=0,"",IF(NOT(ISNUMBER(Z25)),X25,Z25)/$K25-1)
A26: =A25+1 -> 9 | B26: =[3]!ArticleCode(Art_01.22.) -> 01.22. | C26: =[3]!ArticleDescription(Art_01.22.) -> werfcoördinatie – werfleiding en controle | D26: =[3]!ArticleMeasureType(Art_01.22.) -> PM | E26: =[3]!ArticleMeasureUnit(Art_01.22.) | F26: =[3]!ArticleQuantity(Art_01.22.) | I26: =IF(RIGHT($D26,1)="-","************",ROUND(IF(NOT(ISNUMBER(G26)),IF(NOT(ISNUMBER(F26)),1,F26),G26)*H26,2)) -> 0 | O26: =IF(MID($D26,3,1)="-","*********",ROUND(IF(NOT(ISNUMBER($G26)),IF(NOT(ISNUMBER($F26)),1,$F26),$G26)*(IF(NOT(ISNUMBER(N26)),L26,N26)),2)) -> 0 | P26: =IF(O$116=0,"",O26/O$116) | Q26: =IF($K26=0,"",IF(NOT(ISNUMBER(N26)),L26,N26)/$K26-1) | U26: =IF(MID($D26,3,1)="-","*********",ROUND(IF(NOT(ISNUMBER($G26)),IF(NOT(ISNUMBER($F26)),1,$F26),$G26)*(IF(NOT(ISNUMBER(T26)),R26,T26)),2)) -> 0 | V26: =IF(U$116=0,"",U26/U$116) | W26: =IF($K26=0,"",IF(NOT(ISNUMBER(T26)),R26,T26)/$K26-1) | AA26: =IF(MID($D26,3,1)="-","*********",ROUND(IF(NOT(ISNUMBER($G26)),IF(NOT(ISNUMBER($F26)),1,$F26),$G26)*(IF(NOT(ISNUMBER(Z26)),X26,Z26)),2)) -> 0 | AB26: =IF(AA$116=0,"",AA26/AA$116) | AC26: =IF($K26=0,"",IF(NOT(ISNUMBER(Z26)),X26,Z26)/$K26-1)
A27: =A26+1 -> 10 | B27: =[3]!ArticleCode(Art_01.23.) -> 01.23. | C27: =[3]!ArticleDescription(Art_01.23.) -> werfcoördinatie – werfvergaderingen | D27: =[3]!ArticleMeasureType(Art_01.23.) -> PM | E27: =[3]!ArticleMeasureUnit(Art_01.23.) | F27: =[3]!ArticleQuantity(Art_01.23.) | I27: =IF(RIGHT($D27,1)="-","************",ROUND(IF(NOT(ISNUMBER(G27)),IF(NOT(ISNUMBER(F27)),1,F27),G27)*H27,2)) -> 0 | O27: =IF(MID($D27,3,1)="-","*********",ROUND(IF(NOT(ISNUMBER($G27)),IF(NOT(ISNUMBER($F27)),1,$F27),$G27)*(IF(NOT(ISNUMBER(N27)),L27,N27)),2)) -> 0 | P27: =IF(O$116=0,"",O27/O$116) | Q27: =IF($K27=0,"",IF(NOT(ISNUMBER(N27)),L27,N27)/$K27-1) | U27: =IF(MID($D27,3,1)="-","*********",ROUND(IF(NOT(ISNUMBER($G27)),IF(NOT(ISNUMBER($F27)),1,$F27),$G27)*(IF(NOT(ISNUMBER(T27)),R27,T27)),2)) -> 0 | V27: =IF(U$116=0,"",U27/U$116) | W27: =IF($K27=0,"",IF(NOT(ISNUMBER(T27)),R27,T27)/$K27-1) | AA27: =IF(MID($D27,3,1)="-","*********",ROUND(IF(NOT(ISNUMBER($G27)),IF(NOT(ISNUMBER($F27)),1,$F27),$G27)*(IF(NOT(ISNUMBER(Z27)),X27,Z27)),2)) -> 0 | AB27: =IF(AA$116=0,"",AA27/AA$116) | AC27: =IF($K27=0,"",IF(NOT(ISNUMBER(Z27)),X27,Z27)/$K27-1)
A28: =A27+1 -> 11 | B28: =[3]!ArticleCode(Art_01.25.) -> 01.25. | C28: =[3]!ArticleDescription(Art_01.25.) -> werfcoördinatie – as-builtdossier | D28: =[3]!ArticleMeasureType(Art_01.25.) -> PM | E28: =[3]!ArticleMeasureUnit(Art_01.25.) | F28: =[3]!ArticleQuantity(Art_01.25.) | I28: =IF(RIGHT($D28,1)="-","************",ROUND(IF(NOT(ISNUMBER(G28)),IF(NOT(ISNUMBER(F28)),1,F28),G28)*H28,2)) -> 0 | O28: =IF(MID($D28,3,1)="-","*********",ROUND(IF(NOT(ISNUMBER($G28)),IF(NOT(ISNUMBER($F28)),1,$F28),$G28)*(IF(NOT(ISNUMBER(N28)),L28,N28)),2)) -> 0 | P28: =IF(O$116=0,"",O28/O$116) | Q28: =IF($K28=0,"",IF(NOT(ISNUMBER(N28)),L28,N28)/$K28-1) | U28: =IF(MID($D28,3,1)="-","*********",ROUND(IF(NOT(ISNUMBER($G28)),IF(NOT(ISNUMBER($F28)),1,$F28),$G28)*(IF(NOT(ISNUMBER(T28)),R28,T28)),2)) -> 0 | V28: =IF(U$116=0,"",U28/U$116) | W28: =IF($K28=0,"",IF(NOT(ISNUMBER(T28)),R28,T28)/$K28-1) | AA28: =IF(MID($D28,3,1)="-","*********",ROUND(IF(NOT(ISNUMBER($G28)),IF(NOT(ISNUMBER($F28)),1,$F28),$G28)*(IF(NOT(ISNUMBER(Z28)),X28,Z28)),2)) -> 0 | AB28: =IF(AA$116=0,"",AA28/AA$116) | AC28: =IF($K28=0,"",IF(NOT(ISNUMBER(Z28)),X28,Z28)/$K28-1)
B29: =[3]!ArticleCode(Art_01.30.) -> 01.30. | C29: =[3]!ArticleDescription(Art_01.30.) -> werfcondities – algemeen | O29: =IF(MID($D29,3,1)="-","*********",ROUND(IF(NOT(ISNUMBER($G29)),IF(NOT(ISNUMBER($F29)),1,$F29),$G29)*(IF(NOT(ISNUMBER(N29)),L29,N29)),2)) -> 0 | P29: =IF(O$116=0,"",O29/O$116) | Q29: =IF($K29=0,"",IF(NOT(ISNUMBER(N29)),L29,N29)/$K29-1) | U29: =IF(MID($D29,3,1)="-","*********",ROUND(IF(NOT(ISNUMBER($G29)),IF(NOT(ISNUMBER($F29)),1,$F29),$G29)*(IF(NOT(ISNUMBER(T29)),R29,T29)),2)) -> 0 | V29: =IF(U$116=0,"",U29/U$116) | W29: =IF($K29=0,"",IF(NOT(ISNUMBER(T29)),R29,T29)/$K29-1) | AA29: =IF(MID($D29,3,1)="-","*********",ROUND(IF(NOT(ISNUMBER($G29)),IF(NOT(ISNUMBER($F29)),1,$F29),$G29)*(IF(NOT(ISNUMBER(Z29)),X29,Z29)),2)) -> 0 | AB29: =IF(AA$116=0,"",AA29/AA$116) | AC29: =IF($K29=0,"",IF(NOT(ISNUMBER(Z29)),X29,Z29)/$K29-1)
A30: =A28+1 -> 12 | B30: =[3]!ArticleCode(Art_01.31.) -> 01.31. | C30: =[3]!ArticleDescription(Art_01.31.) -> werfcondities – orde en netheid | D30: =[3]!ArticleMeasureType(Art_01.31.) -> PM | E30: =[3]!ArticleMeasureUnit(Art_01.31.) | F30: =[3]!ArticleQuantity(Art_01.31.) | I30: =IF(RIGHT($D30,1)="-","************",ROUND(IF(NOT(ISNUMBER(G30)),IF(NOT(ISNUMBER(F30)),1,F30),G30)*H30,2)) -> 0 | O30: =IF(MID($D30,3,1)="-","*********",ROUND(IF(NOT(ISNUMBER($G30)),IF(NOT(ISNUMBER($F30)),1,$F30),$G30)*(IF(NOT(ISNUMBER(N30)),L30,N30)),2)) -> 0 | P30: =IF(O$116=0,"",O30/O$116) | Q30: =IF($K30=0,"",IF(NOT(ISNUMBER(N30)),L30,N30)/$K30-1) | U30: =IF(MID($D30,3,1)="-","*********",ROUND(IF(NOT(ISNUMBER($G30)),IF(NOT(ISNUMBER($F30)),1,$F30),$G30)*(IF(NOT(ISNUMBER(T30)),R30,T30)),2)) -> 0 | V30: =IF(U$116=0,"",U30/U$116) | W30: =IF($K30=0,"",IF(NOT(ISNUMBER(T30)),R30,T30)/$K30-1) | AA30: =IF(MID($D30,3,1)="-","*********",ROUND(IF(NOT(ISNUMBER($G30)),IF(NOT(ISNUMBER($F30)),1,$F30),$G30)*(IF(NOT(ISNUMBER(Z30)),X30,Z30)),2)) -> 0 | AB30: =IF(AA$116=0,"",AA30/AA$116) | AC30: =IF($K30=0,"",IF(NOT(ISNUMBER(Z30)),X30,Z30)/$K30-1)
A31: =A30+1 -> 13 | B31: =[3]!ArticleCode(Art_01.32.) -> 01.32. | C31: =[3]!ArticleDescription(Art_01.32.) -> werfcondities – geluids- en stofhinder | D31: =[3]!ArticleMeasureType(Art_01.32.) -> PM | E31: =[3]!ArticleMeasureUnit(Art_01.32.) | F31: =[3]!ArticleQuantity(Art_01.32.) | I31: =IF(RIGHT($D31,1)="-","************",ROUND(IF(NOT(ISNUMBER(G31)),IF(NOT(ISNUMBER(F31)),1,F31),G31)*H31,2)) -> 0 | O31: =IF(MID($D31,3,1)="-","*********",ROUND(IF(NOT(ISNUMBER($G31)),IF(NOT(ISNUMBER($F31)),1,$F31),$G31)*(IF(NOT(ISNUMBER(N31)),L31,N31)),2)) -> 0 | P31: =IF(O$116=0,"",O31/O$116) | Q31: =IF($K31=0,"",IF(NOT(ISNUMBER(N31)),L31,N31)/$K31-1) | U31: =IF(MID($D31,3,1)="-","*********",ROUND(IF(NOT(ISNUMBER($G31)),IF(NOT(ISNUMBER($F31)),1,$F31),$G31)*(IF(NOT(ISNUMBER(T31)),R31,T31)),2)) -> 0 | V31: =IF(U$116=0,"",U31/U$116) | W31: =IF($K31=0,"",IF(NOT(ISNUMBER(T31)),R31,T31)/$K31-1) | AA31: =IF(MID($D31,3,1)="-","*********",ROUND(IF(NOT(ISNUMBER($G31)),IF(NOT(ISNUMBER($F31)),1,$F31),$G31)*(IF(NOT(ISNUMBER(Z31)),X31,Z31)),2)) -> 0 | AB31: =IF(AA$116=0,"",AA31/AA$116) | AC31: =IF($K31=0,"",IF(NOT(ISNUMBER(Z31)),X31,Z31)/$K31-1)
A32: =A31+1 -> 14 | B32: =[3]!ArticleCode(Art_01.33.) -> 01.33. | C32: =[3]!ArticleDescription(Art_01.33.) -> werfcondities – nazorg | D32: =[3]!ArticleMeasureType(Art_01.33.) -> PM | E32: =[3]!ArticleMeasureUnit(Art_01.33.) | F32: =[3]!ArticleQuantity(Art_01.33.) | I32: =IF(RIGHT($D32,1)="-","************",ROUND(IF(NOT(ISNUMBER(G32)),IF(NOT(ISNUMBER(F32)),1,F32),G32)*H32,2)) -> 0 | O32: =IF(MID($D32,3,1)="-","*********",ROUND(IF(NOT(ISNUMBER($G32)),IF(NOT(ISNUMBER($F32)),1,$F32),$G32)*(IF(NOT(ISNUMBER(N32)),L32,N32)),2)) -> 0 | P32: =IF(O$116=0,"",O32/O$116) | Q32: =IF($K32=0,"",IF(NOT(ISNUMBER(N32)),L32,N32)/$K32-1) | U32: =IF(MID($D32,3,1)="-","*********",ROUND(IF(NOT(ISNUMBER($G32)),IF(NOT(ISNUMBER($F32)),1,$F32),$G32)*(IF(NOT(ISNUMBER(T32)),R32,T32)),2)) -> 0 | V32: =IF(U$116=0,"",U32/U$116) | W32: =IF($K32=0,"",IF(NOT(ISNUMBER(T32)),R32,T32)/$K32-1) | AA32: =IF(MID($D32,3,1)="-","*********",ROUND(IF(NOT(ISNUMBER($G32)),IF(NOT(ISNUMBER($F32)),1,$F32),$G32)*(IF(NOT(ISNUMBER(Z32)),X32,Z32)),2)) -> 0 | AB32: =IF(AA$116=0,"",AA32/AA$116) | AC32: =IF($K32=0,"",IF(NOT(ISNUMBER(Z32)),X32,Z32)/$K32-1)
A33: =A32+1 -> 15 | B33: =[3]!ArticleCode(Art_01.40.) -> 01.40. | C33: =[3]!ArticleDescription(Art_01.40.) -> veiligheidsvoorschriften – algemeen | D33: =[3]!ArticleMeasureType(Art_01.40.) -> SOG | E33: =[3]!ArticleMeasureUnit(Art_01.40.) | F33: =[3]!ArticleQuantity(Art_01.40.) | I33: =IF(RIGHT($D33,1)="-","************",ROUND(IF(NOT(ISNUMBER(G33)),IF(NOT(ISNUMBER(F33)),1,F33),G33)*H33,2)) -> 0 | O33: =IF(MID($D33,3,1)="-","*********",ROUND(IF(NOT(ISNUMBER($G33)),IF(NOT(ISNUMBER($F33)),1,$F33),$G33)*(IF(NOT(ISNUMBER(N33)),L33,N33)),2)) -> 0 | P33: =IF(O$116=0,"",O33/O$116) | Q33: =IF($K33=0,"",IF(NOT(ISNUMBER(N33)),L33,N33)/$K33-1) | U33: =IF(MID($D33,3,1)="-","*********",ROUND(IF(NOT(ISNUMBER($G33)),IF(NOT(ISNUMBER($F33)),1,$F33),$G33)*(IF(NOT(ISNUMBER(T33)),R33,T33)),2)) -> 0 | V33: =IF(U$116=0,"",U33/U$116) | W33: =IF($K33=0,"",IF(NOT(ISNUMBER(T33)),R33,T33)/$K33-1) | AA33: =IF(MID($D33,3,1)="-","*********",ROUND(IF(NOT(ISNUMBER($G33)),IF(NOT(ISNUMBER($F33)),1,$F33),$G33)*(IF(NOT(ISNUMBER(Z33)),X33,Z33)),2)) -> 0 | AB33: =IF(AA$116=0,"",AA33/AA$116) | AC33: =IF($K33=0,"",IF(NOT(ISNUMBER(Z33)),X33,Z33)/$K33-1)
J34: =SUBTOTAL(9,I15:I33) -> 0 | O34: =IF(MID($D34,3,1)="-","*********",ROUND(IF(NOT(ISNUMBER($G34)),IF(NOT(ISNUMBER($F34)),1,$F34),$G34)*(IF(NOT(ISNUMBER(N34)),L34,N34)),2)) -> 0 | P34: =IF(O$116=0,"",O34/O$116) | Q34: =IF($K34=0,"",IF(NOT(ISNUMBER(N34)),L34,N34)/$K34-1) | U34: =IF(MID($D34,3,1)="-","*********",ROUND(IF(NOT(ISNUMBER($G34)),IF(NOT(ISNUMBER($F34)),1,$F34),$G34)*(IF(NOT(ISNUMBER(T34)),R34,T34)),2)) -> 0 | V34: =IF(U$116=0,"",U34/U$116) | W34: =IF($K34=0,"",IF(NOT(ISNUMBER(T34)),R34,T34)/$K34-1) | AA34: =IF(MID($D34,3,1)="-","*********",ROUND(IF(NOT(ISNUMBER($G34)),IF(NOT(ISNUMBER($F34)),1,$F34),$G34)*(IF(NOT(ISNUMBER(Z34)),X34,Z34)),2)) -> 0 | AB34: =IF(AA$116=0,"",AA34/AA$116) | AC34: =IF($K34=0,"",IF(NOT(ISNUMBER(Z34)),X34,Z34)/$K34-1)
O35: =IF(MID($D35,3,1)="-","*********",ROUND(IF(NOT(ISNUMBER($G35)),IF(NOT(ISNUMBER($F35)),1,$F35),$G35)*(IF(NOT(ISNUMBER(N35)),L35,N35)),2)) -> 0 | P35: =IF(O$116=0,"",O35/O$116) | Q35: =IF($K35=0,"",IF(NOT(ISNUMBER(N35)),L35,N35)/$K35-1) | U35: =IF(MID($D35,3,1)="-","*********",ROUND(IF(NOT(ISNUMBER($G35)),IF(NOT(ISNUMBER($F35)),1,$F35),$G35)*(IF(NOT(ISNUMBER(T35)),R35,T35)),2)) -> 0 | V35: =IF(U$116=0,"",U35/U$116) | W35: =IF($K35=0,"",IF(NOT(ISNUMBER(T35)),R35,T35)/$K35-1) | AA35: =IF(MID($D35,3,1)="-","*********",ROUND(IF(NOT(ISNUMBER($G35)),IF(NOT(ISNUMBER($F35)),1,$F35),$G35)*(IF(NOT(ISNUMBER(Z35)),X35,Z35)),2)) -> 0 | AB35: =IF(AA$116=0,"",AA35/AA$116) | AC35: =IF($K35=0,"",IF(NOT(ISNUMBER(Z35)),X35,Z35)/$K35-1)
B36: Hoofdstuk 2 | O36: =IF(MID($D36,3,1)="-","*********",ROUND(IF(NOT(ISNUMBER($G36)),IF(NOT(ISNUMBER($F36)),1,$F36),$G36)*(IF(NOT(ISNUMBER(N36)),L36,N36)),2)) -> 0 | P36: =IF(O$116=0,"",O36/O$116) | Q36: =IF($K36=0,"",IF(NOT(ISNUMBER(N36)),L36,N36)/$K36-1) | U36: =IF(MID($D36,3,1)="-","*********",ROUND(IF(NOT(ISNUMBER($G36)),IF(NOT(ISNUMBER($F36)),1,$F36),$G36)*(IF(NOT(ISNUMBER(T36)),R36,T36)),2)) -> 0 | V36: =IF(U$116=0,"",U36/U$116) | W36: =IF($K36=0,"",IF(NOT(ISNUMBER(T36)),R36,T36)/$K36-1) | AA36: =IF(MID($D36,3,1)="-","*********",ROUND(IF(NOT(ISNUMBER($G36)),IF(NOT(ISNUMBER($F36)),1,$F36),$G36)*(IF(NOT(ISNUMBER(Z36)),X36,Z36)),2)) -> 0 | AB36: =IF(AA$116=0,"",AA36/AA$116) | AC36: =IF($K36=0,"",IF(NOT(ISNUMBER(Z36)),X36,Z36)/$K36-1)
B37: =[3]!ArticleCode(Art_02.) -> 02. | C37: =[3]!ArticleDescription(Art_02.) -> BOUWPLAATSVOORZIENINGEN | O37: =IF(MID($D37,3,1)="-","*********",ROUND(IF(NOT(ISNUMBER($G37)),IF(NOT(ISNUMBER($F37)),1,$F37),$G37)*(IF(NOT(ISNUMBER(N37)),L37,N37)),2)) -> 0 | P37: =IF(O$116=0,"",O37/O$116) | Q37: =IF($K37=0,"",IF(NOT(ISNUMBER(N37)),L37,N37)/$K37-1) | U37: =IF(MID($D37,3,1)="-","*********",ROUND(IF(NOT(ISNUMBER($G37)),IF(NOT(ISNUMBER($F37)),1,$F37),$G37)*(IF(NOT(ISNUMBER(T37)),R37,T37)),2)) -> 0 | V37: =IF(U$116=0,"",U37/U$116) | W37: =IF($K37=0,"",IF(NOT(ISNUMBER(T37)),R37,T37)/$K37-1) | AA37: =IF(MID($D37,3,1)="-","*********",ROUND(IF(NOT(ISNUMBER($G37)),IF(NOT(ISNUMBER($F37)),1,$F37),$G37)*(IF(NOT(ISNUMBER(Z37)),X37,Z37)),2)) -> 0 | AB37: =IF(AA$116=0,"",AA37/AA$116) | AC37: =IF($K37=0,"",IF(NOT(ISNUMBER(Z37)),X37,Z37)/$K37-1)
B38: =[3]!ArticleCode(Art_02.00.) -> 02.00. | C38: =[3]!ArticleDescription(Art_02.00.) -> bouwplaatsvoorzieningen - algemeen | O38: =IF(MID($D38,3,1)="-","*********",ROUND(IF(NOT(ISNUMBER($G38)),IF(NOT(ISNUMBER($F38)),1,$F38),$G38)*(IF(NOT(ISNUMBER(N38)),L38,N38)),2)) -> 0 | P38: =IF(O$116=0,"",O38/O$116) | Q38: =IF($K38=0,"",IF(NOT(ISNUMBER(N38)),L38,N38)/$K38-1) | U38: =IF(MID($D38,3,1)="-","*********",ROUND(IF(NOT(ISNUMBER($G38)),IF(NOT(ISNUMBER($F38)),1,$F38),$G38)*(IF(NOT(ISNUMBER(T38)),R38,T38)),2)) -> 0 | V38: =IF(U$116=0,"",U38/U$116) | W38: =IF($K38=0,"",IF(NOT(ISNUMBER(T38)),R38,T38)/$K38-1) | AA38: =IF(MID($D38,3,1)="-","*********",ROUND(IF(NOT(ISNUMBER($G38)),IF(NOT(ISNUMBER($F38)),1,$F38),$G38)*(IF(NOT(ISNUMBER(Z38)),X38,Z38)),2)) -> 0 | AB38: =IF(AA$116=0,"",AA38/AA$116) | AC38: =IF($K38=0,"",IF(NOT(ISNUMBER(Z38)),X38,Z38)/$K38-1)
B39: =[3]!ArticleCode(Art_02.10.) -> 02.10. | C39: =[3]!ArticleDescription(Art_02.10.) -> beschermingswerken – algemeen | O39: =IF(MID($D39,3,1)="-","*********",ROUND(IF(NOT(ISNUMBER($G39)),IF(NOT(ISNUMBER($F39)),1,$F39),$G39)*(IF(NOT(ISNUMBER(N39)),L39,N39)),2)) -> 0 | P39: =IF(O$116=0,"",O39/O$116) | Q39: =IF($K39=0,"",IF(NOT(ISNUMBER(N39)),L39,N39)/$K39-1) | U39: =IF(MID($D39,3,1)="-","*********",ROUND(IF(NOT(ISNUMBER($G39)),IF(NOT(ISNUMBER($F39)),1,$F39),$G39)*(IF(NOT(ISNUMBER(T39)),R39,T39)),2)) -> 0 | V39: =IF(U$116=0,"",U39/U$116) | W39: =IF($K39=0,"",IF(NOT(ISNUMBER(T39)),R39,T39)/$K39-1) | AA39: =IF(MID($D39,3,1)="-","*********",ROUND(IF(NOT(ISNUMBER($G39)),IF(NOT(ISNUMBER($F39)),1,$F39),$G39)*(IF(NOT(ISNUMBER(Z39)),X39,Z39)),2)) -> 0 | AB39: =IF(AA$116=0,"",AA39/AA$116) | AC39: =IF($K39=0,"",IF(NOT(ISNUMBER(Z39)),X39,Z39)/$K39-1)
A40: =A33+1 -> 16 | B40: =[3]!ArticleCode(Art_02.11.) -> 02.11. | C40: =[3]!ArticleDescription(Art_02.11.) -> beschermingswerken - openbare weg | D40: =[3]!ArticleMeasureType(Art_02.11.) -> PM | E40: =[3]!ArticleMeasureUnit(Art_02.11.) | F40: =[3]!ArticleQuantity(Art_02.11.) | I40: =IF(RIGHT($D40,1)="-","************",ROUND(IF(NOT(ISNUMBER(G40)),IF(NOT(ISNUMBER(F40)),1,F40),G40)*H40,2)) -> 0 | O40: =IF(MID($D40,3,1)="-","*********",ROUND(IF(NOT(ISNUMBER($G40)),IF(NOT(ISNUMBER($F40)),1,$F40),$G40)*(IF(NOT(ISNUMBER(N40)),L40,N40)),2)) -> 0 | P40: =IF(O$116=0,"",O40/O$116) | Q40: =IF($K40=0,"",IF(NOT(ISNUMBER(N40)),L40,N40)/$K40-1) | U40: =IF(MID($D40,3,1)="-","*********",ROUND(IF(NOT(ISNUMBER($G40)),IF(NOT(ISNUMBER($F40)),1,$F40),$G40)*(IF(NOT(ISNUMBER(T40)),R40,T40)),2)) -> 0 | V40: =IF(U$116=0,"",U40/U$116) | W40: =IF($K40=0,"",IF(NOT(ISNUMBER(T40)),R40,T40)/$K40-1) | AA40: =IF(MID($D40,3,1)="-","*********",ROUND(IF(NOT(ISNUMBER($G40)),IF(NOT(ISNUMBER($F40)),1,$F40),$G40)*(IF(NOT(ISNUMBER(Z40)),X40,Z40)),2)) -> 0 | AB40: =IF(AA$116=0,"",AA40/AA$116) | AC40: =IF($K40=0,"",IF(NOT(ISNUMBER(Z40)),X40,Z40)/$K40-1)
B41: =[3]!ArticleCode(Art_02.12.) -> 02.12. | C41: =[3]!ArticleDescription(Art_02.12.) -> beschermingswerken - beplantingen | O41: =IF(MID($D41,3,1)="-","*********",ROUND(IF(NOT(ISNUMBER($G41)),IF(NOT(ISNUMBER($F41)),1,$F41),$G41)*(IF(NOT(ISNUMBER(N41)),L41,N41)),2)) -> 0 | P41: =IF(O$116=0,"",O41/O$116) | Q41: =IF($K41=0,"",IF(NOT(ISNUMBER(N41)),L41,N41)/$K41-1) | U41: =IF(MID($D41,3,1)="-","*********",ROUND(IF(NOT(ISNUMBER($G41)),IF(NOT(ISNUMBER($F41)),1,$F41),$G41)*(IF(NOT(ISNUMBER(T41)),R41,T41)),2)) -> 0 | V41: =IF(U$116=0,"",U41/U$116) | W41: =IF($K41=0,"",IF(NOT(ISNUMBER(T41)),R41,T41)/$K41-1) | AA41: =IF(MID($D41,3,1)="-","*********",ROUND(IF(NOT(ISNUMBER($G41)),IF(NOT(ISNUMBER($F41)),1,$F41),$G41)*(IF(NOT(ISNUMBER(Z41)),X41,Z41)),2)) -> 0 | AB41: =IF(AA$116=0,"",AA41/AA$116) | AC41: =IF($K41=0,"",IF(NOT(ISNUMBER(Z41)),X41,Z41)/$K41-1)
A42: =A40+1 -> 17 | B42: =[3]!ArticleCode(Art_02.12.10.) -> 02.12.10. | C42: =[3]!ArticleDescription(Art_02.12.10.) -> beschermingswerken - beplantingen/bomen | D42: =[3]!ArticleMeasureType(Art_02.12.10.) -> PM | E42: =[3]!ArticleMeasureUnit(Art_02.12.10.) | F42: =[3]!ArticleQuantity(Art_02.12.10.) | I42: =IF(RIGHT($D42,1)="-","************",ROUND(IF(NOT(ISNUMBER(G42)),IF(NOT(ISNUMBER(F42)),1,F42),G42)*H42,2)) -> 0 | O42: =IF(MID($D42,3,1)="-","*********",ROUND(IF(NOT(ISNUMBER($G42)),IF(NOT(ISNUMBER($F42)),1,$F42),$G42)*(IF(NOT(ISNUMBER(N42)),L42,N42)),2)) -> 0 | P42: =IF(O$116=0,"",O42/O$116) | Q42: =IF($K42=0,"",IF(NOT(ISNUMBER(N42)),L42,N42)/$K42-1) | U42: =IF(MID($D42,3,1)="-","*********",ROUND(IF(NOT(ISNUMBER($G42)),IF(NOT(ISNUMBER($F42)),1,$F42),$G42)*(IF(NOT(ISNUMBER(T42)),R42,T42)),2)) -> 0 | V42: =IF(U$116=0,"",U42/U$116) | W42: =IF($K42=0,"",IF(NOT(ISNUMBER(T42)),R42,T42)/$K42-1) | AA42: =IF(MID($D42,3,1)="-","*********",ROUND(IF(NOT(ISNUMBER($G42)),IF(NOT(ISNUMBER($F42)),1,$F42),$G42)*(IF(NOT(ISNUMBER(Z42)),X42,Z42)),2)) -> 0 | AB42: =IF(AA$116=0,"",AA42/AA$116) | AC42: =IF($K42=0,"",IF(NOT(ISNUMBER(Z42)),X42,Z42)/$K42-1)
A43: =A42+1 -> 18 | B43: =[3]!ArticleCode(Art_02.12.20.) -> 02.12.20. | C43: =[3]!ArticleDescription(Art_02.12.20.) -> beschermingswerken - beplantingen/struiken en hagen | D43: =[3]!ArticleMeasureType(Art_02.12.20.) -> PM | E43: =[3]!ArticleMeasureUnit(Art_02.12.20.) | F43: =[3]!ArticleQuantity(Art_02.12.20.) | I43: =IF(RIGHT($D43,1)="-","************",ROUND(IF(NOT(ISNUMBER(G43)),IF(NOT(ISNUMBER(F43)),1,F43),G43)*H43,2)) -> 0 | O43: =IF(MID($D43,3,1)="-","*********",ROUND(IF(NOT(ISNUMBER($G43)),IF(NOT(ISNUMBER($F43)),1,$F43),$G43)*(IF(NOT(ISNUMBER(N43)),L43,N43)),2)) -> 0 | P43: =IF(O$116=0,"",O43/O$116) | Q43: =IF($K43=0,"",IF(NOT(ISNUMBER(N43)),L43,N43)/$K43-1) | U43: =IF(MID($D43,3,1)="-","*********",ROUND(IF(NOT(ISNUMBER($G43)),IF(NOT(ISNUMBER($F43)),1,$F43),$G43)*(IF(NOT(ISNUMBER(T43)),R43,T43)),2)) -> 0 | V43: =IF(U$116=0,"",U43/U$116) | W43: =IF($K43=0,"",IF(NOT(ISNUMBER(T43)),R43,T43)/$K43-1) | AA43: =IF(MID($D43,3,1)="-","*********",ROUND(IF(NOT(ISNUMBER($G43)),IF(NOT(ISNUMBER($F43)),1,$F43),$G43)*(IF(NOT(ISNUMBER(Z43)),X43,Z43)),2)) -> 0 | AB43: =IF(AA$116=0,"",AA43/AA$116) | AC43: =IF($K43=0,"",IF(NOT(ISNUMBER(Z43)),X43,Z43)/$K43-1)
B44: =[3]!ArticleCode(Art_02.80.) -> 02.80. | C44: =[3]!ArticleDescription(Art_02.80.) -> arbeidsmiddelen – algemeen | O44: =IF(MID($D44,3,1)="-","*********",ROUND(IF(NOT(ISNUMBER($G44)),IF(NOT(ISNUMBER($F44)),1,$F44),$G44)*(IF(NOT(ISNUMBER(N44)),L44,N44)),2)) -> 0 | P44: =IF(O$116=0,"",O44/O$116) | Q44: =IF($K44=0,"",IF(NOT(ISNUMBER(N44)),L44,N44)/$K44-1) | U44: =IF(MID($D44,3,1)="-","*********",ROUND(IF(NOT(ISNUMBER($G44)),IF(NOT(ISNUMBER($F44)),1,$F44),$G44)*(IF(NOT(ISNUMBER(T44)),R44,T44)),2)) -> 0 | V44: =IF(U$116=0,"",U44/U$116) | W44: =IF($K44=0,"",IF(NOT(ISNUMBER(T44)),R44,T44)/$K44-1) | AA44: =IF(MID($D44,3,1)="-","*********",ROUND(IF(NOT(ISNUMBER($G44)),IF(NOT(ISNUMBER($F44)),1,$F44),$G44)*(IF(NOT(ISNUMBER(Z44)),X44,Z44)),2)) -> 0 | AB44: =IF(AA$116=0,"",AA44/AA$116) | AC44: =IF($K44=0,"",IF(NOT(ISNUMBER(Z44)),X44,Z44)/$K44-1)
B45: =[3]!ArticleCode(Art_02.81.) -> 02.81. | C45: =[3]!ArticleDescription(Art_02.81.) -> arbeidsmiddelen – werken op hoogte | O45: =IF(MID($D45,3,1)="-","*********",ROUND(IF(NOT(ISNUMBER($G45)),IF(NOT(ISNUMBER($F45)),1,$F45),$G45)*(IF(NOT(ISNUMBER(N45)),L45,N45)),2)) -> 0 | P45: =IF(O$116=0,"",O45/O$116) | Q45: =IF($K45=0,"",IF(NOT(ISNUMBER(N45)),L45,N45)/$K45-1) | U45: =IF(MID($D45,3,1)="-","*********",ROUND(IF(NOT(ISNUMBER($G45)),IF(NOT(ISNUMBER($F45)),1,$F45),$G45)*(IF(NOT(ISNUMBER(T45)),R45,T45)),2)) -> 0 | V45: =IF(U$116=0,"",U45/U$116) | W45: =IF($K45=0,"",IF(NOT(ISNUMBER(T45)),R45,T45)/$K45-1) | AA45: =IF(MID($D45,3,1)="-","*********",ROUND(IF(NOT(ISNUMBER($G45)),IF(NOT(ISNUMBER($F45)),1,$F45),$G45)*(IF(NOT(ISNUMBER(Z45)),X45,Z45)),2)) -> 0 | AB45: =IF(AA$116=0,"",AA45/AA$116) | AC45: =IF($K45=0,"",IF(NOT(ISNUMBER(Z45)),X45,Z45)/$K45-1)
A46: =A43+1 -> 19 | B46: =[3]!ArticleCode(Art_02.81.10.) -> 02.81.10. | C46: =[3]!ArticleDescription(Art_02.81.10.) -> arbeidsmiddelen – werken op hoogte/ladders | D46: =[3]!ArticleMeasureType(Art_02.81.10.) -> PM | E46: =[3]!ArticleMeasureUnit(Art_02.81.10.) | F46: =[3]!ArticleQuantity(Art_02.81.10.) | I46: =IF(RIGHT($D46,1)="-","************",ROUND(IF(NOT(ISNUMBER(G46)),IF(NOT(ISNUMBER(F46)),1,F46),G46)*H46,2)) -> 0 | O46: =IF(MID($D46,3,1)="-","*********",ROUND(IF(NOT(ISNUMBER($G46)),IF(NOT(ISNUMBER($F46)),1,$F46),$G46)*(IF(NOT(ISNUMBER(N46)),L46,N46)),2)) -> 0 | P46: =IF(O$116=0,"",O46/O$116) | Q46: =IF($K46=0,"",IF(NOT(ISNUMBER(N46)),L46,N46)/$K46-1) | U46: =IF(MID($D46,3,1)="-","*********",ROUND(IF(NOT(ISNUMBER($G46)),IF(NOT(ISNUMBER($F46)),1,$F46),$G46)*(IF(NOT(ISNUMBER(T46)),R46,T46)),2)) -> 0 | V46: =IF(U$116=0,"",U46/U$116) | W46: =IF($K46=0,"",IF(NOT(ISNUMBER(T46)),R46,T46)/$K46-1) | AA46: =IF(MID($D46,3,1)="-","*********",ROUND(IF(NOT(ISNUMBER($G46)),IF(NOT(ISNUMBER($F46)),1,$F46),$G46)*(IF(NOT(ISNUMBER(Z46)),X46,Z46)),2)) -> 0 | AB46: =IF(AA$116=0,"",AA46/AA$116) | AC46: =IF($K46=0,"",IF(NOT(ISNUMBER(Z46)),X46,Z46)/$K46-1)
A47: =A46+1 -> 20 | B47: =[3]!ArticleCode(Art_02.82.) -> 02.82. | C47: =[3]!ArticleDescription(Art_02.82.) -> arbeidsmiddelen – hijsen en heffen van lasten | D47: =[3]!ArticleMeasureType(Art_02.82.) -> PM | E47: =[3]!ArticleMeasureUnit(Art_02.82.) | F47: =[3]!ArticleQuantity(Art_02.82.) | I47: =IF(RIGHT($D47,1)="-","************",ROUND(IF(NOT(ISNUMBER(G47)),IF(NOT(ISNUMBER(F47)),1,F47),G47)*H47,2)) -> 0 | O47: =IF(MID($D47,3,1)="-","*********",ROUND(IF(NOT(ISNUMBER($G47)),IF(NOT(ISNUMBER($F47)),1,$F47),$G47)*(IF(NOT(ISNUMBER(N47)),L47,N47)),2)) -> 0 | P47: =IF(O$116=0,"",O47/O$116) | Q47: =IF($K47=0,"",IF(NOT(ISNUMBER(N47)),L47,N47)/$K47-1) | U47: =IF(MID($D47,3,1)="-","*********",ROUND(IF(NOT(ISNUMBER($G47)),IF(NOT(ISNUMBER($F47)),1,$F47),$G47)*(IF(NOT(ISNUMBER(T47)),R47,T47)),2)) -> 0 | V47: =IF(U$116=0,"",U47/U$116) | W47: =IF($K47=0,"",IF(NOT(ISNUMBER(T47)),R47,T47)/$K47-1) | AA47: =IF(MID($D47,3,1)="-","*********",ROUND(IF(NOT(ISNUMBER($G47)),IF(NOT(ISNUMBER($F47)),1,$F47),$G47)*(IF(NOT(ISNUMBER(Z47)),X47,Z47)),2)) -> 0 | AB47: =IF(AA$116=0,"",AA47/AA$116) | AC47: =IF($K47=0,"",IF(NOT(ISNUMBER(Z47)),X47,Z47)/$K47-1)
J48: =SUBTOTAL(9,I37:I47) -> 0 | O48: =IF(MID($D48,3,1)="-","*********",ROUND(IF(NOT(ISNUMBER($G48)),IF(NOT(ISNUMBER($F48)),1,$F48),$G48)*(IF(NOT(ISNUMBER(N48)),L48,N48)),2)) -> 0 | P48: =IF(O$116=0,"",O48/O$116) | Q48: =IF($K48=0,"",IF(NOT(ISNUMBER(N48)),L48,N48)/$K48-1) | U48: =IF(MID($D48,3,1)="-","*********",ROUND(IF(NOT(ISNUMBER($G48)),IF(NOT(ISNUMBER($F48)),1,$F48),$G48)*(IF(NOT(ISNUMBER(T48)),R48,T48)),2)) -> 0 | V48: =IF(U$116=0,"",U48/U$116) | W48: =IF($K48=0,"",IF(NOT(ISNUMBER(T48)),R48,T48)/$K48-1) | AA48: =IF(MID($D48,3,1)="-","*********",ROUND(IF(NOT(ISNUMBER($G48)),IF(NOT(ISNUMBER($F48)),1,$F48),$G48)*(IF(NOT(ISNUMBER(Z48)),X48,Z48)),2)) -> 0 | AB48: =IF(AA$116=0,"",AA48/AA$116) | AC48: =IF($K48=0,"",IF(NOT(ISNUMBER(Z48)),X48,Z48)/$K48-1)
O49: =IF(MID($D49,3,1)="-","*********",ROUND(IF(NOT(ISNUMBER($G49)),IF(NOT(ISNUMBER($F49)),1,$F49),$G49)*(IF(NOT(ISNUMBER(N49)),L49,N49)),2)) -> 0 | P49: =IF(O$116=0,"",O49/O$116) | Q49: =IF($K49=0,"",IF(NOT(ISNUMBER(N49)),L49,N49)/$K49-1) | U49: =IF(MID($D49,3,1)="-","*********",ROUND(IF(NOT(ISNUMBER($G49)),IF(NOT(ISNUMBER($F49)),1,$F49),$G49)*(IF(NOT(ISNUMBER(T49)),R49,T49)),2)) -> 0 | V49: =IF(U$116=0,"",U49/U$116) | W49: =IF($K49=0,"",IF(NOT(ISNUMBER(T49)),R49,T49)/$K49-1) | AA49: =IF(MID($D49,3,1)="-","*********",ROUND(IF(NOT(ISNUMBER($G49)),IF(NOT(ISNUMBER($F49)),1,$F49),$G49)*(IF(NOT(ISNUMBER(Z49)),X49,Z49)),2)) -> 0 | AB49: =IF(AA$116=0,"",AA49/AA$116) | AC49: =IF($K49=0,"",IF(NOT(ISNUMBER(Z49)),X49,Z49)/$K49-1)
B50: Hoofdstuk 3 | O50: =IF(MID($D50,3,1)="-","*********",ROUND(IF(NOT(ISNUMBER($G50)),IF(NOT(ISNUMBER($F50)),1,$F50),$G50)*(IF(NOT(ISNUMBER(N50)),L50,N50)),2)) -> 0 | P50: =IF(O$116=0,"",O50/O$116) | Q50: =IF($K50=0,"",IF(NOT(ISNUMBER(N50)),L50,N50)/$K50-1) | U50: =IF(MID($D50,3,1)="-","*********",ROUND(IF(NOT(ISNUMBER($G50)),IF(NOT(ISNUMBER($F50)),1,$F50),$G50)*(IF(NOT(ISNUMBER(T50)),R50,T50)),2)) -> 0 | V50: =IF(U$116=0,"",U50/U$116) | W50: =IF($K50=0,"",IF(NOT(ISNUMBER(T50)),R50,T50)/$K50-1) | AA50: =IF(MID($D50,3,1)="-","*********",ROUND(IF(NOT(ISNUMBER($G50)),IF(NOT(ISNUMBER($F50)),1,$F50),$G50)*(IF(NOT(ISNUMBER(Z50)),X50,Z50)),2)) -> 0 | AB50: =IF(AA$116=0,"",AA50/AA$116) | AC50: =IF($K50=0,"",IF(NOT(ISNUMBER(Z50)),X50,Z50)/$K50-1)
B51: =[3]!ArticleCode(Art_03.) -> 03. | C51: =[3]!ArticleDescription(Art_03.) -> AFBRAAKWERKEN | O51: =IF(MID($D51,3,1)="-","*********",ROUND(IF(NOT(ISNUMBER($G51)),IF(NOT(ISNUMBER($F51)),1,$F51),$G51)*(IF(NOT(ISNUMBER(N51)),L51,N51)),2)) -> 0 | P51: =IF(O$116=0,"",O51/O$116) | Q51: =IF($K51=0,"",IF(NOT(ISNUMBER(N51)),L51,N51)/$K51-1) | U51: =IF(MID($D51,3,1)="-","*********",ROUND(IF(NOT(ISNUMBER($G51)),IF(NOT(ISNUMBER($F51)),1,$F51),$G51)*(IF(NOT(ISNUMBER(T51)),R51,T51)),2)) -> 0 | V51: =IF(U$116=0,"",U51/U$116) | W51: =IF($K51=0,"",IF(NOT(ISNUMBER(T51)),R51,T51)/$K51-1) | AA51: =IF(MID($D51,3,1)="-","*********",ROUND(IF(NOT(ISNUMBER($G51)),IF(NOT(ISNUMBER($F51)),1,$F51),$G51)*(IF(NOT(ISNUMBER(Z51)),X51,Z51)),2)) -> 0 | AB51: =IF(AA$116=0,"",AA51/AA$116) | AC51: =IF($K51=0,"",IF(NOT(ISNUMBER(Z51)),X51,Z51)/$K51-1)
B52: =[3]!ArticleCode(Art_03.00.) -> 03.00. | C52: =[3]!ArticleDescription(Art_03.00.) -> afbraakwerken - algemeen | O52: =IF(MID($D52,3,1)="-","*********",ROUND(IF(NOT(ISNUMBER($G52)),IF(NOT(ISNUMBER($F52)),1,$F52),$G52)*(IF(NOT(ISNUMBER(N52)),L52,N52)),2)) -> 0 | P52: =IF(O$116=0,"",O52/O$116) | Q52: =IF($K52=0,"",IF(NOT(ISNUMBER(N52)),L52,N52)/$K52-1) | U52: =IF(MID($D52,3,1)="-","*********",ROUND(IF(NOT(ISNUMBER($G52)),IF(NOT(ISNUMBER($F52)),1,$F52),$G52)*(IF(NOT(ISNUMBER(T52)),R52,T52)),2)) -> 0 | V52: =IF(U$116=0,"",U52/U$116) | W52: =IF($K52=0,"",IF(NOT(ISNUMBER(T52)),R52,T52)/$K52-1) | AA52: =IF(MID($D52,3,1)="-","*********",ROUND(IF(NOT(ISNUMBER($G52)),IF(NOT(ISNUMBER($F52)),1,$F52),$G52)*(IF(NOT(ISNUMBER(Z52)),X52,Z52)),2)) -> 0 | AB52: =IF(AA$116=0,"",AA52/AA$116) | AC52: =IF($K52=0,"",IF(NOT(ISNUMBER(Z52)),X52,Z52)/$K52-1)
B53: =[3]!ArticleCode(Art_03.40.) -> 03.40. | C53: =[3]!ArticleDescription(Art_03.40.) -> afbraak gevelelementen - algemeen | O53: =IF(MID($D53,3,1)="-","*********",ROUND(IF(NOT(ISNUMBER($G53)),IF(NOT(ISNUMBER($F53)),1,$F53),$G53)*(IF(NOT(ISNUMBER(N53)),L53,N53)),2)) -> 0 | P53: =IF(O$116=0,"",O53/O$116) | Q53: =IF($K53=0,"",IF(NOT(ISNUMBER(N53)),L53,N53)/$K53-1) | U53: =IF(MID($D53,3,1)="-","*********",ROUND(IF(NOT(ISNUMBER($G53)),IF(NOT(ISNUMBER($F53)),1,$F53),$G53)*(IF(NOT(ISNUMBER(T53)),R53,T53)),2)) -> 0 | V53: =IF(U$116=0,"",U53/U$116) | W53: =IF($K53=0,"",IF(NOT(ISNUMBER(T53)),R53,T53)/$K53-1) | AA53: =IF(MID($D53,3,1)="-","*********",ROUND(IF(NOT(ISNUMBER($G53)),IF(NOT(ISNUMBER($F53)),1,$F53),$G53)*(IF(NOT(ISNUMBER(Z53)),X53,Z53)),2)) -> 0 | AB53: =IF(AA$116=0,"",AA53/AA$116) | AC53: =IF($K53=0,"",IF(NOT(ISNUMBER(Z53)),X53,Z53)/$K53-1)
B54: =[3]!ArticleCode(Art_03.44.) -> 03.44. | C54: =[3]!ArticleDescription(Art_03.44.) -> afbraak gevelelementen - buitenschrijnwerk | O54: =IF(MID($D54,3,1)="-","*********",ROUND(IF(NOT(ISNUMBER($G54)),IF(NOT(ISNUMBER($F54)),1,$F54),$G54)*(IF(NOT(ISNUMBER(N54)),L54,N54)),2)) -> 0 | P54: =IF(O$116=0,"",O54/O$116) | Q54: =IF($K54=0,"",IF(NOT(ISNUMBER(N54)),L54,N54)/$K54-1) | U54: =IF(MID($D54,3,1)="-","*********",ROUND(IF(NOT(ISNUMBER($G54)),IF(NOT(ISNUMBER($F54)),1,$F54),$G54)*(IF(NOT(ISNUMBER(T54)),R54,T54)),2)) -> 0 | V54: =IF(U$116=0,"",U54/U$116) | W54: =IF($K54=0,"",IF(NOT(ISNUMBER(T54)),R54,T54)/$K54-1) | AA54: =IF(MID($D54,3,1)="-","*********",ROUND(IF(NOT(ISNUMBER($G54)),IF(NOT(ISNUMBER($F54)),1,$F54),$G54)*(IF(NOT(ISNUMBER(Z54)),X54,Z54)),2)) -> 0 | AB54: =IF(AA$116=0,"",AA54/AA$116) | AC54: =IF($K54=0,"",IF(NOT(ISNUMBER(Z54)),X54,Z54)/$K54-1)
A55: =A47+1 -> 21 | B55: =[3]!ArticleCode(Art_03.44.20.) -> 03.44.20. | C55: =[3]!ArticleDescription(Art_03.44.20.) -> afbraak gevelelementen - buitenschrijnwerk/ramen, deuren en poorten | D55: =[3]!ArticleMeasureType(Art_03.44.20.) -> FH | E55: =[3]!ArticleMeasureUnit(Art_03.44.20.) -> m2 | F55: =[3]!ArticleQuantity(Art_03.44.20.) -> 47.32 | I55: =IF(RIGHT($D55,1)="-","************",ROUND(IF(NOT(ISNUMBER(G55)),IF(NOT(ISNUMBER(F55)),1,F55),G55)*H55,2)) -> 0 | O55: =IF(MID($D55,3,1)="-","*********",ROUND(IF(NOT(ISNUMBER($G55)),IF(NOT(ISNUMBER($F55)),1,$F55),$G55)*(IF(NOT(ISNUMBER(N55)),L55,N55)),2)) -> 0 | P55: =IF(O$116=0,"",O55/O$116) | Q55: =IF($K55=0,"",IF(NOT(ISNUMBER(N55)),L55,N55)/$K55-1) | U55: =IF(MID($D55,3,1)="-","*********",ROUND(IF(NOT(ISNUMBER($G55)),IF(NOT(ISNUMBER($F55)),1,$F55),$G55)*(IF(NOT(ISNUMBER(T55)),R55,T55)),2)) -> 0 | V55: =IF(U$116=0,"",U55/U$116) | W55: =IF($K55=0,"",IF(NOT(ISNUMBER(T55)),R55,T55)/$K55-1) | AA55: =IF(MID($D55,3,1)="-","*********",ROUND(IF(NOT(ISNUMBER($G55)),IF(NOT(ISNUMBER($F55)),1,$F55),$G55)*(IF(NOT(ISNUMBER(Z55)),X55,Z55)),2)) -> 0 | AB55: =IF(AA$116=0,"",AA55/AA$116) | AC55: =IF($K55=0,"",IF(NOT(ISNUMBER(Z55)),X55,Z55)/$K55-1)
J56: =SUBTOTAL(9,I51:I55) -> 0 | O56: =IF(MID($D56,3,1)="-","*********",ROUND(IF(NOT(ISNUMBER($G56)),IF(NOT(ISNUMBER($F56)),1,$F56),$G56)*(IF(NOT(ISNUMBER(N56)),L56,N56)),2)) -> 0 | P56: =IF(O$116=0,"",O56/O$116) | Q56: =IF($K56=0,"",IF(NOT(ISNUMBER(N56)),L56,N56)/$K56-1) | U56: =IF(MID($D56,3,1)="-","*********",ROUND(IF(NOT(ISNUMBER($G56)),IF(NOT(ISNUMBER($F56)),1,$F56),$G56)*(IF(NOT(ISNUMBER(T56)),R56,T56)),2)) -> 0 | V56: =IF(U$116=0,"",U56/U$116) | W56: =IF($K56=0,"",IF(NOT(ISNUMBER(T56)),R56,T56)/$K56-1) | AA56: =IF(MID($D56,3,1)="-","*********",ROUND(IF(NOT(ISNUMBER($G56)),IF(NOT(ISNUMBER($F56)),1,$F56),$G56)*(IF(NOT(ISNUMBER(Z56)),X56,Z56)),2)) -> 0 | AB56: =IF(AA$116=0,"",AA56/AA$116) | AC56: =IF($K56=0,"",IF(NOT(ISNUMBER(Z56)),X56,Z56)/$K56-1)
O57: =IF(MID($D57,3,1)="-","*********",ROUND(IF(NOT(ISNUMBER($G57)),IF(NOT(ISNUMBER($F57)),1,$F57),$G57)*(IF(NOT(ISNUMBER(N57)),L57,N57)),2)) -> 0 | P57: =IF(O$116=0,"",O57/O$116) | Q57: =IF($K57=0,"",IF(NOT(ISNUMBER(N57)),L57,N57)/$K57-1) | U57: =IF(MID($D57,3,1)="-","*********",ROUND(IF(NOT(ISNUMBER($G57)),IF(NOT(ISNUMBER($F57)),1,$F57),$G57)*(IF(NOT(ISNUMBER(T57)),R57,T57)),2)) -> 0 | V57: =IF(U$116=0,"",U57/U$116) | W57: =IF($K57=0,"",IF(NOT(ISNUMBER(T57)),R57,T57)/$K57-1) | AA57: =IF(MID($D57,3,1)="-","*********",ROUND(IF(NOT(ISNUMBER($G57)),IF(NOT(ISNUMBER($F57)),1,$F57),$G57)*(IF(NOT(ISNUMBER(Z57)),X57,Z57)),2)) -> 0 | AB57: =IF(AA$116=0,"",AA57/AA$116) | AC57: =IF($K57=0,"",IF(NOT(ISNUMBER(Z57)),X57,Z57)/$K57-1)
B58: Hoofdstuk 4 | O58: =IF(MID($D58,3,1)="-","*********",ROUND(IF(NOT(ISNUMBER($G58)),IF(NOT(ISNUMBER($F58)),1,$F58),$G58)*(IF(NOT(ISNUMBER(N58)),L58,N58)),2)) -> 0 | P58: =IF(O$116=0,"",O58/O$116) | Q58: =IF($K58=0,"",IF(NOT(ISNUMBER(N58)),L58,N58)/$K58-1) | U58: =IF(MID($D58,3,1)="-","*********",ROUND(IF(NOT(ISNUMBER($G58)),IF(NOT(ISNUMBER($F58)),1,$F58),$G58)*(IF(NOT(ISNUMBER(T58)),R58,T58)),2)) -> 0 | V58: =IF(U$116=0,"",U58/U$116) | W58: =IF($K58=0,"",IF(NOT(ISNUMBER(T58)),R58,T58)/$K58-1) | AA58: =IF(MID($D58,3,1)="-","*********",ROUND(IF(NOT(ISNUMBER($G58)),IF(NOT(ISNUMBER($F58)),1,$F58),$G58)*(IF(NOT(ISNUMBER(Z58)),X58,Z58)),2)) -> 0 | AB58: =IF(AA$116=0,"",AA58/AA$116) | AC58: =IF($K58=0,"",IF(NOT(ISNUMBER(Z58)),X58,Z58)/$K58-1)
B59: =[3]!ArticleCode(Art_04.) -> 04. | C59: =[3]!ArticleDescription(Art_04.) -> GEBOUWPRESTATIES | O59: =IF(MID($D59,3,1)="-","*********",ROUND(IF(NOT(ISNUMBER($G59)),IF(NOT(ISNUMBER($F59)),1,$F59),$G59)*(IF(NOT(ISNUMBER(N59)),L59,N59)),2)) -> 0 | P59: =IF(O$116=0,"",O59/O$116) | Q59: =IF($K59=0,"",IF(NOT(ISNUMBER(N59)),L59,N59)/$K59-1) | U59: =IF(MID($D59,3,1)="-","*********",ROUND(IF(NOT(ISNUMBER($G59)),IF(NOT(ISNUMBER($F59)),1,$F59),$G59)*(IF(NOT(ISNUMBER(T59)),R59,T59)),2)) -> 0 | V59: =IF(U$116=0,"",U59/U$116) | W59: =IF($K59=0,"",IF(NOT(ISNUMBER(T59)),R59,T59)/$K59-1) | AA59: =IF(MID($D59,3,1)="-","*********",ROUND(IF(NOT(ISNUMBER($G59)),IF(NOT(ISNUMBER($F59)),1,$F59),$G59)*(IF(NOT(ISNUMBER(Z59)),X59,Z59)),2)) -> 0 | AB59: =IF(AA$116=0,"",AA59/AA$116) | AC59: =IF($K59=0,"",IF(NOT(ISNUMBER(Z59)),X59,Z59)/$K59-1)
B60: =[3]!ArticleCode(Art_04.00.) -> 04.00. | C60: =[3]!ArticleDescription(Art_04.00.) -> gebouwprestaties - algemeen | O60: =IF(MID($D60,3,1)="-","*********",ROUND(IF(NOT(ISNUMBER($G60)),IF(NOT(ISNUMBER($F60)),1,$F60),$G60)*(IF(NOT(ISNUMBER(N60)),L60,N60)),2)) -> 0 | P60: =IF(O$116=0,"",O60/O$116) | Q60: =IF($K60=0,"",IF(NOT(ISNUMBER(N60)),L60,N60)/$K60-1) | U60: =IF(MID($D60,3,1)="-","*********",ROUND(IF(NOT(ISNUMBER($G60)),IF(NOT(ISNUMBER($F60)),1,$F60),$G60)*(IF(NOT(ISNUMBER(T60)),R60,T60)),2)) -> 0 | V60: =IF(U$116=0,"",U60/U$116) | W60: =IF($K60=0,"",IF(NOT(ISNUMBER(T60)),R60,T60)/$K60-1) | AA60: =IF(MID($D60,3,1)="-","*********",ROUND(IF(NOT(ISNUMBER($G60)),IF(NOT(ISNUMBER($F60)),1,$F60),$G60)*(IF(NOT(ISNUMBER(Z60)),X60,Z60)),2)) -> 0 | AB60: =IF(AA$116=0,"",AA60/AA$116) | AC60: =IF($K60=0,"",IF(NOT(ISNUMBER(Z60)),X60,Z60)/$K60-1)
A61: =A55+1 -> 22 | B61: =[3]!ArticleCode(Art_04.20.) -> 04.20. | C61: =[3]!ArticleDescription(Art_04.20.) -> luchtdichtheid - algemeen | D61: =[3]!ArticleMeasureType(Art_04.20.) -> PM | E61: =[3]!ArticleMeasureUnit(Art_04.20.) | F61: =[3]!ArticleQuantity(Art_04.20.) | I61: =IF(RIGHT($D61,1)="-","************",ROUND(IF(NOT(ISNUMBER(G61)),IF(NOT(ISNUMBER(F61)),1,F61),G61)*H61,2)) -> 0 | O61: =IF(MID($D61,3,1)="-","*********",ROUND(IF(NOT(ISNUMBER($G61)),IF(NOT(ISNUMBER($F61)),1,$F61),$G61)*(IF(NOT(ISNUMBER(N61)),L61,N61)),2)) -> 0 | P61: =IF(O$116=0,"",O61/O$116) | Q61: =IF($K61=0,"",IF(NOT(ISNUMBER(N61)),L61,N61)/$K61-1) | U61: =IF(MID($D61,3,1)="-","*********",ROUND(IF(NOT(ISNUMBER($G61)),IF(NOT(ISNUMBER($F61)),1,$F61),$G61)*(IF(NOT(ISNUMBER(T61)),R61,T61)),2)) -> 0 | V61: =IF(U$116=0,"",U61/U$116) | W61: =IF($K61=0,"",IF(NOT(ISNUMBER(T61)),R61,T61)/$K61-1) | AA61: =IF(MID($D61,3,1)="-","*********",ROUND(IF(NOT(ISNUMBER($G61)),IF(NOT(ISNUMBER($F61)),1,$F61),$G61)*(IF(NOT(ISNUMBER(Z61)),X61,Z61)),2)) -> 0 | AB61: =IF(AA$116=0,"",AA61/AA$116) | AC61: =IF($K61=0,"",IF(NOT(ISNUMBER(Z61)),X61,Z61)/$K61-1)
A62: =A61+1 -> 23 | B62: =[3]!ArticleCode(Art_04.30.) -> 04.30. | C62: =[3]!ArticleDescription(Art_04.30.) -> akoestiek - algemeen | D62: =[3]!ArticleMeasureType(Art_04.30.) -> PM | E62: =[3]!ArticleMeasureUnit(Art_04.30.) | F62: =[3]!ArticleQuantity(Art_04.30.) | I62: =IF(RIGHT($D62,1)="-","************",ROUND(IF(NOT(ISNUMBER(G62)),IF(NOT(ISNUMBER(F62)),1,F62),G62)*H62,2)) -> 0 | O62: =IF(MID($D62,3,1)="-","*********",ROUND(IF(NOT(ISNUMBER($G62)),IF(NOT(ISNUMBER($F62)),1,$F62),$G62)*(IF(NOT(ISNUMBER(N62)),L62,N62)),2)) -> 0 | P62: =IF(O$116=0,"",O62/O$116) | Q62: =IF($K62=0,"",IF(NOT(ISNUMBER(N62)),L62,N62)/$K62-1) | U62: =IF(MID($D62,3,1)="-","*********",ROUND(IF(NOT(ISNUMBER($G62)),IF(NOT(ISNUMBER($F62)),1,$F62),$G62)*(IF(NOT(ISNUMBER(T62)),R62,T62)),2)) -> 0 | V62: =IF(U$116=0,"",U62/U$116) | W62: =IF($K62=0,"",IF(NOT(ISNUMBER(T62)),R62,T62)/$K62-1) | AA62: =IF(MID($D62,3,1)="-","*********",ROUND(IF(NOT(ISNUMBER($G62)),IF(NOT(ISNUMBER($F62)),1,$F62),$G62)*(IF(NOT(ISNUMBER(Z62)),X62,Z62)),2)) -> 0 | AB62: =IF(AA$116=0,"",AA62/AA$116) | AC62: =IF($K62=0,"",IF(NOT(ISNUMBER(Z62)),X62,Z62)/$K62-1)
A63: =A62+1 -> 24 | B63: =[3]!ArticleCode(Art_04.40.) -> 04.40. | C63: =[3]!ArticleDescription(Art_04.40.) -> brandveiligheid - algemeen | D63: =[3]!ArticleMeasureType(Art_04.40.) -> PM | E63: =[3]!ArticleMeasureUnit(Art_04.40.) | F63: =[3]!ArticleQuantity(Art_04.40.) | I63: =IF(RIGHT($D63,1)="-","************",ROUND(IF(NOT(ISNUMBER(G63)),IF(NOT(ISNUMBER(F63)),1,F63),G63)*H63,2)) -> 0 | O63: =IF(MID($D63,3,1)="-","*********",ROUND(IF(NOT(ISNUMBER($G63)),IF(NOT(ISNUMBER($F63)),1,$F63),$G63)*(IF(NOT(ISNUMBER(N63)),L63,N63)),2)) -> 0 | P63: =IF(O$116=0,"",O63/O$116) | Q63: =IF($K63=0,"",IF(NOT(ISNUMBER(N63)),L63,N63)/$K63-1) | U63: =IF(MID($D63,3,1)="-","*********",ROUND(IF(NOT(ISNUMBER($G63)),IF(NOT(ISNUMBER($F63)),1,$F63),$G63)*(IF(NOT(ISNUMBER(T63)),R63,T63)),2)) -> 0 | V63: =IF(U$116=0,"",U63/U$116) | W63: =IF($K63=0,"",IF(NOT(ISNUMBER(T63)),R63,T63)/$K63-1) | AA63: =IF(MID($D63,3,1)="-","*********",ROUND(IF(NOT(ISNUMBER($G63)),IF(NOT(ISNUMBER($F63)),1,$F63),$G63)*(IF(NOT(ISNUMBER(Z63)),X63,Z63)),2)) -> 0 | AB63: =IF(AA$116=0,"",AA63/AA$116) | AC63: =IF($K63=0,"",IF(NOT(ISNUMBER(Z63)),X63,Z63)/$K63-1)
J64: =SUBTOTAL(9,I59:I63) -> 0 | O64: =IF(MID($D64,3,1)="-","*********",ROUND(IF(NOT(ISNUMBER($G64)),IF(NOT(ISNUMBER($F64)),1,$F64),$G64)*(IF(NOT(ISNUMBER(N64)),L64,N64)),2)) -> 0 | P64: =IF(O$116=0,"",O64/O$116) | Q64: =IF($K64=0,"",IF(NOT(ISNUMBER(N64)),L64,N64)/$K64-1) | U64: =IF(MID($D64,3,1)="-","*********",ROUND(IF(NOT(ISNUMBER($G64)),IF(NOT(ISNUMBER($F64)),1,$F64),$G64)*(IF(NOT(ISNUMBER(T64)),R64,T64)),2)) -> 0 | V64: =IF(U$116=0,"",U64/U$116) | W64: =IF($K64=0,"",IF(NOT(ISNUMBER(T64)),R64,T64)/$K64-1) | AA64: =IF(MID($D64,3,1)="-","*********",ROUND(IF(NOT(ISNUMBER($G64)),IF(NOT(ISNUMBER($F64)),1,$F64),$G64)*(IF(NOT(ISNUMBER(Z64)),X64,Z64)),2)) -> 0 | AB64: =IF(AA$116=0,"",AA64/AA$116) | AC64: =IF($K64=0,"",IF(NOT(ISNUMBER(Z64)),X64,Z64)/$K64-1)
O65: =IF(MID($D65,3,1)="-","*********",ROUND(IF(NOT(ISNUMBER($G65)),IF(NOT(ISNUMBER($F65)),1,$F65),$G65)*(IF(NOT(ISNUMBER(N65)),L65,N65)),2)) -> 0 | P65: =IF(O$116=0,"",O65/O$116) | Q65: =IF($K65=0,"",IF(NOT(ISNUMBER(N65)),L65,N65)/$K65-1) | U65: =IF(MID($D65,3,1)="-","*********",ROUND(IF(NOT(ISNUMBER($G65)),IF(NOT(ISNUMBER($F65)),1,$F65),$G65)*(IF(NOT(ISNUMBER(T65)),R65,T65)),2)) -> 0 | V65: =IF(U$116=0,"",U65/U$116) | W65: =IF($K65=0,"",IF(NOT(ISNUMBER(T65)),R65,T65)/$K65-1) | AA65: =IF(MID($D65,3,1)="-","*********",ROUND(IF(NOT(ISNUMBER($G65)),IF(NOT(ISNUMBER($F65)),1,$F65),$G65)*(IF(NOT(ISNUMBER(Z65)),X65,Z65)),2)) -> 0 | AB65: =IF(AA$116=0,"",AA65/AA$116) | AC65: =IF($K65=0,"",IF(NOT(ISNUMBER(Z65)),X65,Z65)/$K65-1)
B66: Hoofdstuk 40 | O66: =IF(MID($D66,3,1)="-","*********",ROUND(IF(NOT(ISNUMBER($G66)),IF(NOT(ISNUMBER($F66)),1,$F66),$G66)*(IF(NOT(ISNUMBER(N66)),L66,N66)),2)) -> 0 | P66: =IF(O$116=0,"",O66/O$116) | Q66: =IF($K66=0,"",IF(NOT(ISNUMBER(N66)),L66,N66)/$K66-1) | U66: =IF(MID($D66,3,1)="-","*********",ROUND(IF(NOT(ISNUMBER($G66)),IF(NOT(ISNUMBER($F66)),1,$F66),$G66)*(IF(NOT(ISNUMBER(T66)),R66,T66)),2)) -> 0 | V66: =IF(U$116=0,"",U66/U$116) | W66: =IF($K66=0,"",IF(NOT(ISNUMBER(T66)),R66,T66)/$K66-1) | AA66: =IF(MID($D66,3,1)="-","*********",ROUND(IF(NOT(ISNUMBER($G66)),IF(NOT(ISNUMBER($F66)),1,$F66),$G66)*(IF(NOT(ISNUMBER(Z66)),X66,Z66)),2)) -> 0 | AB66: =IF(AA$116=0,"",AA66/AA$116) | AC66: =IF($K66=0,"",IF(NOT(ISNUMBER(Z66)),X66,Z66)/$K66-1)
B67: =[3]!ArticleCode(Art_40.) -> 40. | C67: =[3]!ArticleDescription(Art_40.) -> BUITENSCHRIJNWERK | O67: =IF(MID($D67,3,1)="-","*********",ROUND(IF(NOT(ISNUMBER($G67)),IF(NOT(ISNUMBER($F67)),1,$F67),$G67)*(IF(NOT(ISNUMBER(N67)),L67,N67)),2)) -> 0 | P67: =IF(O$116=0,"",O67/O$116) | Q67: =IF($K67=0,"",IF(NOT(ISNUMBER(N67)),L67,N67)/$K67-1) | U67: =IF(MID($D67,3,1)="-","*********",ROUND(IF(NOT(ISNUMBER($G67)),IF(NOT(ISNUMBER($F67)),1,$F67),$G67)*(IF(NOT(ISNUMBER(T67)),R67,T67)),2)) -> 0 | V67: =IF(U$116=0,"",U67/U$116) | W67: =IF($K67=0,"",IF(NOT(ISNUMBER(T67)),R67,T67)/$K67-1) | AA67: =IF(MID($D67,3,1)="-","*********",ROUND(IF(NOT(ISNUMBER($G67)),IF(NOT(ISNUMBER($F67)),1,$F67),$G67)*(IF(NOT(ISNUMBER(Z67)),X67,Z67)),2)) -> 0 | AB67: =IF(AA$116=0,"",AA67/AA$116) | AC67: =IF($K67=0,"",IF(NOT(ISNUMBER(Z67)),X67,Z67)/$K67-1)
B68: =[3]!ArticleCode(Art_40.00.) -> 40.00. | C68: =[3]!ArticleDescription(Art_40.00.) -> buitenschrijnwerk - algemeen | O68: =IF(MID($D68,3,1)="-","*********",ROUND(IF(NOT(ISNUMBER($G68)),IF(NOT(ISNUMBER($F68)),1,$F68),$G68)*(IF(NOT(ISNUMBER(N68)),L68,N68)),2)) -> 0 | P68: =IF(O$116=0,"",O68/O$116) | Q68: =IF($K68=0,"",IF(NOT(ISNUMBER(N68)),L68,N68)/$K68-1) | U68: =IF(MID($D68,3,1)="-","*********",ROUND(IF(NOT(ISNUMBER($G68)),IF(NOT(ISNUMBER($F68)),1,$F68),$G68)*(IF(NOT(ISNUMBER(T68)),R68,T68)),2)) -> 0 | V68: =IF(U$116=0,"",U68/U$116) | W68: =IF($K68=0,"",IF(NOT(ISNUMBER(T68)),R68,T68)/$K68-1) | AA68: =IF(MID($D68,3,1)="-","*********",ROUND(IF(NOT(ISNUMBER($G68)),IF(NOT(ISNUMBER($F68)),1,$F68),$G68)*(IF(NOT(ISNUMBER(Z68)),X68,Z68)),2)) -> 0 | AB68: =IF(AA$116=0,"",AA68/AA$116) | AC68: =IF($K68=0,"",IF(NOT(ISNUMBER(Z68)),X68,Z68)/$K68-1)
B69: =[3]!ArticleCode(Art_40.01.) -> 40.01. | C69: =[3]!ArticleDescription(Art_40.01.) -> buitenschrijnwerk - prestaties | O69: =IF(MID($D69,3,1)="-","*********",ROUND(IF(NOT(ISNUMBER($G69)),IF(NOT(ISNUMBER($F69)),1,$F69),$G69)*(IF(NOT(ISNUMBER(N69)),L69,N69)),2)) -> 0 | P69: =IF(O$116=0,"",O69/O$116) | Q69: =IF($K69=0,"",IF(NOT(ISNUMBER(N69)),L69,N69)/$K69-1) | U69: =IF(MID($D69,3,1)="-","*********",ROUND(IF(NOT(ISNUMBER($G69)),IF(NOT(ISNUMBER($F69)),1,$F69),$G69)*(IF(NOT(ISNUMBER(T69)),R69,T69)),2)) -> 0 | V69: =IF(U$116=0,"",U69/U$116) | W69: =IF($K69=0,"",IF(NOT(ISNUMBER(T69)),R69,T69)/$K69-1) | AA69: =IF(MID($D69,3,1)="-","*********",ROUND(IF(NOT(ISNUMBER($G69)),IF(NOT(ISNUMBER($F69)),1,$F69),$G69)*(IF(NOT(ISNUMBER(Z69)),X69,Z69)),2)) -> 0 | AB69: =IF(AA$116=0,"",AA69/AA$116) | AC69: =IF($K69=0,"",IF(NOT(ISNUMBER(Z69)),X69,Z69)/$K69-1)
B70: =[3]!ArticleCode(Art_40.02.) -> 40.02. | C70: =[3]!ArticleDescription(Art_40.02.) -> buitenschrijnwerk - proeven | O70: =IF(MID($D70,3,1)="-","*********",ROUND(IF(NOT(ISNUMBER($G70)),IF(NOT(ISNUMBER($F70)),1,$F70),$G70)*(IF(NOT(ISNUMBER(N70)),L70,N70)),2)) -> 0 | P70: =IF(O$116=0,"",O70/O$116) | Q70: =IF($K70=0,"",IF(NOT(ISNUMBER(N70)),L70,N70)/$K70-1) | U70: =IF(MID($D70,3,1)="-","*********",ROUND(IF(NOT(ISNUMBER($G70)),IF(NOT(ISNUMBER($F70)),1,$F70),$G70)*(IF(NOT(ISNUMBER(T70)),R70,T70)),2)) -> 0 | V70: =IF(U$116=0,"",U70/U$116) | W70: =IF($K70=0,"",IF(NOT(ISNUMBER(T70)),R70,T70)/$K70-1) | AA70: =IF(MID($D70,3,1)="-","*********",ROUND(IF(NOT(ISNUMBER($G70)),IF(NOT(ISNUMBER($F70)),1,$F70),$G70)*(IF(NOT(ISNUMBER(Z70)),X70,Z70)),2)) -> 0 | AB70: =IF(AA$116=0,"",AA70/AA$116) | AC70: =IF($K70=0,"",IF(NOT(ISNUMBER(Z70)),X70,Z70)/$K70-1)
A71: =A63+1 -> 25 | B71: =[3]!ArticleCode(Art_40.02.10.) -> 40.02.10. | C71: =[3]!ArticleDescription(Art_40.02.10.) -> buitenschrijnwerk - proeven/op kosten ongelijk | D71: =[3]!ArticleMeasureType(Art_40.02.10.) -> PM | E71: =[3]!ArticleMeasureUnit(Art_40.02.10.) | F71: =[3]!ArticleQuantity(Art_40.02.10.) | I71: =IF(RIGHT($D71,1)="-","************",ROUND(IF(NOT(ISNUMBER(G71)),IF(NOT(ISNUMBER(F71)),1,F71),G71)*H71,2)) -> 0 | O71: =IF(MID($D71,3,1)="-","*********",ROUND(IF(NOT(ISNUMBER($G71)),IF(NOT(ISNUMBER($F71)),1,$F71),$G71)*(IF(NOT(ISNUMBER(N71)),L71,N71)),2)) -> 0 | P71: =IF(O$116=0,"",O71/O$116) | Q71: =IF($K71=0,"",IF(NOT(ISNUMBER(N71)),L71,N71)/$K71-1) | U71: =IF(MID($D71,3,1)="-","*********",ROUND(IF(NOT(ISNUMBER($G71)),IF(NOT(ISNUMBER($F71)),1,$F71),$G71)*(IF(NOT(ISNUMBER(T71)),R71,T71)),2)) -> 0 | V71: =IF(U$116=0,"",U71/U$116) | W71: =IF($K71=0,"",IF(NOT(ISNUMBER(T71)),R71,T71)/$K71-1) | AA71: =IF(MID($D71,3,1)="-","*********",ROUND(IF(NOT(ISNUMBER($G71)),IF(NOT(ISNUMBER($F71)),1,$F71),$G71)*(IF(NOT(ISNUMBER(Z71)),X71,Z71)),2)) -> 0 | AB71: =IF(AA$116=0,"",AA71/AA$116) | AC71: =IF($K71=0,"",IF(NOT(ISNUMBER(Z71)),X71,Z71)/$K71-1)
B72: =[3]!ArticleCode(Art_40.03.) -> 40.03. | C72: =[3]!ArticleDescription(Art_40.03.) -> buitenschrijnwerk - montage | O72: =IF(MID($D72,3,1)="-","*********",ROUND(IF(NOT(ISNUMBER($G72)),IF(NOT(ISNUMBER($F72)),1,$F72),$G72)*(IF(NOT(ISNUMBER(N72)),L72,N72)),2)) -> 0 | P72: =IF(O$116=0,"",O72/O$116) | Q72: =IF($K72=0,"",IF(NOT(ISNUMBER(N72)),L72,N72)/$K72-1) | U72: =IF(MID($D72,3,1)="-","*********",ROUND(IF(NOT(ISNUMBER($G72)),IF(NOT(ISNUMBER($F72)),1,$F72),$G72)*(IF(NOT(ISNUMBER(T72)),R72,T72)),2)) -> 0 | V72: =IF(U$116=0,"",U72/U$116) | W72: =IF($K72=0,"",IF(NOT(ISNUMBER(T72)),R72,T72)/$K72-1) | AA72: =IF(MID($D72,3,1)="-","*********",ROUND(IF(NOT(ISNUMBER($G72)),IF(NOT(ISNUMBER($F72)),1,$F72),$G72)*(IF(NOT(ISNUMBER(Z72)),X72,Z72)),2)) -> 0 | AB72: =IF(AA$116=0,"",AA72/AA$116) | AC72: =IF($K72=0,"",IF(NOT(ISNUMBER(Z72)),X72,Z72)/$K72-1)
A73: =A71+1 -> 26 | B73: =[3]!ArticleCode(Art_40.03.10.) -> 40.03.10. | C73: =[3]!ArticleDescription(Art_40.03.10.) -> buitenschrijnwerk - montage/spouwconstructie en dorpel | D73: =[3]!ArticleMeasureType(Art_40.03.10.) -> PM | E73: =[3]!ArticleMeasureUnit(Art_40.03.10.) | F73: =[3]!ArticleQuantity(Art_40.03.10.) | I73: =IF(RIGHT($D73,1)="-","************",ROUND(IF(NOT(ISNUMBER(G73)),IF(NOT(ISNUMBER(F73)),1,F73),G73)*H73,2)) -> 0 | O73: =IF(MID($D73,3,1)="-","*********",ROUND(IF(NOT(ISNUMBER($G73)),IF(NOT(ISNUMBER($F73)),1,$F73),$G73)*(IF(NOT(ISNUMBER(N73)),L73,N73)),2)) -> 0 | P73: =IF(O$116=0,"",O73/O$116) | Q73: =IF($K73=0,"",IF(NOT(ISNUMBER(N73)),L73,N73)/$K73-1) | U73: =IF(MID($D73,3,1)="-","*********",ROUND(IF(NOT(ISNUMBER($G73)),IF(NOT(ISNUMBER($F73)),1,$F73),$G73)*(IF(NOT(ISNUMBER(T73)),R73,T73)),2)) -> 0 | V73: =IF(U$116=0,"",U73/U$116) | W73: =IF($K73=0,"",IF(NOT(ISNUMBER(T73)),R73,T73)/$K73-1) | AA73: =IF(MID($D73,3,1)="-","*********",ROUND(IF(NOT(ISNUMBER($G73)),IF(NOT(ISNUMBER($F73)),1,$F73),$G73)*(IF(NOT(ISNUMBER(Z73)),X73,Z73)),2)) -> 0 | AB73: =IF(AA$116=0,"",AA73/AA$116) | AC73: =IF($K73=0,"",IF(NOT(ISNUMBER(Z73)),X73,Z73)/$K73-1)
B74: =[3]!ArticleCode(Art_40.04.) -> 40.04. | C74: =[3]!ArticleDescription(Art_40.04.) -> buitenschrijnwerk – borderel | O74: =IF(MID($D74,3,1)="-","*********",ROUND(IF(NOT(ISNUMBER($G74)),IF(NOT(ISNUMBER($F74)),1,$F74),$G74)*(IF(NOT(ISNUMBER(N74)),L74,N74)),2)) -> 0 | P74: =IF(O$116=0,"",O74/O$116) | Q74: =IF($K74=0,"",IF(NOT(ISNUMBER(N74)),L74,N74)/$K74-1) | U74: =IF(MID($D74,3,1)="-","*********",ROUND(IF(NOT(ISNUMBER($G74)),IF(NOT(ISNUMBER($F74)),1,$F74),$G74)*(IF(NOT(ISNUMBER(T74)),R74,T74)),2)) -> 0 | V74: =IF(U$116=0,"",U74/U$116) | W74: =IF($K74=0,"",IF(NOT(ISNUMBER(T74)),R74,T74)/$K74-1) | AA74: =IF(MID($D74,3,1)="-","*********",ROUND(IF(NOT(ISNUMBER($G74)),IF(NOT(ISNUMBER($F74)),1,$F74),$G74)*(IF(NOT(ISNUMBER(Z74)),X74,Z74)),2)) -> 0 | AB74: =IF(AA$116=0,"",AA74/AA$116) | AC74: =IF($K74=0,"",IF(NOT(ISNUMBER(Z74)),X74,Z74)/$K74-1)
B75: =[3]!ArticleCode(Art_40.10.) -> 40.10. | C75: =[3]!ArticleDescription(Art_40.10.) -> profielsystemen - algemeen | O75: =IF(MID($D75,3,1)="-","*********",ROUND(IF(NOT(ISNUMBER($G75)),IF(NOT(ISNUMBER($F75)),1,$F75),$G75)*(IF(NOT(ISNUMBER(N75)),L75,N75)),2)) -> 0 | P75: =IF(O$116=0,"",O75/O$116) | Q75: =IF($K75=0,"",IF(NOT(ISNUMBER(N75)),L75,N75)/$K75-1) | U75: =IF(MID($D75,3,1)="-","*********",ROUND(IF(NOT(ISNUMBER($G75)),IF(NOT(ISNUMBER($F75)),1,$F75),$G75)*(IF(NOT(ISNUMBER(T75)),R75,T75)),2)) -> 0 | V75: =IF(U$116=0,"",U75/U$116) | W75: =IF($K75=0,"",IF(NOT(ISNUMBER(T75)),R75,T75)/$K75-1) | AA75: =IF(MID($D75,3,1)="-","*********",ROUND(IF(NOT(ISNUMBER($G75)),IF(NOT(ISNUMBER($F75)),1,$F75),$G75)*(IF(NOT(ISNUMBER(Z75)),X75,Z75)),2)) -> 0 | AB75: =IF(AA$116=0,"",AA75/AA$116) | AC75: =IF($K75=0,"",IF(NOT(ISNUMBER(Z75)),X75,Z75)/$K75-1)
B76: =[3]!ArticleCode(Art_40.12.) -> 40.12. | C76: =[3]!ArticleDescription(Art_40.12.) -> profielsysteem – aluminium (incl. luchtdichtheidslabben) | O76: =IF(MID($D76,3,1)="-","*********",ROUND(IF(NOT(ISNUMBER($G76)),IF(NOT(ISNUMBER($F76)),1,$F76),$G76)*(IF(NOT(ISNUMBER(N76)),L76,N76)),2)) -> 0 | P76: =IF(O$116=0,"",O76/O$116) | Q76: =IF($K76=0,"",IF(NOT(ISNUMBER(N76)),L76,N76)/$K76-1) | U76: =IF(MID($D76,3,1)="-","*********",ROUND(IF(NOT(ISNUMBER($G76)),IF(NOT(ISNUMBER($F76)),1,$F76),$G76)*(IF(NOT(ISNUMBER(T76)),R76,T76)),2)) -> 0 | V76: =IF(U$116=0,"",U76/U$116) | W76: =IF($K76=0,"",IF(NOT(ISNUMBER(T76)),R76,T76)/$K76-1) | AA76: =IF(MID($D76,3,1)="-","*********",ROUND(IF(NOT(ISNUMBER($G76)),IF(NOT(ISNUMBER($F76)),1,$F76),$G76)*(IF(NOT(ISNUMBER(Z76)),X76,Z76)),2)) -> 0 | AB76: =IF(AA$116=0,"",AA76/AA$116) | AC76: =IF($K76=0,"",IF(NOT(ISNUMBER(Z76)),X76,Z76)/$K76-1)
B77: =[3]!ArticleCode(Art_40.12.10) -> 40.12.10 | C77: =[3]!ArticleDescription(Art_40.12.10) -> profielsystemen - aluminium/vaste ramen | O77: =IF(MID($D77,3,1)="-","*********",ROUND(IF(NOT(ISNUMBER($G77)),IF(NOT(ISNUMBER($F77)),1,$F77),$G77)*(IF(NOT(ISNUMBER(N77)),L77,N77)),2)) -> 0 | P77: =IF(O$116=0,"",O77/O$116) | Q77: =IF($K77=0,"",IF(NOT(ISNUMBER(N77)),L77,N77)/$K77-1) | U77: =IF(MID($D77,3,1)="-","*********",ROUND(IF(NOT(ISNUMBER($G77)),IF(NOT(ISNUMBER($F77)),1,$F77),$G77)*(IF(NOT(ISNUMBER(T77)),R77,T77)),2)) -> 0 | V77: =IF(U$116=0,"",U77/U$116) | W77: =IF($K77=0,"",IF(NOT(ISNUMBER(T77)),R77,T77)/$K77-1) | AA77: =IF(MID($D77,3,1)="-","*********",ROUND(IF(NOT(ISNUMBER($G77)),IF(NOT(ISNUMBER($F77)),1,$F77),$G77)*(IF(NOT(ISNUMBER(Z77)),X77,Z77)),2)) -> 0 | AB77: =IF(AA$116=0,"",AA77/AA$116) | AC77: =IF($K77=0,"",IF(NOT(ISNUMBER(Z77)),X77,Z77)/$K77-1)
A78: =A73+1 -> 27 | B78: =[3]!ArticleCode(Art_40.12.10.1) -> 40.12.10.1 | C78: =[3]!ArticleDescription(Art_40.12.10.1) -> R0.01 & R0.02 vast raam (1300 x 1340 mm) | D78: =[3]!ArticleMeasureType(Art_40.12.10.1) -> FH | E78: =[3]!ArticleMeasureUnit(Art_40.12.10.1) -> m2 | F78: =[3]!ArticleQuantity(Art_40.12.10.1) -> 3.48 | I78: =IF(RIGHT($D78,1)="-","************",ROUND(IF(NOT(ISNUMBER(G78)),IF(NOT(ISNUMBER(F78)),1,F78),G78)*H78,2)) -> 0 | O78: =IF(MID($D78,3,1)="-","*********",ROUND(IF(NOT(ISNUMBER($G78)),IF(NOT(ISNUMBER($F78)),1,$F78),$G78)*(IF(NOT(ISNUMBER(N78)),L78,N78)),2)) -> 0 | P78: =IF(O$116=0,"",O78/O$116) | Q78: =IF($K78=0,"",IF(NOT(ISNUMBER(N78)),L78,N78)/$K78-1) | U78: =IF(MID($D78,3,1)="-","*********",ROUND(IF(NOT(ISNUMBER($G78)),IF(NOT(ISNUMBER($F78)),1,$F78),$G78)*(IF(NOT(ISNUMBER(T78)),R78,T78)),2)) -> 0 | V78: =IF(U$116=0,"",U78/U$116) | W78: =IF($K78=0,"",IF(NOT(ISNUMBER(T78)),R78,T78)/$K78-1) | AA78: =IF(MID($D78,3,1)="-","*********",ROUND(IF(NOT(ISNUMBER($G78)),IF(NOT(ISNUMBER($F78)),1,$F78),$G78)*(IF(NOT(ISNUMBER(Z78)),X78,Z78)),2)) -> 0 | AB78: =IF(AA$116=0,"",AA78/AA$116) | AC78: =IF($K78=0,"",IF(NOT(ISNUMBER(Z78)),X78,Z78)/$K78-1)
A79: =A78+1 -> 28 | B79: =[3]!ArticleCode(Art_40.12.10.2) -> 40.12.10.2 | C79: =[3]!ArticleDescription(Art_40.12.10.2) -> R0.04 vast raam (1110 x 1340 mm) | D79: =[3]!ArticleMeasureType(Art_40.12.10.2) -> FH | E79: =[3]!ArticleMeasureUnit(Art_40.12.10.2) -> m2 | F79: =[3]!ArticleQuantity(Art_40.12.10.2) -> 1.49 | I79: =IF(RIGHT($D79,1)="-","************",ROUND(IF(NOT(ISNUMBER(G79)),IF(NOT(ISNUMBER(F79)),1,F79),G79)*H79,2)) -> 0 | O79: =IF(MID($D79,3,1)="-","*********",ROUND(IF(NOT(ISNUMBER($G79)),IF(NOT(ISNUMBER($F79)),1,$F79),$G79)*(IF(NOT(ISNUMBER(N79)),L79,N79)),2)) -> 0 | P79: =IF(O$116=0,"",O79/O$116) | Q79: =IF($K79=0,"",IF(NOT(ISNUMBER(N79)),L79,N79)/$K79-1) | U79: =IF(MID($D79,3,1)="-","*********",ROUND(IF(NOT(ISNUMBER($G79)),IF(NOT(ISNUMBER($F79)),1,$F79),$G79)*(IF(NOT(ISNUMBER(T79)),R79,T79)),2)) -> 0 | V79: =IF(U$116=0,"",U79/U$116) | W79: =IF($K79=0,"",IF(NOT(ISNUMBER(T79)),R79,T79)/$K79-1) | AA79: =IF(MID($D79,3,1)="-","*********",ROUND(IF(NOT(ISNUMBER($G79)),IF(NOT(ISNUMBER($F79)),1,$F79),$G79)*(IF(NOT(ISNUMBER(Z79)),X79,Z79)),2)) -> 0 | AB79: =IF(AA$116=0,"",AA79/AA$116) | AC79: =IF($K79=0,"",IF(NOT(ISNUMBER(Z79)),X79,Z79)/$K79-1)
A80: =A79+1 -> 29 | B80: =[3]!ArticleCode(Art_40.12.10.3) -> 40.12.10.3 | C80: =[3]!ArticleDescription(Art_40.12.10.3) -> R0.06 vast raam (1480 x 1360 mm) | D80: =[3]!ArticleMeasureType(Art_40.12.10.3) -> FH | E80: =[3]!ArticleMeasureUnit(Art_40.12.10.3) -> m2 | F80: =[3]!ArticleQuantity(Art_40.12.10.3) -> 2.01 | I80: =IF(RIGHT($D80,1)="-","************",ROUND(IF(NOT(ISNUMBER(G80)),IF(NOT(ISNUMBER(F80)),1,F80),G80)*H80,2)) -> 0 | O80: =IF(MID($D80,3,1)="-","*********",ROUND(IF(NOT(ISNUMBER($G80)),IF(NOT(ISNUMBER($F80)),1,$F80),$G80)*(IF(NOT(ISNUMBER(N80)),L80,N80)),2)) -> 0 | P80: =IF(O$116=0,"",O80/O$116) | Q80: =IF($K80=0,"",IF(NOT(ISNUMBER(N80)),L80,N80)/$K80-1) | U80: =IF(MID($D80,3,1)="-","*********",ROUND(IF(NOT(ISNUMBER($G80)),IF(NOT(ISNUMBER($F80)),1,$F80),$G80)*(IF(NOT(ISNUMBER(T80)),R80,T80)),2)) -> 0 | V80: =IF(U$116=0,"",U80/U$116) | W80: =IF($K80=0,"",IF(NOT(ISNUMBER(T80)),R80,T80)/$K80-1) | AA80: =IF(MID($D80,3,1)="-","*********",ROUND(IF(NOT(ISNUMBER($G80)),IF(NOT(ISNUMBER($F80)),1,$F80),$G80)*(IF(NOT(ISNUMBER(Z80)),X80,Z80)),2)) -> 0 | AB80: =IF(AA$116=0,"",AA80/AA$116) | AC80: =IF($K80=0,"",IF(NOT(ISNUMBER(Z80)),X80,Z80)/$K80-1)
B81: =[3]!ArticleCode(Art_40.12.20) -> 40.12.20 | C81: =[3]!ArticleDescription(Art_40.12.20) -> profielsystemen - aluminium/draairamen | O81: =IF(MID($D81,3,1)="-","*********",ROUND(IF(NOT(ISNUMBER($G81)),IF(NOT(ISNUMBER($F81)),1,$F81),$G81)*(IF(NOT(ISNUMBER(N81)),L81,N81)),2)) -> 0 | P81: =IF(O$116=0,"",O81/O$116) | Q81: =IF($K81=0,"",IF(NOT(ISNUMBER(N81)),L81,N81)/$K81-1) | U81: =IF(MID($D81,3,1)="-","*********",ROUND(IF(NOT(ISNUMBER($G81)),IF(NOT(ISNUMBER($F81)),1,$F81),$G81)*(IF(NOT(ISNUMBER(T81)),R81,T81)),2)) -> 0 | V81: =IF(U$116=0,"",U81/U$116) | W81: =IF($K81=0,"",IF(NOT(ISNUMBER(T81)),R81,T81)/$K81-1) | AA81: =IF(MID($D81,3,1)="-","*********",ROUND(IF(NOT(ISNUMBER($G81)),IF(NOT(ISNUMBER($F81)),1,$F81),$G81)*(IF(NOT(ISNUMBER(Z81)),X81,Z81)),2)) -> 0 | AB81: =IF(AA$116=0,"",AA81/AA$116) | AC81: =IF($K81=0,"",IF(NOT(ISNUMBER(Z81)),X81,Z81)/$K81-1)
A82: =A80+1 -> 30 | B82: =[3]!ArticleCode(Art_40.12.20.1) -> 40.12.20.1 | C82: =[3]!ArticleDescription(Art_40.12.20.1) -> R0.03 enkel draaikip raam (1110 x 1340 mm) | D82: =[3]!ArticleMeasureType(Art_40.12.20.1) -> FH | E82: =[3]!ArticleMeasureUnit(Art_40.12.20.1) -> m2 | F82: =[3]!ArticleQuantity(Art_40.12.20.1) -> 1.49 | I82: =IF(RIGHT($D82,1)="-","************",ROUND(IF(NOT(ISNUMBER(G82)),IF(NOT(ISNUMBER(F82)),1,F82),G82)*H82,2)) -> 0 | O82: =IF(MID($D82,3,1)="-","*********",ROUND(IF(NOT(ISNUMBER($G82)),IF(NOT(ISNUMBER($F82)),1,$F82),$G82)*(IF(NOT(ISNUMBER(N82)),L82,N82)),2)) -> 0 | P82: =IF(O$116=0,"",O82/O$116) | Q82: =IF($K82=0,"",IF(NOT(ISNUMBER(N82)),L82,N82)/$K82-1) | U82: =IF(MID($D82,3,1)="-","*********",ROUND(IF(NOT(ISNUMBER($G82)),IF(NOT(ISNUMBER($F82)),1,$F82),$G82)*(IF(NOT(ISNUMBER(T82)),R82,T82)),2)) -> 0 | V82: =IF(U$116=0,"",U82/U$116) | W82: =IF($K82=0,"",IF(NOT(ISNUMBER(T82)),R82,T82)/$K82-1) | AA82: =IF(MID($D82,3,1)="-","*********",ROUND(IF(NOT(ISNUMBER($G82)),IF(NOT(ISNUMBER($F82)),1,$F82),$G82)*(IF(NOT(ISNUMBER(Z82)),X82,Z82)),2)) -> 0 | AB82: =IF(AA$116=0,"",AA82/AA$116) | AC82: =IF($K82=0,"",IF(NOT(ISNUMBER(Z82)),X82,Z82)/$K82-1)
A83: =A82+1 -> 31 | B83: =[3]!ArticleCode(Art_40.12.20.2) -> 40.12.20.2 | C83: =[3]!ArticleDescription(Art_40.12.20.2) -> R0.05 enkel draaikip raam (1000 x 1340 mm) | D83: =[3]!ArticleMeasureType(Art_40.12.20.2) -> FH | E83: =[3]!ArticleMeasureUnit(Art_40.12.20.2) -> m2 | F83: =[3]!ArticleQuantity(Art_40.12.20.2) -> 1.34 | I83: =IF(RIGHT($D83,1)="-","************",ROUND(IF(NOT(ISNUMBER(G83)),IF(NOT(ISNUMBER(F83)),1,F83),G83)*H83,2)) -> 0 | O83: =IF(MID($D83,3,1)="-","*********",ROUND(IF(NOT(ISNUMBER($G83)),IF(NOT(ISNUMBER($F83)),1,$F83),$G83)*(IF(NOT(ISNUMBER(N83)),L83,N83)),2)) -> 0 | P83: =IF(O$116=0,"",O83/O$116) | Q83: =IF($K83=0,"",IF(NOT(ISNUMBER(N83)),L83,N83)/$K83-1) | U83: =IF(MID($D83,3,1)="-","*********",ROUND(IF(NOT(ISNUMBER($G83)),IF(NOT(ISNUMBER($F83)),1,$F83),$G83)*(IF(NOT(ISNUMBER(T83)),R83,T83)),2)) -> 0 | V83: =IF(U$116=0,"",U83/U$116) | W83: =IF($K83=0,"",IF(NOT(ISNUMBER(T83)),R83,T83)/$K83-1) | AA83: =IF(MID($D83,3,1)="-","*********",ROUND(IF(NOT(ISNUMBER($G83)),IF(NOT(ISNUMBER($F83)),1,$F83),$G83)*(IF(NOT(ISNUMBER(Z83)),X83,Z83)),2)) -> 0 | AB83: =IF(AA$116=0,"",AA83/AA$116) | AC83: =IF($K83=0,"",IF(NOT(ISNUMBER(Z83)),X83,Z83)/$K83-1)
A84: =A83+1 -> 32 | B84: =[3]!ArticleCode(Art_40.12.20.3) -> 40.12.20.3 | C84: =[3]!ArticleDescription(Art_40.12.20.3) -> R0.07 enkel openvallend raam (930 x 760 mm) | D84: =[3]!ArticleMeasureType(Art_40.12.20.3) -> FH | E84: =[3]!ArticleMeasureUnit(Art_40.12.20.3) -> m2 | F84: =[3]!ArticleQuantity(Art_40.12.20.3) -> 0.71 | I84: =IF(RIGHT($D84,1)="-","************",ROUND(IF(NOT(ISNUMBER(G84)),IF(NOT(ISNUMBER(F84)),1,F84),G84)*H84,2)) -> 0 | O84: =IF(MID($D84,3,1)="-","*********",ROUND(IF(NOT(ISNUMBER($G84)),IF(NOT(ISNUMBER($F84)),1,$F84),$G84)*(IF(NOT(ISNUMBER(N84)),L84,N84)),2)) -> 0 | P84: =IF(O$116=0,"",O84/O$116) | Q84: =IF($K84=0,"",IF(NOT(ISNUMBER(N84)),L84,N84)/$K84-1) | U84: =IF(MID($D84,3,1)="-","*********",ROUND(IF(NOT(ISNUMBER($G84)),IF(NOT(ISNUMBER($F84)),1,$F84),$G84)*(IF(NOT(ISNUMBER(T84)),R84,T84)),2)) -> 0 | V84: =IF(U$116=0,"",U84/U$116) | W84: =IF($K84=0,"",IF(NOT(ISNUMBER(T84)),R84,T84)/$K84-1) | AA84: =IF(MID($D84,3,1)="-","*********",ROUND(IF(NOT(ISNUMBER($G84)),IF(NOT(ISNUMBER($F84)),1,$F84),$G84)*(IF(NOT(ISNUMBER(Z84)),X84,Z84)),2)) -> 0 | AB84: =IF(AA$116=0,"",AA84/AA$116) | AC84: =IF($K84=0,"",IF(NOT(ISNUMBER(Z84)),X84,Z84)/$K84-1)
A85: =A84+1 -> 33 | B85: =[3]!ArticleCode(Art_40.12.20.4) -> 40.12.20.4 | C85: =[3]!ArticleDescription(Art_40.12.20.4) -> R0.08 enkel openvallend raam (1560 x 770 mm) | D85: =[3]!ArticleMeasureType(Art_40.12.20.4) -> FH | E85: =[3]!ArticleMeasureUnit(Art_40.12.20.4) -> m2 | F85: =[3]!ArticleQuantity(Art_40.12.20.4) -> 1.19 | I85: =IF(RIGHT($D85,1)="-","************",ROUND(IF(NOT(ISNUMBER(G85)),IF(NOT(ISNUMBER(F85)),1,F85),G85)*H85,2)) -> 0 | O85: =IF(MID($D85,3,1)="-","*********",ROUND(IF(NOT(ISNUMBER($G85)),IF(NOT(ISNUMBER($F85)),1,$F85),$G85)*(IF(NOT(ISNUMBER(N85)),L85,N85)),2)) -> 0 | P85: =IF(O$116=0,"",O85/O$116) | Q85: =IF($K85=0,"",IF(NOT(ISNUMBER(N85)),L85,N85)/$K85-1) | U85: =IF(MID($D85,3,1)="-","*********",ROUND(IF(NOT(ISNUMBER($G85)),IF(NOT(ISNUMBER($F85)),1,$F85),$G85)*(IF(NOT(ISNUMBER(T85)),R85,T85)),2)) -> 0 | V85: =IF(U$116=0,"",U85/U$116) | W85: =IF($K85=0,"",IF(NOT(ISNUMBER(T85)),R85,T85)/$K85-1) | AA85: =IF(MID($D85,3,1)="-","*********",ROUND(IF(NOT(ISNUMBER($G85)),IF(NOT(ISNUMBER($F85)),1,$F85),$G85)*(IF(NOT(ISNUMBER(Z85)),X85,Z85)),2)) -> 0 | AB85: =IF(AA$116=0,"",AA85/AA$116) | AC85: =IF($K85=0,"",IF(NOT(ISNUMBER(Z85)),X85,Z85)/$K85-1)
A86: =A85+1 -> 34 | B86: =[3]!ArticleCode(Art_40.12.20.5) -> 40.12.20.5 | C86: =[3]!ArticleDescription(Art_40.12.20.5) -> R1.01/R1.02/R1.03/R1.04/R1.05/R1.06 kip voor draai raam (102 x 2400 mm) | D86: =[3]!ArticleMeasureType(Art_40.12.20.5) -> FH | E86: =[3]!ArticleMeasureUnit(Art_40.12.20.5) -> m2 | F86: =[3]!ArticleQuantity(Art_40.12.20.5) -> 14.7 | I86: =IF(RIGHT($D86,1)="-","************",ROUND(IF(NOT(ISNUMBER(G86)),IF(NOT(ISNUMBER(F86)),1,F86),G86)*H86,2)) -> 0 | O86: =IF(MID($D86,3,1)="-","*********",ROUND(IF(NOT(ISNUMBER($G86)),IF(NOT(ISNUMBER($F86)),1,$F86),$G86)*(IF(NOT(ISNUMBER(N86)),L86,N86)),2)) -> 0 | P86: =IF(O$116=0,"",O86/O$116) | Q86: =IF($K86=0,"",IF(NOT(ISNUMBER(N86)),L86,N86)/$K86-1) | U86: =IF(MID($D86,3,1)="-","*********",ROUND(IF(NOT(ISNUMBER($G86)),IF(NOT(ISNUMBER($F86)),1,$F86),$G86)*(IF(NOT(ISNUMBER(T86)),R86,T86)),2)) -> 0 | V86: =IF(U$116=0,"",U86/U$116) | W86: =IF($K86=0,"",IF(NOT(ISNUMBER(T86)),R86,T86)/$K86-1) | AA86: =IF(MID($D86,3,1)="-","*********",ROUND(IF(NOT(ISNUMBER($G86)),IF(NOT(ISNUMBER($F86)),1,$F86),$G86)*(IF(NOT(ISNUMBER(Z86)),X86,Z86)),2)) -> 0 | AB86: =IF(AA$116=0,"",AA86/AA$116) | AC86: =IF($K86=0,"",IF(NOT(ISNUMBER(Z86)),X86,Z86)/$K86-1)
B87: =[3]!ArticleCode(Art_40.12.40) -> 40.12.40 | C87: =[3]!ArticleDescription(Art_40.12.40) -> profielsystemen - aluminium/buitendeuren | O87: =IF(MID($D87,3,1)="-","*********",ROUND(IF(NOT(ISNUMBER($G87)),IF(NOT(ISNUMBER($F87)),1,$F87),$G87)*(IF(NOT(ISNUMBER(N87)),L87,N87)),2)) -> 0 | P87: =IF(O$116=0,"",O87/O$116) | Q87: =IF($K87=0,"",IF(NOT(ISNUMBER(N87)),L87,N87)/$K87-1) | U87: =IF(MID($D87,3,1)="-","*********",ROUND(IF(NOT(ISNUMBER($G87)),IF(NOT(ISNUMBER($F87)),1,$F87),$G87)*(IF(NOT(ISNUMBER(T87)),R87,T87)),2)) -> 0 | V87: =IF(U$116=0,"",U87/U$116) | W87: =IF($K87=0,"",IF(NOT(ISNUMBER(T87)),R87,T87)/$K87-1) | AA87: =IF(MID($D87,3,1)="-","*********",ROUND(IF(NOT(ISNUMBER($G87)),IF(NOT(ISNUMBER($F87)),1,$F87),$G87)*(IF(NOT(ISNUMBER(Z87)),X87,Z87)),2)) -> 0 | AB87: =IF(AA$116=0,"",AA87/AA$116) | AC87: =IF($K87=0,"",IF(NOT(ISNUMBER(Z87)),X87,Z87)/$K87-1)
A88: =A86+1 -> 35 | B88: =[3]!ArticleCode(Art_40.12.40.1) -> 40.12.40.1 | C88: =[3]!ArticleDescription(Art_40.12.40.1) -> S0.01 - dubbele beglaasde deur (2410 x 2550 mm) | D88: =[3]!ArticleMeasureType(Art_40.12.40.1) -> FH | E88: =[3]!ArticleMeasureUnit(Art_40.12.40.1) -> m2 | F88: =[3]!ArticleQuantity(Art_40.12.40.1) -> 6.14 | I88: =IF(RIGHT($D88,1)="-","************",ROUND(IF(NOT(ISNUMBER(G88)),IF(NOT(ISNUMBER(F88)),1,F88),G88)*H88,2)) -> 0 | O88: =IF(MID($D88,3,1)="-","*********",ROUND(IF(NOT(ISNUMBER($G88)),IF(NOT(ISNUMBER($F88)),1,$F88),$G88)*(IF(NOT(ISNUMBER(N88)),L88,N88)),2)) -> 0 | P88: =IF(O$116=0,"",O88/O$116) | Q88: =IF($K88=0,"",IF(NOT(ISNUMBER(N88)),L88,N88)/$K88-1) | U88: =IF(MID($D88,3,1)="-","*********",ROUND(IF(NOT(ISNUMBER($G88)),IF(NOT(ISNUMBER($F88)),1,$F88),$G88)*(IF(NOT(ISNUMBER(T88)),R88,T88)),2)) -> 0 | V88: =IF(U$116=0,"",U88/U$116) | W88: =IF($K88=0,"",IF(NOT(ISNUMBER(T88)),R88,T88)/$K88-1) | AA88: =IF(MID($D88,3,1)="-","*********",ROUND(IF(NOT(ISNUMBER($G88)),IF(NOT(ISNUMBER($F88)),1,$F88),$G88)*(IF(NOT(ISNUMBER(Z88)),X88,Z88)),2)) -> 0 | AB88: =IF(AA$116=0,"",AA88/AA$116) | AC88: =IF($K88=0,"",IF(NOT(ISNUMBER(Z88)),X88,Z88)/$K88-1)
A89: =A88+1 -> 36 | B89: =[3]!ArticleCode(Art_40.12.40.2) -> 40.12.40.2 | C89: =[3]!ArticleDescription(Art_40.12.40.2) -> S0.02 - dubbele beglaasde deur (2250 x 2390 mm) | D89: =[3]!ArticleMeasureType(Art_40.12.40.2) -> FH | E89: =[3]!ArticleMeasureUnit(Art_40.12.40.2) -> m2 | F89: =[3]!ArticleQuantity(Art_40.12.40.2) -> 5.38 | I89: =IF(RIGHT($D89,1)="-","************",ROUND(IF(NOT(ISNUMBER(G89)),IF(NOT(ISNUMBER(F89)),1,F89),G89)*H89,2)) -> 0 | O89: =IF(MID($D89,3,1)="-","*********",ROUND(IF(NOT(ISNUMBER($G89)),IF(NOT(ISNUMBER($F89)),1,$F89),$G89)*(IF(NOT(ISNUMBER(N89)),L89,N89)),2)) -> 0 | P89: =IF(O$116=0,"",O89/O$116) | Q89: =IF($K89=0,"",IF(NOT(ISNUMBER(N89)),L89,N89)/$K89-1) | U89: =IF(MID($D89,3,1)="-","*********",ROUND(IF(NOT(ISNUMBER($G89)),IF(NOT(ISNUMBER($F89)),1,$F89),$G89)*(IF(NOT(ISNUMBER(T89)),R89,T89)),2)) -> 0 | V89: =IF(U$116=0,"",U89/U$116) | W89: =IF($K89=0,"",IF(NOT(ISNUMBER(T89)),R89,T89)/$K89-1) | AA89: =IF(MID($D89,3,1)="-","*********",ROUND(IF(NOT(ISNUMBER($G89)),IF(NOT(ISNUMBER($F89)),1,$F89),$G89)*(IF(NOT(ISNUMBER(Z89)),X89,Z89)),2)) -> 0 | AB89: =IF(AA$116=0,"",AA89/AA$116) | AC89: =IF($K89=0,"",IF(NOT(ISNUMBER(Z89)),X89,Z89)/$K89-1)
A90: =A89+1 -> 37 | B90: =[3]!ArticleCode(Art_40.12.40.3) -> 40.12.40.3 | C90: =[3]!ArticleDescription(Art_40.12.40.3) -> S0.03/S0.04 - enkele beglaasde deur (1020 x 2000 mm) | D90: =[3]!ArticleMeasureType(Art_40.12.40.3) -> FH | E90: =[3]!ArticleMeasureUnit(Art_40.12.40.3) -> m2 | F90: =[3]!ArticleQuantity(Art_40.12.40.3) -> 4.08 | I90: =IF(RIGHT($D90,1)="-","************",ROUND(IF(NOT(ISNUMBER(G90)),IF(NOT(ISNUMBER(F90)),1,F90),G90)*H90,2)) -> 0 | O90: =IF(MID($D90,3,1)="-","*********",ROUND(IF(NOT(ISNUMBER($G90)),IF(NOT(ISNUMBER($F90)),1,$F90),$G90)*(IF(NOT(ISNUMBER(N90)),L90,N90)),2)) -> 0 | P90: =IF(O$116=0,"",O90/O$116) | Q90: =IF($K90=0,"",IF(NOT(ISNUMBER(N90)),L90,N90)/$K90-1) | U90: =IF(MID($D90,3,1)="-","*********",ROUND(IF(NOT(ISNUMBER($G90)),IF(NOT(ISNUMBER($F90)),1,$F90),$G90)*(IF(NOT(ISNUMBER(T90)),R90,T90)),2)) -> 0 | V90: =IF(U$116=0,"",U90/U$116) | W90: =IF($K90=0,"",IF(NOT(ISNUMBER(T90)),R90,T90)/$K90-1) | AA90: =IF(MID($D90,3,1)="-","*********",ROUND(IF(NOT(ISNUMBER($G90)),IF(NOT(ISNUMBER($F90)),1,$F90),$G90)*(IF(NOT(ISNUMBER(Z90)),X90,Z90)),2)) -> 0 | AB90: =IF(AA$116=0,"",AA90/AA$116) | AC90: =IF($K90=0,"",IF(NOT(ISNUMBER(Z90)),X90,Z90)/$K90-1)
A91: =A90+1 -> 38 | B91: =[3]!ArticleCode(Art_40.12.40.4) -> 40.12.40.4 | C91: =[3]!ArticleDescription(Art_40.12.40.4) -> S0.05 - enkele beglaasde deur (1020 x 2190 mm) | D91: =[3]!ArticleMeasureType(Art_40.12.40.4) -> FH | E91: =[3]!ArticleMeasureUnit(Art_40.12.40.4) -> m2 | F91: =[3]!ArticleQuantity(Art_40.12.40.4) -> 2.23 | I91: =IF(RIGHT($D91,1)="-","************",ROUND(IF(NOT(ISNUMBER(G91)),IF(NOT(ISNUMBER(F91)),1,F91),G91)*H91,2)) -> 0 | O91: =IF(MID($D91,3,1)="-","*********",ROUND(IF(NOT(ISNUMBER($G91)),IF(NOT(ISNUMBER($F91)),1,$F91),$G91)*(IF(NOT(ISNUMBER(N91)),L91,N91)),2)) -> 0 | P91: =IF(O$116=0,"",O91/O$116) | Q91: =IF($K91=0,"",IF(NOT(ISNUMBER(N91)),L91,N91)/$K91-1) | U91: =IF(MID($D91,3,1)="-","*********",ROUND(IF(NOT(ISNUMBER($G91)),IF(NOT(ISNUMBER($F91)),1,$F91),$G91)*(IF(NOT(ISNUMBER(T91)),R91,T91)),2)) -> 0 | V91: =IF(U$116=0,"",U91/U$116) | W91: =IF($K91=0,"",IF(NOT(ISNUMBER(T91)),R91,T91)/$K91-1) | AA91: =IF(MID($D91,3,1)="-","*********",ROUND(IF(NOT(ISNUMBER($G91)),IF(NOT(ISNUMBER($F91)),1,$F91),$G91)*(IF(NOT(ISNUMBER(Z91)),X91,Z91)),2)) -> 0 | AB91: =IF(AA$116=0,"",AA91/AA$116) | AC91: =IF($K91=0,"",IF(NOT(ISNUMBER(Z91)),X91,Z91)/$K91-1)
A92: =A91+1 -> 39 | B92: =[3]!ArticleCode(Art_40.12.40.5) -> 40.12.40.5 | C92: =[3]!ArticleDescription(Art_40.12.40.5) -> S1.01 - enkele beglaasde deur (870 x 2000 mm) | D92: =[3]!ArticleMeasureType(Art_40.12.40.5) -> FH | E92: =[3]!ArticleMeasureUnit(Art_40.12.40.5) -> m2 | F92: =[3]!ArticleQuantity(Art_40.12.40.5) -> 1.74 | I92: =IF(RIGHT($D92,1)="-","************",ROUND(IF(NOT(ISNUMBER(G92)),IF(NOT(ISNUMBER(F92)),1,F92),G92)*H92,2)) -> 0 | O92: =IF(MID($D92,3,1)="-","*********",ROUND(IF(NOT(ISNUMBER($G92)),IF(NOT(ISNUMBER($F92)),1,$F92),$G92)*(IF(NOT(ISNUMBER(N92)),L92,N92)),2)) -> 0 | P92: =IF(O$116=0,"",O92/O$116) | Q92: =IF($K92=0,"",IF(NOT(ISNUMBER(N92)),L92,N92)/$K92-1) | U92: =IF(MID($D92,3,1)="-","*********",ROUND(IF(NOT(ISNUMBER($G92)),IF(NOT(ISNUMBER($F92)),1,$F92),$G92)*(IF(NOT(ISNUMBER(T92)),R92,T92)),2)) -> 0 | V92: =IF(U$116=0,"",U92/U$116) | W92: =IF($K92=0,"",IF(NOT(ISNUMBER(T92)),R92,T92)/$K92-1) | AA92: =IF(MID($D92,3,1)="-","*********",ROUND(IF(NOT(ISNUMBER($G92)),IF(NOT(ISNUMBER($F92)),1,$F92),$G92)*(IF(NOT(ISNUMBER(Z92)),X92,Z92)),2)) -> 0 | AB92: =IF(AA$116=0,"",AA92/AA$116) | AC92: =IF($K92=0,"",IF(NOT(ISNUMBER(Z92)),X92,Z92)/$K92-1)
A93: =A92+1 -> 40 | B93: =[3]!ArticleCode(Art_40.12.40.6) -> 40.12.40.6 | C93: =[3]!ArticleDescription(Art_40.12.40.6) -> S1.02 - enkele beglaasde deur (920 x 2150 mm) | D93: =[3]!ArticleMeasureType(Art_40.12.40.6) -> FH | E93: =[3]!ArticleMeasureUnit(Art_40.12.40.6) -> m2 | F93: =[3]!ArticleQuantity(Art_40.12.40.6) -> 1.98 | I93: =IF(RIGHT($D93,1)="-","************",ROUND(IF(NOT(ISNUMBER(G93)),IF(NOT(ISNUMBER(F93)),1,F93),G93)*H93,2)) -> 0 | O93: =IF(MID($D93,3,1)="-","*********",ROUND(IF(NOT(ISNUMBER($G93)),IF(NOT(ISNUMBER($F93)),1,$F93),$G93)*(IF(NOT(ISNUMBER(N93)),L93,N93)),2)) -> 0 | P93: =IF(O$116=0,"",O93/O$116) | Q93: =IF($K93=0,"",IF(NOT(ISNUMBER(N93)),L93,N93)/$K93-1) | U93: =IF(MID($D93,3,1)="-","*********",ROUND(IF(NOT(ISNUMBER($G93)),IF(NOT(ISNUMBER($F93)),1,$F93),$G93)*(IF(NOT(ISNUMBER(T93)),R93,T93)),2)) -> 0 | V93: =IF(U$116=0,"",U93/U$116) | W93: =IF($K93=0,"",IF(NOT(ISNUMBER(T93)),R93,T93)/$K93-1) | AA93: =IF(MID($D93,3,1)="-","*********",ROUND(IF(NOT(ISNUMBER($G93)),IF(NOT(ISNUMBER($F93)),1,$F93),$G93)*(IF(NOT(ISNUMBER(Z93)),X93,Z93)),2)) -> 0 | AB93: =IF(AA$116=0,"",AA93/AA$116) | AC93: =IF($K93=0,"",IF(NOT(ISNUMBER(Z93)),X93,Z93)/$K93-1)
B94: =[3]!ArticleCode(Art_40.20.) -> 40.20. | C94: =[3]!ArticleDescription(Art_40.20.) -> hang- en sluitwerk - algemeen | O94: =IF(MID($D94,3,1)="-","*********",ROUND(IF(NOT(ISNUMBER($G94)),IF(NOT(ISNUMBER($F94)),1,$F94),$G94)*(IF(NOT(ISNUMBER(N94)),L94,N94)),2)) -> 0 | P94: =IF(O$116=0,"",O94/O$116) | Q94: =IF($K94=0,"",IF(NOT(ISNUMBER(N94)),L94,N94)/$K94-1) | U94: =IF(MID($D94,3,1)="-","*********",ROUND(IF(NOT(ISNUMBER($G94)),IF(NOT(ISNUMBER($F94)),1,$F94),$G94)*(IF(NOT(ISNUMBER(T94)),R94,T94)),2)) -> 0 | V94: =IF(U$116=0,"",U94/U$116) | W94: =IF($K94=0,"",IF(NOT(ISNUMBER(T94)),R94,T94)/$K94-1) | AA94: =IF(MID($D94,3,1)="-","*********",ROUND(IF(NOT(ISNUMBER($G94)),IF(NOT(ISNUMBER($F94)),1,$F94),$G94)*(IF(NOT(ISNUMBER(Z94)),X94,Z94)),2)) -> 0 | AB94: =IF(AA$116=0,"",AA94/AA$116) | AC94: =IF($K94=0,"",IF(NOT(ISNUMBER(Z94)),X94,Z94)/$K94-1)
A95: =A93+1 -> 41 | B95: =[3]!ArticleCode(Art_40.21.) -> 40.21. | C95: =[3]!ArticleDescription(Art_40.21.) -> hang- en sluitwerk - standaard beslag | D95: =[3]!ArticleMeasureType(Art_40.21.) -> PM | E95: =[3]!ArticleMeasureUnit(Art_40.21.) | F95: =[3]!ArticleQuantity(Art_40.21.) | I95: =IF(RIGHT($D95,1)="-","************",ROUND(IF(NOT(ISNUMBER(G95)),IF(NOT(ISNUMBER(F95)),1,F95),G95)*H95,2)) -> 0 | O95: =IF(MID($D95,3,1)="-","*********",ROUND(IF(NOT(ISNUMBER($G95)),IF(NOT(ISNUMBER($F95)),1,$F95),$G95)*(IF(NOT(ISNUMBER(N95)),L95,N95)),2)) -> 0 | P95: =IF(O$116=0,"",O95/O$116) | Q95: =IF($K95=0,"",IF(NOT(ISNUMBER(N95)),L95,N95)/$K95-1) | U95: =IF(MID($D95,3,1)="-","*********",ROUND(IF(NOT(ISNUMBER($G95)),IF(NOT(ISNUMBER($F95)),1,$F95),$G95)*(IF(NOT(ISNUMBER(T95)),R95,T95)),2)) -> 0 | V95: =IF(U$116=0,"",U95/U$116) | W95: =IF($K95=0,"",IF(NOT(ISNUMBER(T95)),R95,T95)/$K95-1) | AA95: =IF(MID($D95,3,1)="-","*********",ROUND(IF(NOT(ISNUMBER($G95)),IF(NOT(ISNUMBER($F95)),1,$F95),$G95)*(IF(NOT(ISNUMBER(Z95)),X95,Z95)),2)) -> 0 | AB95: =IF(AA$116=0,"",AA95/AA$116) | AC95: =IF($K95=0,"",IF(NOT(ISNUMBER(Z95)),X95,Z95)/$K95-1)
A96: =A95+1 -> 42 | B96: =[3]!ArticleCode(Art_40.22.) -> 40.22. | C96: =[3]!ArticleDescription(Art_40.22.) -> hang- en sluitwerk - scharnieren en paumellen | D96: =[3]!ArticleMeasureType(Art_40.22.) -> PM | E96: =[3]!ArticleMeasureUnit(Art_40.22.) | F96: =[3]!ArticleQuantity(Art_40.22.) | I96: =IF(RIGHT($D96,1)="-","************",ROUND(IF(NOT(ISNUMBER(G96)),IF(NOT(ISNUMBER(F96)),1,F96),G96)*H96,2)) -> 0 | O96: =IF(MID($D96,3,1)="-","*********",ROUND(IF(NOT(ISNUMBER($G96)),IF(NOT(ISNUMBER($F96)),1,$F96),$G96)*(IF(NOT(ISNUMBER(N96)),L96,N96)),2)) -> 0 | P96: =IF(O$116=0,"",O96/O$116) | Q96: =IF($K96=0,"",IF(NOT(ISNUMBER(N96)),L96,N96)/$K96-1) | U96: =IF(MID($D96,3,1)="-","*********",ROUND(IF(NOT(ISNUMBER($G96)),IF(NOT(ISNUMBER($F96)),1,$F96),$G96)*(IF(NOT(ISNUMBER(T96)),R96,T96)),2)) -> 0 | V96: =IF(U$116=0,"",U96/U$116) | W96: =IF($K96=0,"",IF(NOT(ISNUMBER(T96)),R96,T96)/$K96-1) | AA96: =IF(MID($D96,3,1)="-","*********",ROUND(IF(NOT(ISNUMBER($G96)),IF(NOT(ISNUMBER($F96)),1,$F96),$G96)*(IF(NOT(ISNUMBER(Z96)),X96,Z96)),2)) -> 0 | AB96: =IF(AA$116=0,"",AA96/AA$116) | AC96: =IF($K96=0,"",IF(NOT(ISNUMBER(Z96)),X96,Z96)/$K96-1)
B97: =[3]!ArticleCode(Art_40.23.) -> 40.23. | C97: =[3]!ArticleDescription(Art_40.23.) -> hang- en sluitwerk - sloten | O97: =IF(MID($D97,3,1)="-","*********",ROUND(IF(NOT(ISNUMBER($G97)),IF(NOT(ISNUMBER($F97)),1,$F97),$G97)*(IF(NOT(ISNUMBER(N97)),L97,N97)),2)) -> 0 | P97: =IF(O$116=0,"",O97/O$116) | Q97: =IF($K97=0,"",IF(NOT(ISNUMBER(N97)),L97,N97)/$K97-1) | U97: =IF(MID($D97,3,1)="-","*********",ROUND(IF(NOT(ISNUMBER($G97)),IF(NOT(ISNUMBER($F97)),1,$F97),$G97)*(IF(NOT(ISNUMBER(T97)),R97,T97)),2)) -> 0 | V97: =IF(U$116=0,"",U97/U$116) | W97: =IF($K97=0,"",IF(NOT(ISNUMBER(T97)),R97,T97)/$K97-1) | AA97: =IF(MID($D97,3,1)="-","*********",ROUND(IF(NOT(ISNUMBER($G97)),IF(NOT(ISNUMBER($F97)),1,$F97),$G97)*(IF(NOT(ISNUMBER(Z97)),X97,Z97)),2)) -> 0 | AB97: =IF(AA$116=0,"",AA97/AA$116) | AC97: =IF($K97=0,"",IF(NOT(ISNUMBER(Z97)),X97,Z97)/$K97-1)
A98: =A96+1 -> 43 | B98: =[3]!ArticleCode(Art_40.23.10.) -> 40.23.10. | C98: =[3]!ArticleDescription(Art_40.23.10.) -> hang- en sluitwerk - sloten/manueel | D98: =[3]!ArticleMeasureType(Art_40.23.10.) -> PM | E98: =[3]!ArticleMeasureUnit(Art_40.23.10.) | F98: =[3]!ArticleQuantity(Art_40.23.10.) | I98: =IF(RIGHT($D98,1)="-","************",ROUND(IF(NOT(ISNUMBER(G98)),IF(NOT(ISNUMBER(F98)),1,F98),G98)*H98,2)) -> 0 | O98: =IF(MID($D98,3,1)="-","*********",ROUND(IF(NOT(ISNUMBER($G98)),IF(NOT(ISNUMBER($F98)),1,$F98),$G98)*(IF(NOT(ISNUMBER(N98)),L98,N98)),2)) -> 0 | P98: =IF(O$116=0,"",O98/O$116) | Q98: =IF($K98=0,"",IF(NOT(ISNUMBER(N98)),L98,N98)/$K98-1) | U98: =IF(MID($D98,3,1)="-","*********",ROUND(IF(NOT(ISNUMBER($G98)),IF(NOT(ISNUMBER($F98)),1,$F98),$G98)*(IF(NOT(ISNUMBER(T98)),R98,T98)),2)) -> 0 | V98: =IF(U$116=0,"",U98/U$116) | W98: =IF($K98=0,"",IF(NOT(ISNUMBER(T98)),R98,T98)/$K98-1) | AA98: =IF(MID($D98,3,1)="-","*********",ROUND(IF(NOT(ISNUMBER($G98)),IF(NOT(ISNUMBER($F98)),1,$F98),$G98)*(IF(NOT(ISNUMBER(Z98)),X98,Z98)),2)) -> 0 | AB98: =IF(AA$116=0,"",AA98/AA$116) | AC98: =IF($K98=0,"",IF(NOT(ISNUMBER(Z98)),X98,Z98)/$K98-1)
B99: =[3]!ArticleCode(Art_40.24.) -> 40.24. | C99: =[3]!ArticleDescription(Art_40.24.) -> hang- en sluitwerk - deurdrangers | O99: =IF(MID($D99,3,1)="-","*********",ROUND(IF(NOT(ISNUMBER($G99)),IF(NOT(ISNUMBER($F99)),1,$F99),$G99)*(IF(NOT(ISNUMBER(N99)),L99,N99)),2)) -> 0 | P99: =IF(O$116=0,"",O99/O$116) | Q99: =IF($K99=0,"",IF(NOT(ISNUMBER(N99)),L99,N99)/$K99-1) | U99: =IF(MID($D99,3,1)="-","*********",ROUND(IF(NOT(ISNUMBER($G99)),IF(NOT(ISNUMBER($F99)),1,$F99),$G99)*(IF(NOT(ISNUMBER(T99)),R99,T99)),2)) -> 0 | V99: =IF(U$116=0,"",U99/U$116) | W99: =IF($K99=0,"",IF(NOT(ISNUMBER(T99)),R99,T99)/$K99-1) | AA99: =IF(MID($D99,3,1)="-","*********",ROUND(IF(NOT(ISNUMBER($G99)),IF(NOT(ISNUMBER($F99)),1,$F99),$G99)*(IF(NOT(ISNUMBER(Z99)),X99,Z99)),2)) -> 0 | AB99: =IF(AA$116=0,"",AA99/AA$116) | AC99: =IF($K99=0,"",IF(NOT(ISNUMBER(Z99)),X99,Z99)/$K99-1)
A100: =A98+1 -> 44 | B100: =[3]!ArticleCode(Art_40.24.10.) -> 40.24.10. | C100: =[3]!ArticleDescription(Art_40.24.10.) -> hang- en sluitwerk - deurdrangers/manueel | D100: =[3]!ArticleMeasureType(Art_40.24.10.) -> PM | E100: =[3]!ArticleMeasureUnit(Art_40.24.10.) | F100: =[3]!ArticleQuantity(Art_40.24.10.) | I100: =IF(RIGHT($D100,1)="-","************",ROUND(IF(NOT(ISNUMBER(G100)),IF(NOT(ISNUMBER(F100)),1,F100),G100)*H100,2)) -> 0 | O100: =IF(MID($D100,3,1)="-","*********",ROUND(IF(NOT(ISNUMBER($G100)),IF(NOT(ISNUMBER($F100)),1,$F100),$G100)*(IF(NOT(ISNUMBER(N100)),L100,N100)),2)) -> 0 | P100: =IF(O$116=0,"",O100/O$116) | Q100: =IF($K100=0,"",IF(NOT(ISNUMBER(N100)),L100,N100)/$K100-1) | U100: =IF(MID($D100,3,1)="-","*********",ROUND(IF(NOT(ISNUMBER($G100)),IF(NOT(ISNUMBER($F100)),1,$F100),$G100)*(IF(NOT(ISNUMBER(T100)),R100,T100)),2)) -> 0 | V100: =IF(U$116=0,"",U100/U$116) | W100: =IF($K100=0,"",IF(NOT(ISNUMBER(T100)),R100,T100)/$K100-1) | AA100: =IF(MID($D100,3,1)="-","*********",ROUND(IF(NOT(ISNUMBER($G100)),IF(NOT(ISNUMBER($F100)),1,$F100),$G100)*(IF(NOT(ISNUMBER(Z100)),X100,Z100)),2)) -> 0 | AB100: =IF(AA$116=0,"",AA100/AA$116) | AC100: =IF($K100=0,"",IF(NOT(ISNUMBER(Z100)),X100,Z100)/$K100-1)
A101: =A100+1 -> 45 | B101: =[3]!ArticleCode(Art_40.25.) -> 40.25. | C101: =[3]!ArticleDescription(Art_40.25.) -> hang- en sluitwerk - panieksluitingen | D101: =[3]!ArticleMeasureType(Art_40.25.) -> PM | E101: =[3]!ArticleMeasureUnit(Art_40.25.) | F101: =[3]!ArticleQuantity(Art_40.25.) | I101: =IF(RIGHT($D101,1)="-","************",ROUND(IF(NOT(ISNUMBER(G101)),IF(NOT(ISNUMBER(F101)),1,F101),G101)*H101,2)) -> 0 | O101: =IF(MID($D101,3,1)="-","*********",ROUND(IF(NOT(ISNUMBER($G101)),IF(NOT(ISNUMBER($F101)),1,$F101),$G101)*(IF(NOT(ISNUMBER(N101)),L101,N101)),2)) -> 0 | P101: =IF(O$116=0,"",O101/O$116) | Q101: =IF($K101=0,"",IF(NOT(ISNUMBER(N101)),L101,N101)/$K101-1) | U101: =IF(MID($D101,3,1)="-","*********",ROUND(IF(NOT(ISNUMBER($G101)),IF(NOT(ISNUMBER($F101)),1,$F101),$G101)*(IF(NOT(ISNUMBER(T101)),R101,T101)),2)) -> 0 | V101: =IF(U$116=0,"",U101/U$116) | W101: =IF($K101=0,"",IF(NOT(ISNUMBER(T101)),R101,T101)/$K101-1) | AA101: =IF(MID($D101,3,1)="-","*********",ROUND(IF(NOT(ISNUMBER($G101)),IF(NOT(ISNUMBER($F101)),1,$F101),$G101)*(IF(NOT(ISNUMBER(Z101)),X101,Z101)),2)) -> 0 | AB101: =IF(AA$116=0,"",AA101/AA$116) | AC101: =IF($K101=0,"",IF(NOT(ISNUMBER(Z101)),X101,Z101)/$K101-1)
A102: =A101+1 -> 46 | B102: =[3]!ArticleCode(Art_40.26.) -> 40.26. | C102: =[3]!ArticleDescription(Art_40.26.) -> hang- en sluitwerk - raamkrukken | D102: =[3]!ArticleMeasureType(Art_40.26.) -> PM | E102: =[3]!ArticleMeasureUnit(Art_40.26.) | F102: =[3]!ArticleQuantity(Art_40.26.) | I102: =IF(RIGHT($D102,1)="-","************",ROUND(IF(NOT(ISNUMBER(G102)),IF(NOT(ISNUMBER(F102)),1,F102),G102)*H102,2)) -> 0 | O102: =IF(MID($D102,3,1)="-","*********",ROUND(IF(NOT(ISNUMBER($G102)),IF(NOT(ISNUMBER($F102)),1,$F102),$G102)*(IF(NOT(ISNUMBER(N102)),L102,N102)),2)) -> 0 | P102: =IF(O$116=0,"",O102/O$116) | Q102: =IF($K102=0,"",IF(NOT(ISNUMBER(N102)),L102,N102)/$K102-1) | U102: =IF(MID($D102,3,1)="-","*********",ROUND(IF(NOT(ISNUMBER($G102)),IF(NOT(ISNUMBER($F102)),1,$F102),$G102)*(IF(NOT(ISNUMBER(T102)),R102,T102)),2)) -> 0 | V102: =IF(U$116=0,"",U102/U$116) | W102: =IF($K102=0,"",IF(NOT(ISNUMBER(T102)),R102,T102)/$K102-1) | AA102: =IF(MID($D102,3,1)="-","*********",ROUND(IF(NOT(ISNUMBER($G102)),IF(NOT(ISNUMBER($F102)),1,$F102),$G102)*(IF(NOT(ISNUMBER(Z102)),X102,Z102)),2)) -> 0 | AB102: =IF(AA$116=0,"",AA102/AA$116) | AC102: =IF($K102=0,"",IF(NOT(ISNUMBER(Z102)),X102,Z102)/$K102-1)
A103: =A102+1 -> 47 | B103: =[3]!ArticleCode(Art_40.27.) -> 40.27. | C103: =[3]!ArticleDescription(Art_40.27.) -> hang- en sluitwerk - deurkrukken | D103: =[3]!ArticleMeasureType(Art_40.27.) -> PM | E103: =[3]!ArticleMeasureUnit(Art_40.27.) | F103: =[3]!ArticleQuantity(Art_40.27.) | I103: =IF(RIGHT($D103,1)="-","************",ROUND(IF(NOT(ISNUMBER(G103)),IF(NOT(ISNUMBER(F103)),1,F103),G103)*H103,2)) -> 0 | O103: =IF(MID($D103,3,1)="-","*********",ROUND(IF(NOT(ISNUMBER($G103)),IF(NOT(ISNUMBER($F103)),1,$F103),$G103)*(IF(NOT(ISNUMBER(N103)),L103,N103)),2)) -> 0 | P103: =IF(O$116=0,"",O103/O$116) | Q103: =IF($K103=0,"",IF(NOT(ISNUMBER(N103)),L103,N103)/$K103-1) | U103: =IF(MID($D103,3,1)="-","*********",ROUND(IF(NOT(ISNUMBER($G103)),IF(NOT(ISNUMBER($F103)),1,$F103),$G103)*(IF(NOT(ISNUMBER(T103)),R103,T103)),2)) -> 0 | V103: =IF(U$116=0,"",U103/U$116) | W103: =IF($K103=0,"",IF(NOT(ISNUMBER(T103)),R103,T103)/$K103-1) | AA103: =IF(MID($D103,3,1)="-","*********",ROUND(IF(NOT(ISNUMBER($G103)),IF(NOT(ISNUMBER($F103)),1,$F103),$G103)*(IF(NOT(ISNUMBER(Z103)),X103,Z103)),2)) -> 0 | AB103: =IF(AA$116=0,"",AA103/AA$116) | AC103: =IF($K103=0,"",IF(NOT(ISNUMBER(Z103)),X103,Z103)/$K103-1)
...
