Workbook
Name _C3A_Bouwheer.BouwheerNaam: 'Samenvatting MS'!$C$6
Name _C3A_Dossiernaam: Detail!$I$3
Name _C3A_Dossiernaam: 'Samenvatting MS'!$C$5
Name _C3A_Dossiernummer: Detail!$B$4
Name _C3A_Dossiernummer: 'Samenvatting MS'!$C$3
Name Art_01.: Detail!$A$14:$I$14
Name Art_01.00.: Detail!$A$17:$I$17
Name Art_01.01.: Detail!$A$20:$I$21
Name Art_01.02.: Detail!$A$24:$I$25
Name Art_01.03.: Detail!$A$28:$I$29
Name Art_01.04.: Detail!$A$32:$I$33
Name Art_01.05.: Detail!$A$36:$I$37
Name Art_01.06.: Detail!$A$40:$I$41
Name Art_01.07.: Detail!#REF!
Name Art_01.08.: Detail!$A$44:$I$45
Name Art_01.10.: Detail!#REF!
Name Art_01.11.: Detail!#REF!
Name Art_01.11.10.: Detail!#REF!
Name Art_01.11.20.: Detail!#REF!
Name Art_01.12.: Detail!#REF!
Name Art_01.12.10.: Detail!#REF!
Name Art_01.12.20.: Detail!#REF!
Name Art_01.14.: Detail!#REF!
Name Art_01.14.10.: Detail!#REF!
Name Art_01.14.20.: Detail!#REF!
Name Art_01.15.: Detail!#REF!
Name Art_01.15.10.: Detail!#REF!
Name Art_01.15.20.: Detail!#REF!
Name Art_01.20.: Detail!$A$47:$I$47
Name Art_01.21.: Detail!$A$50:$I$51
Name Art_01.22.: Detail!$A$54:$I$55
Name Art_01.23.: Detail!$A$58:$I$59
Name Art_01.25.: Detail!$A$62:$I$63
Name Art_01.26.: Detail!#REF!
Name Art_01.30.: Detail!$A$66:$I$66
Name Art_01.31.: Detail!$A$69:$I$70
Name Art_01.32.: Detail!$A$73:$I$74
Name Art_01.33.: Detail!$A$77:$I$78
Name Art_01.40.: Detail!$A$81:$I$82
Name Art_02.: Detail!$A$85:$I$85
Name Art_02.00.: Detail!$A$88:$I$88
Name Art_02.10.: Detail!$A$91:$I$91
Name Art_02.11.: Detail!$A$94:$I$95
Name Art_02.12.: Detail!$A$98:$I$98
Name Art_02.12.10.: Detail!$A$101:$I$102
Name Art_02.12.20.: Detail!$A$105:$I$106
Name Art_02.30.: Detail!#REF!
Name Art_02.31.: Detail!#REF!
Name Art_02.32.: Detail!#REF!
Name Art_02.33.: Detail!#REF!
Name Art_02.40.: Detail!#REF!
Name Art_02.50.: Detail!#REF!
Name Art_02.52.: Detail!#REF!
Name Art_02.60.: Detail!#REF!
Name Art_02.61.: Detail!#REF!
Name Art_02.63.: Detail!#REF!
Name Art_02.64.: Detail!#REF!
Name Art_02.70.: Detail!#REF!
Name Art_02.71.: Detail!#REF!
Name Art_02.72.: Detail!#REF!

Sheet Detail
A1: C:\Models\C3Admin\Database\Articles_VMSW_BouwtechnischBestekWoningbouw_2015.xlsx | B1: Artikels
I3: Woning Eva& David
A4: dos nr | B4: DED17 | E4: EERSTE GLOBALE RAMING | L4: A | M4: Klad
A5: uitgave | B5: 1ste – 22/09/2020 | L5: B | M5: Voorstel
A6: auteur | B6: MSC | L6: C | M6: Herzien
L7: D | M7: Goedgekeurd
I8: WAASMUNSTER - Renovatie van jeugdlokalen
A9: dos nr | B9: WRJ22 | E9: 40-BUITENSCHRIJNWERK | L9: A | M9: Klad
A10: uitgave | B10: 1ste – 16/12/2022 | L10: B | M10: Voorstel
A11: auteur | B11: STS_OMA | L11: C | M11: Herzien
L12: D | M12: Goedgekeurd
A14: 01. | B14: AANNEMINGSMODALITEITEN
A17: 01.00. | B17: aannemingsmodaliteiten - algemeen
A20: 01.01. | B20: aannemingsmodaliteiten – bestek
D21: Totaal | G21: PM
A24: 01.02. | B24: aannemingsmodaliteiten – voorafgaand plaatsbezoek
D25: Totaal | G25: PM
A28: 01.03. | B28: aannemingsmodaliteiten – burgerlijke aansprakelijkheid
D29: Totaal | G29: PM
A32: 01.04. | B32: aannemingsmodaliteiten – volledigheid van inschrijving
D33: Totaal | G33: PM
A36: 01.05. | B36: aannemingsmodaliteiten – onderaanneming
D37: Totaal | G37: PM
A40: 01.06. | B40: aannemingsmodaliteiten – verrekeningen
D41: Totaal | G41: PM
A44: 01.08. | B44: aannemingsmodaliteiten – materialenlijst
D45: Totaal | G45: PM
A47: 01.20. | B47: werfcoördinatie – algemeen
A50: 01.21. | B50: werfcoördinatie – planning van de werken
D51: Totaal | G51: PM
A54: 01.22. | B54: werfcoördinatie – werfleiding en controle
D55: Totaal | G55: PM
A58: 01.23. | B58: werfcoördinatie – werfvergaderingen
D59: Totaal | G59: PM
A62: 01.25. | B62: werfcoördinatie – as-builtdossier
D63: Totaal | G63: PM
A66: 01.30. | B66: werfcondities – algemeen
A69: 01.31. | B69: werfcondities – orde en netheid
D70: Totaal | G70: PM
A73: 01.32. | B73: werfcondities – geluids- en stofhinder
...

Sheet Samenvatting MS
C3: DED17 | I3: =_xlfn.SINGLE(_C3A_Dossiernaam) -> Woning Eva& David
A4: dos nr | B4: =_xlfn.SINGLE(_C3A_Dossiernummer) -> DED17 | E4: =meetstaat -> EERSTE GLOBALE RAMING | L4: A | M4: Klad
A5: uitgave | B5: =uitgave -> 1ste – 22/09/2020 | C5: Woning Eva& David | D5: =inhoud -> 0 | L5: B | M5: Voorstel
A6: auteur | B6: =auteur -> MSC | C6: dhr. David DE REU & mvr. Eva VAN CAENEGEM | L6: C | M6: Herzien
I8: =Detail!I8 -> WAASMUNSTER - Renovatie van jeugdlokalen
A9: dos nr | B9: =Detail!B9 -> WRJ22 | E9: =Detail!E9 -> 40-BUITENSCHRIJNWERK | L9: A | M9: Klad
A10: uitgave | B10: =Detail!B10 -> 1ste – 16/12/2022 | L10: B | M10: Voorstel
A11: auteur | B11: =Detail!B11 -> STS_OMA | L11: C | M11: Herzien
L12: Aannemer 1 | R12: Aannemer 2 | X12: Aannemer 3
A13: volgnr. | B13: art. | C13: omschrijving | D13: eenheid | F13: hoev. | G13: hoev. 2 | H13: eenh.pr. | I13: totaal | K13: gemiddelde | L13: prijs | M13: afw. hoev. | N13: prijs 2 | O13: totaal | P13: % tov tot. | Q13: % tov gem. | R13: prijs | S13: afw. hoev. | T13: prijs 2 | U13: totaal | V13: % tov tot. | W13: % tov gem. | X13: prijs | Y13: afw. hoev. | Z13: prijs 2 | AA13: totaal | AB13: % tov tot. | AC13: % tov gem.
B14: Hoofdstuk 1 | O14: =IF(MID($D14,3,1)="-","*********",ROUND(IF(NOT(ISNUMBER($G14)),IF(NOT(ISNUMBER($F14)),1,$F14),$G14)*(IF(NOT(ISNUMBER(N14)),L14,N14)),2)) -> 0 | P14: =IF(O$116=0,"",O14/O$116) | Q14: =IF($K14=0,"",IF(NOT(ISNUMBER(N14)),L14,N14)/$K14-1) | U14: =IF(MID($D14,3,1)="-","*********",ROUND(IF(NOT(ISNUMBER($G14)),IF(NOT(ISNUMBER($F14)),1,$F14),$G14)*(IF(NOT(ISNUMBER(T14)),R14,T14)),2)) -> 0 | V14: =IF(U$116=0,"",U14/U$116) | W14: =IF($K14=0,"",IF(NOT(ISNUMBER(T14)),R14,T14)/$K14-1) | AA14: =IF(MID($D14,3,1)="-","*********",ROUND(IF(NOT(ISNUMBER($G14)),IF(NOT(ISNUMBER($F14)),1,$F14),$G14)*(IF(NOT(ISNUMBER(Z14)),X14,Z14)),2)) -> 0 | AB14: =IF(AA$116=0,"",AA14/AA$116) | AC14: =IF($K14=0,"",IF(NOT(ISNUMBER(Z14)),X14,Z14)/$K14-1)
B15: =[3]!ArticleCode(Art_01.) -> 01. | C15: =[3]!ArticleDescription(Art_01.) -> AANNEMINGSMODALITEITEN | O15: =IF(MID($D15,3,1)="-","*********",ROUND(IF(NOT(ISNUMBER($G15)),IF(NOT(ISNUMBER($F15)),1,$F15),$G15)*(IF(NOT(ISNUMBER(N15)),L15,N15)),2)) -> 0 | P15: =IF(O$116=0,"",O15/O$116) | Q15: =IF($K15=0,"",IF(NOT(ISNUMBER(N15)),L15,N15)/$K15-1) | U15: =IF(MID($D15,3,1)="-","*********",ROUND(IF(NOT(ISNUMBER($G15)),IF(NOT(ISNUMBER($F15)),1,$F15),$G15)*(IF(NOT(ISNUMBER(T15)),R15,T15)),2)) -> 0 | V15: =IF(U$116=0,"",U15/U$116) | W15: =IF($K15=0,"",IF(NOT(ISNUMBER(T15)),R15,T15)/$K15-1) | AA15: =IF(MID($D15,3,1)="-","*********",ROUND(IF(NOT(ISNUMBER($G15)),IF(NOT(ISNUMBER($F15)),1,$F15),$G15)*(IF(NOT(ISNUMBER(Z15)),X15,Z15)),2)) -> 0 | AB15: =IF(AA$116=0,"",AA15/AA$116) | AC15: =IF($K15=0,"",IF(NOT(ISNUMBER(Z15)),X15,Z15)/$K15-1)
B16: =[3]!ArticleCode(Art_01.00.) -> 01.00. | C16: =[3]!ArticleDescription(Art_01.00.) -> aannemingsmodaliteiten - algemeen | O16: =IF(MID($D16,3,1)="-","*********",ROUND(IF(NOT(ISNUMBER($G16)),IF(NOT(ISNUMBER($F16)),1,$F16),$G16)*(IF(NOT(ISNUMBER(N16)),L16,N16)),2)) -> 0 | P16: =IF(O$116=0,"",O16/O$116) | Q16: =IF($K16=0,"",IF(NOT(ISNUMBER(N16)),L16,N16)/$K16-1) | U16: =IF(MID($D16,3,1)="-","*********",ROUND(IF(NOT(ISNUMBER($G16)),IF(NOT(ISNUMBER($F16)),1,$F16),$G16)*(IF(NOT(ISNUMBER(T16)),R16,T16)),2)) -> 0 | V16: =IF(U$116=0,"",U16/U$116) | W16: =IF($K16=0,"",IF(NOT(ISNUMBER(T16)),R16,T16)/$K16-1) | AA16: =IF(MID($D16,3,1)="-","*********",ROUND(IF(NOT(ISNUMBER($G16)),IF(NOT(ISNUMBER($F16)),1,$F16),$G16)*(IF(NOT(ISNUMBER(Z16)),X16,Z16)),2)) -> 0 | AB16: =IF(AA$116=0,"",AA16/AA$116) | AC16: =IF($K16=0,"",IF(NOT(ISNUMBER(Z16)),X16,Z16)/$K16-1)
A17: 1 | B17: =[3]!ArticleCode(Art_01.01.) -> 01.01. | C17: =[3]!ArticleDescription(Art_01.01.) -> aannemingsmodaliteiten – bestek | D17: =[3]!ArticleMeasureType(Art_01.01.) -> PM | E17: =[3]!ArticleMeasureUnit(Art_01.01.) | F17: =[3]!ArticleQuantity(Art_01.01.) | I17: =IF(RIGHT($D17,1)="-","************",ROUND(IF(NOT(ISNUMBER(G17)),IF(NOT(ISNUMBER(F17)),1,F17),G17)*H17,2)) -> 0 | O17: =IF(MID($D17,3,1)="-","*********",ROUND(IF(NOT(ISNUMBER($G17)),IF(NOT(ISNUMBER($F17)),1,$F17),$G17)*(IF(NOT(ISNUMBER(N17)),L17,N17)),2)) -> 0 | P17: =IF(O$116=0,"",O17/O$116) | Q17: =IF($K17=0,"",IF(NOT(ISNUMBER(N17)),L17,N17)/$K17-1) | U17: =IF(MID($D17,3,1)="-","*********",ROUND(IF(NOT(ISNUMBER($G17)),IF(NOT(ISNUMBER($F17)),1,$F17),$G17)*(IF(NOT(ISNUMBER(T17)),R17,T17)),2)) -> 0 | V17: =IF(U$116=0,"",U17/U$116) | W17: =IF($K17=0,"",IF(NOT(ISNUMBER(T17)),R17,T17)/$K17-1) | AA17: =IF(MID($D17,3,1)="-","*********",ROUND(IF(NOT(ISNUMBER($G17)),IF(NOT(ISNUMBER($F17)),1,$F17),$G17)*(IF(NOT(ISNUMBER(Z17)),X17,Z17)),2)) -> 0 | AB17: =IF(AA$116=0,"",AA17/AA$116) | AC17: =IF($K17=0,"",IF(NOT(ISNUMBER(Z17)),X17,Z17)/$K17-1)
A18: =A17+1 -> 2 | B18: =[3]!ArticleCode(Art_01.02.) -> 01.02. | C18: =[3]!ArticleDescription(Art_01.02.) -> aannemingsmodaliteiten – voorafgaand plaatsbezoek | D18: =[3]!ArticleMeasureType(Art_01.02.) -> PM | E18: =[3]!ArticleMeasureUnit(Art_01.02.) | F18: =[3]!ArticleQuantity(Art_01.02.) | I18: =IF(RIGHT($D18,1)="-","************",ROUND(IF(NOT(ISNUMBER(G18)),IF(NOT(ISNUMBER(F18)),1,F18),G18)*H18,2)) -> 0 | O18: =IF(MID($D18,3,1)="-","*********",ROUND(IF(NOT(ISNUMBER($G18)),IF(NOT(ISNUMBER($F18)),1,$F18),$G18)*(IF(NOT(ISNUMBER(N18)),L18,N18)),2)) -> 0 | P18: =IF(O$116=0,"",O18/O$116) | Q18: =IF($K18=0,"",IF(NOT(ISNUMBER(N18)),L18,N18)/$K18-1) | U18: =IF(MID($D18,3,1)="-","*********",ROUND(IF(NOT(ISNUMBER($G18)),IF(NOT(ISNUMBER($F18)),1,$F18),$G18)*(IF(NOT(ISNUMBER(T18)),R18,T18)),2)) -> 0 | V18: =IF(U$116=0,"",U18/U$116) | W18: =IF($K18=0,"",IF(NOT(ISNUMBER(T18)),R18,T18)/$K18-1) | AA18: =IF(MID($D18,3,1)="-","*********",ROUND(IF(NOT(ISNUMBER($G18)),IF(NOT(ISNUMBER($F18)),1,$F18),$G18)*(IF(NOT(ISNUMBER(Z18)),X18,Z18)),2)) -> 0 | AB18: =IF(AA$116=0,"",AA18/AA$116) | AC18: =IF($K18=0,"",IF(NOT(ISNUMBER(Z18)),X18,Z18)/$K18-1)
A19: =A18+1 -> 3 | B19: =[3]!ArticleCode(Art_01.03.) -> 01.03. | C19: =[3]!ArticleDescription(Art_01.03.) -> aannemingsmodaliteiten – burgerlijke aansprakelijkheid | D19: =[3]!ArticleMeasureType(Art_01.03.) -> PM | E19: =[3]!ArticleMeasureUnit(Art_01.03.) | F19: =[3]!ArticleQuantity(Art_01.03.) | I19: =IF(RIGHT($D19,1)="-","************",ROUND(IF(NOT(ISNUMBER(G19)),IF(NOT(ISNUMBER(F19)),1,F19),G19)*H19,2)) -> 0 | O19: =IF(MID($D19,3,1)="-","*********",ROUND(IF(NOT(ISNUMBER($G19)),IF(NOT(ISNUMBER($F19)),1,$F19),$G19)*(IF(NOT(ISNUMBER(N19)),L19,N19)),2)) -> 0 | P19: =IF(O$116=0,"",O19/O$116) | Q19: =IF($K19=0,"",IF(NOT(ISNUMBER(N19)),L19,N19)/$K19-1) | U19: =IF(MID($D19,3,1)="-","*********",ROUND(IF(NOT(ISNUMBER($G19)),IF(NOT(ISNUMBER($F19)),1,$F19),$G19)*(IF(NOT(ISNUMBER(T19)),R19,T19)),2)) -> 0 | V19: =IF(U$116=0,"",U19/U$116) | W19: =IF($K19=0,"",IF(NOT(ISNUMBER(T19)),R19,T19)/$K19-1) | AA19: =IF(MID($D19,3,1)="-","*********",ROUND(IF(NOT(ISNUMBER($G19)),IF(NOT(ISNUMBER($F19)),1,$F19),$G19)*(IF(NOT(ISNUMBER(Z19)),X19,Z19)),2)) -> 0 | AB19: =IF(AA$116=0,"",AA19/AA$116) | AC19: =IF($K19=0,"",IF(NOT(ISNUMBER(Z19)),X19,Z19)/$K19-1)
A20: =A19+1 -> 4 | B20: =[3]!ArticleCode(Art_01.04.) -> 01.04. | C20: =[3]!ArticleDescription(Art_01.04.) -> aannemingsmodaliteiten – volledigheid van inschrijving | D20: =[3]!ArticleMeasureType(Art_01.04.) -> PM | E20: =[3]!ArticleMeasureUnit(Art_01.04.) | F20: =[3]!ArticleQuantity(Art_01.04.) | I20: =IF(RIGHT($D20,1)="-","************",ROUND(IF(NOT(ISNUMBER(G20)),IF(NOT(ISNUMBER(F20)),1,F20),G20)*H20,2)) -> 0 | O20: =IF(MID($D20,3,1)="-","*********",ROUND(IF(NOT(ISNUMBER($G20)),IF(NOT(ISNUMBER($F20)),1,$F20),$G20)*(IF(NOT(ISNUMBER(N20)),L20,N20)),2)) -> 0 | P20: =IF(O$116=0,"",O20/O$116) | Q20: =IF($K20=0,"",IF(NOT(ISNUMBER(N20)),L20,N20)/$K20-1) | U20: =IF(MID($D20,3,1)="-","*********",ROUND(IF(NOT(ISNUMBER($G20)),IF(NOT(ISNUMBER($F20)),1,$F20),$G20)*(IF(NOT(ISNUMBER(T20)),R20,T20)),2)) -> 0 | V20: =IF(U$116=0,"",U20/U$116) | W20: =IF($K20=0,"",IF(NOT(ISNUMBER(T20)),R20,T20)/$K20-1) | AA20: =IF(MID($D20,3,1)="-","*********",ROUND(IF(NOT(ISNUMBER($G20)),IF(NOT(ISNUMBER($F20)),1,$F20),$G20)*(IF(NOT(ISNUMBER(Z20)),X20,Z20)),2)) -> 0 | AB20: =IF(AA$116=0,"",AA20/AA$116) | AC20: =IF($K20=0,"",IF(NOT(ISNUMBER(Z20)),X20,Z20)/$K20-1)
A21: =A20+1 -> 5 | B21: =[3]!ArticleCode(Art_01.05.) -> 01.05. | C21: =[3]!ArticleDescription(Art_01.05.) -> aannemingsmodaliteiten – onderaanneming | D21: =[3]!ArticleMeasureType(Art_01.05.) -> PM | E21: =[3]!ArticleMeasureUnit(Art_01.05.) | F21: =[3]!ArticleQuantity(Art_01.05.) | I21: =IF(RIGHT($D21,1)="-","************",ROUND(IF(NOT(ISNUMBER(G21)),IF(NOT(ISNUMBER(F21)),1,F21),G21)*H21,2)) -> 0 | O21: =IF(MID($D21,3,1)="-","*********",ROUND(IF(NOT(ISNUMBER($G21)),IF(NOT(ISNUMBER($F21)),1,$F21),$G21)*(IF(NOT(ISNUMBER(N21)),L21,N21)),2)) -> 0 | P21: =IF(O$116=0,"",O21/O$116) | Q21: =IF($K21=0,"",IF(NOT(ISNUMBER(N21)),L21,N21)/$K21-1) | U21: =IF(MID($D21,3,1)="-","*********",ROUND(IF(NOT(ISNUMBER($G21)),IF(NOT(ISNUMBER($F21)),1,$F21),$G21)*(IF(NOT(ISNUMBER(T21)),R21,T21)),2)) -> 0 | V21: =IF(U$116=0,"",U21/U$116) | W21: =IF($K21=0,"",IF(NOT(ISNUMBER(T21)),R21,T21)/$K21-1) | AA21: =IF(MID($D21,3,1)="-","*********",ROUND(IF(NOT(ISNUMBER($G21)),IF(NOT(ISNUMBER($F21)),1,$F21),$G21)*(IF(NOT(ISNUMBER(Z21)),X21,Z21)),2)) -> 0 | AB21: =IF(AA$116=0,"",AA21/AA$116) | AC21: =IF($K21=0,"",IF(NOT(ISNUMBER(Z21)),X21,Z21)/$K21-1)
A22: =A21+1 -> 6 | B22: =[3]!ArticleCode(Art_01.06.) -> 01.06. | C22: =[3]!ArticleDescription(Art_01.06.) -> aannemingsmodaliteiten – verrekeningen | D22: =[3]!ArticleMeasureType(Art_01.06.) -> PM | E22: =[3]!ArticleMeasureUnit(Art_01.06.) | F22: =[3]!ArticleQuantity(Art_01.06.) | I22: =IF(RIGHT($D22,1)="-","************",ROUND(IF(NOT(ISNUMBER(G22)),IF(NOT(ISNUMBER(F22)),1,F22),G22)*H22,2)) -> 0 | O22: =IF(MID($D22,3,1)="-","*********",ROUND(IF(NOT(ISNUMBER($G22)),IF(NOT(ISNUMBER($F22)),1,$F22),$G22)*(IF(NOT(ISNUMBER(N22)),L22,N22)),2)) -> 0 | P22: =IF(O$116=0,"",O22/O$116) | Q22: =IF($K22=0,"",IF(NOT(ISNUMBER(N22)),L22,N22)/$K22-1) | U22: =IF(MID($D22,3,1)="-","*********",ROUND(IF(NOT(ISNUMBER($G22)),IF(NOT(ISNUMBER($F22)),1,$F22),$G22)*(IF(NOT(ISNUMBER(T22)),R22,T22)),2)) -> 0 | V22: =IF(U$116=0,"",U22/U$116) | W22: =IF($K22=0,"",IF(NOT(ISNUMBER(T22)),R22,T22)/$K22-1) | AA22: =IF(MID($D22,3,1)="-","*********",ROUND(IF(NOT(ISNUMBER($G22)),IF(NOT(ISNUMBER($F22)),1,$F22),$G22)*(IF(NOT(ISNUMBER(Z22)),X22,Z22)),2)) -> 0 | AB22: =IF(AA$116=0,"",AA22/AA$116) | AC22: =IF($K22=0,"",IF(NOT(ISNUMBER(Z22)),X22,Z22)/$K22-1)
A23: =A22+1 -> 7 | B23: =[3]!ArticleCode(Art_01.08.) -> 01.08. | C23: =[3]!ArticleDescription(Art_01.08.) -> aannemingsmodaliteiten – materialenlijst | D23: =[3]!ArticleMeasureType(Art_01.08.) -> PM | E23: =[3]!ArticleMeasureUnit(Art_01.08.) | F23: =[3]!ArticleQuantity(Art_01.08.) | I23: =IF(RIGHT($D23,1)="-","************",ROUND(IF(NOT(ISNUMBER(G23)),IF(NOT(ISNUMBER(F23)),1,F23),G23)*H23,2)) -> 0 | O23: =IF(MID($D23,3,1)="-","*********",ROUND(IF(NOT(ISNUMBER($G23)),IF(NOT(ISNUMBER($F23)),1,$F23),$G23)*(IF(NOT(ISNUMBER(N23)),L23,N23)),2)) -> 0 | P23: =IF(O$116=0,"",O23/O$116) | Q23: =IF($K23=0,"",IF(NOT(ISNUMBER(N23)),L23,N23)/$K23-1) | U23: =IF(MID($D23,3,1)="-","*********",ROUND(IF(NOT(ISNUMBER($G23)),IF(NOT(ISNUMBER($F23)),1,$F23),$G23)*(IF(NOT(ISNUMBER(T23)),R23,T23)),2)) -> 0 | V23: =IF(U$116=0,"",U23/U$116) | W23: =IF($K23=0,"",IF(NOT(ISNUMBER(T23)),R23,T23)/$K23-1) | AA23: =IF(MID($D23,3,1)="-","*********",ROUND(IF(NOT(ISNUMBER($G23)),IF(NOT(ISNUMBER($F23)),1,$F23),$G23)*(IF(NOT(ISNUMBER(Z23)),X23,Z23)),2)) -> 0 | AB23: =IF(AA$116=0,"",AA23/AA$116) | AC23: =IF($K23=0,"",IF(NOT(ISNUMBER(Z23)),X23,Z23)/$K23-1)
B24: =[3]!ArticleCode(Art_01.20.) -> 01.20. | C24: =[3]!ArticleDescription(Art_01.20.) -> werfcoördinatie – algemeen | O24: =IF(MID($D24,3,1)="-","*********",ROUND(IF(NOT(ISNUMBER($G24)),IF(NOT(ISNUMBER($F24)),1,$F24),$G24)*(IF(NOT(ISNUMBER(N24)),L24,N24)),2)) -> 0 | P24: =IF(O$116=0,"",O24/O$116) | Q24: =IF($K24=0,"",IF(NOT(ISNUMBER(N24)),L24,N24)/$K24-1) | U24: =IF(MID($D24,3,1)="-","*********",ROUND(IF(NOT(ISNUMBER($G24)),IF(NOT(ISNUMBER($F24)),1,$F24),$G24)*(IF(NOT(ISNUMBER(T24)),R24,T24)),2)) -> 0 | V24: =IF(U$116=0,"",U24/U$116) | W24: =IF($K24=0,"",IF(NOT(ISNUMBER(T24)),R24,T24)/$K24-1) | AA24: =IF(MID($D24,3,1)="-","*********",ROUND(IF(NOT(ISNUMBER($G24)),IF(NOT(ISNUMBER($F24)),1,$F24),$G24)*(IF(NOT(ISNUMBER(Z24)),X24,Z24)),2)) -> 0 | AB24: =IF(AA$116=0,"",AA24/AA$116) | AC24: =IF($K24=0,"",IF(NOT(ISNUMBER(Z24)),X24,Z24)/$K24-1)
A25: =A23+1 -> 8 | B25: =[3]!ArticleCode(Art_01.21.) -> 01.21. | C25: =[3]!ArticleDescription(Art_01.21.) -> werfcoördinatie – planning van de werken | D25: =[3]!ArticleMeasureType(Art_01.21.) -> PM | E25: =[3]!ArticleMeasureUnit(Art_01.21.) | F25: =[3]!ArticleQuantity(Art_01.21.) | I25: =IF(RIGHT($D25,1)="-","************",ROUND(IF(NOT(ISNUMBER(G25)),IF(NOT(ISNUMBER(F25)),1,F25),G25)*H25,2)) -> 0 | O25: =IF(MID($D25,3,1)="-","*********",ROUND(IF(NOT(ISNUMBER($G25)),IF(NOT(ISNUMBER($F25)),1,$F25),$G25)*(IF(NOT(ISNUMBER(N25)),L25,N25)),2)) -> 0 | P25: =IF(O$116=0,"",O25/O$116) | Q25: =IF($K25=0,"",IF(NOT(ISNUMBER(N25)),L25,N25)/$K25-1) | U25: =IF(MID($D25,3,1)="-","*********",ROUND(IF(NOT(ISNUMBER($G25)),IF(NOT(ISNUMBER($F25)),1,$F25),$G25)*(IF(NOT(ISNUMBER(T25)),R25,T25)),2)) -> 0 | V25: =IF(U$116=0,"",U25/U$116) | W25: =IF($K25=0,"",IF(NOT(ISNUMBER(T25)),R25,T25)/$K25-1) | AA25: =IF(MID($D25,3,1)="-","*********",ROUND(IF(NOT(ISNUMBER($G25)),IF(NOT(ISNUMBER($F25)),1,$F25),$G25)*(IF(NOT(ISNUMBER(Z25)),X25,Z25)),2)) -> 0 | AB25: =IF(AA$116=0,"",AA25/AA$116) | AC25: =IF($K25=0,"",IF(NOT(ISNUMBER(Z25)),X25,Z25)/$K25-1)
A26: =A25+1 -> 9 | B26: =[3]!ArticleCode(Art_01.22.) -> 01.22. | C26: =[3]!ArticleDescription(Art_01.22.) -> werfcoördinatie – werfleiding en controle | D26: =[3]!ArticleMeasureType(Art_01.22.) -> PM | E26: =[3]!ArticleMeasureUnit(Art_01.22.) | F26: =[3]!ArticleQuantity(Art_01.22.) | I26: =IF(RIGHT($D26,1)="-","************",ROUND(IF(NOT(ISNUMBER(G26)),IF(NOT(ISNUMBER(F26)),1,F26),G26)*H26,2)) -> 0 | O26: =IF(MID($D26,3,1)="-","*********",ROUND(IF(NOT(ISNUMBER($G26)),IF(NOT(ISNUMBER($F26)),1,$F26),$G26)*(IF(NOT(ISNUMBER(N26)),L26,N26)),2)) -> 0 | P26: =IF(O$116=0,"",O26/O$116) | Q26: =IF($K26=0,"",IF(NOT(ISNUMBER(N26)),L26,N26)/$K26-1) | U26: =IF(MID($D26,3,1)="-","*********",ROUND(IF(NOT(ISNUMBER($G26)),IF(NOT(ISNUMBER($F26)),1,$F26),$G26)*(IF(NOT(ISNUMBER(T26)),R26,T26)),2)) -> 0 | V26: =IF(U$116=0,"",U26/U$116) | W26: =IF($K26=0,"",IF(NOT(ISNUMBER(T26)),R26,T26)/$K26-1) | AA26: =IF(MID($D26,3,1)="-","*********",ROUND(IF(NOT(ISNUMBER($G26)),IF(NOT(ISNUMBER($F26)),1,$F26),$G26)*(IF(NOT(ISNUMBER(Z26)),X26,Z26)),2)) -> 0 | AB26: =IF(AA$116=0,"",AA26/AA$116) | AC26: =IF($K26=0,"",IF(NOT(ISNUMBER(Z26)),X26,Z26)/$K26-1)
A27: =A26+1 -> 10 | B27: =[3]!ArticleCode(Art_01.23.) -> 01.23. | C27: =[3]!ArticleDescription(Art_01.23.) -> werfcoördinatie – werfvergaderingen | D27: =[3]!ArticleMeasureType(Art_01.23.) -> PM | E27: =[3]!ArticleMeasureUnit(Art_01.23.) | F27: =[3]!ArticleQuantity(Art_01.23.) | I27: =IF(RIGHT($D27,1)="-","************",ROUND(IF(NOT(ISNUMBER(G27)),IF(NOT(ISNUMBER(F27)),1,F27),G27)*H27,2)) -> 0 | O27: =IF(MID($D27,3,1)="-","*********",ROUND(IF(NOT(ISNUMBER($G27)),IF(NOT(ISNUMBER($F27)),1,$F27),$G27)*(IF(NOT(ISNUMBER(N27)),L27,N27)),2)) -> 0 | P27: =IF(O$116=0,"",O27/O$116) | Q27: =IF($K27=0,"",IF(NOT(ISNUMBER(N27)),L27,N27)/$K27-1) | U27: =IF(MID($D27,3,1)="-","*********",ROUND(IF(NOT(ISNUMBER($G27)),IF(NOT(ISNUMBER($F27)),1,$F27),$G27)*(IF(NOT(ISNUMBER(T27)),R27,T27)),2)) -> 0 | V27: =IF(U$116=0,"",U27/U$116) | W27: =IF($K27=0,"",IF(NOT(ISNUMBER(T27)),R27,T27)/$K27-1) | AA27: =IF(MID($D27,3,1)="-","*********",ROUND(IF(NOT(ISNUMBER($G27)),IF(NOT(ISNUMBER($F27)),1,$F27),$G27)*(IF(NOT(ISNUMBER(Z27)),X27,Z27)),2)) -> 0 | AB27: =IF(AA$116=0,"",AA27/AA$116) | AC27: =IF($K27=0,"",IF(NOT(ISNUMBER(Z27)),X27,Z27)/$K27-1)
A28: =A27+1 -> 11 | B28: =[3]!ArticleCode(Art_01.25.) -> 01.25. | C28: =[3]!ArticleDescription(Art_01.25.) -> werfcoördinatie – as-builtdossier | D28: =[3]!ArticleMeasureType(Art_01.25.) -> PM | E28: =[3]!ArticleMeasureUnit(Art_01.25.) | F28: =[3]!ArticleQuantity(Art_01.25.) | I28: =IF(RIGHT($D28,1)="-","************",ROUND(IF(NOT(ISNUMBER(G28)),IF(NOT(ISNUMBER(F28)),1,F28),G28)*H28,2)) -> 0 | O28: =IF(MID($D28,3,1)="-","*********",ROUND(IF(NOT(ISNUMBER($G28)),IF(NOT(ISNUMBER($F28)),1,$F28),$G28)*(IF(NOT(ISNUMBER(N28)),L28,N28)),2)) -> 0 | P28: =IF(O$116=0,"",O28/O$116) | Q28: =IF($K28=0,"",IF(NOT(ISNUMBER(N28)),L28,N28)/$K28-1) | U28: =IF(MID($D28,3,1)="-","*********",ROUND(IF(NOT(ISNUMBER($G28)),IF(NOT(ISNUMBER($F28)),1,$F28),$G28)*(IF(NOT(ISNUMBER(T28)),R28,T28)),2)) -> 0 | V28: =IF(U$116=0,"",U28/U$116) | W28: =IF($K28=0,"",IF(NOT(ISNUMBER(T28)),R28,T28)/$K28-1) | AA28: =IF(MID($D28,3,1)="-","*********",ROUND(IF(NOT(ISNUMBER($G28)),IF(NOT(ISNUMBER($F28)),1,$F28),$G28)*(IF(NOT(ISNUMBER(Z28)),X28,Z28)),2)) -> 0 | AB28: =IF(AA$116=0,"",AA28/AA$116) | AC28: =IF($K28=0,"",IF(NOT(ISNUMBER(Z28)),X28,Z28)/$K28-1)
B29: =[3]!ArticleCode(Art_01.30.) -> 01.30. | C29: =[3]!ArticleDescription(Art_01.30.) -> werfcondities – algemeen | O29: =IF(MID($D29,3,1)="-","*********",ROUND(IF(NOT(ISNUMBER($G29)),IF(NOT(ISNUMBER($F29)),1,$F29),$G29)*(IF(NOT(ISNUMBER(N29)),L29,N29)),2)) -> 0 | P29: =IF(O$116=0,"",O29/O$116) | Q29: =IF($K29=0,"",IF(NOT(ISNUMBER(N29)),L29,N29)/$K29-1) | U29: =IF(MID($D29,3,1)="-","*********",ROUND(IF(NOT(ISNUMBER($G29)),IF(NOT(ISNUMBER($F29)),1,$F29),$G29)*(IF(NOT(ISNUMBER(T29)),R29,T29)),2)) -> 0 | V29: =IF(U$116=0,"",U29/U$116) | W29: =IF($K29=0,"",IF(NOT(ISNUMBER(T29)),R29,T29)/$K29-1) | AA29: =IF(MID($D29,3,1)="-","*********",ROUND(IF(NOT(ISNUMBER($G29)),IF(NOT(ISNUMBER($F29)),1,$F29),$G29)*(IF(NOT(ISNUMBER(Z29)),X29,Z29)),2)) -> 0 | AB29: =IF(AA$116=0,"",AA29/AA$116) | AC29: =IF($K29=0,"",IF(NOT(ISNUMBER(Z29)),X29,Z29)/$K29-1)
A30: =A28+1 -> 12 | B30: =[3]!ArticleCode(Art_01.31.) -> 01.31. | C30: =[3]!ArticleDescription(Art_01.31.) -> werfcondities – orde en netheid | D30: =[3]!ArticleMeasureType(Art_01.31.) -> PM | E30: =[3]!ArticleMeasureUnit(Art_01.31.) | F30: =[3]!ArticleQuantity(Art_01.31.) | I30: =IF(RIGHT($D30,1)="-","************",ROUND(IF(NOT(ISNUMBER(G30)),IF(NOT(ISNUMBER(F30)),1,F30),G30)*H30,2)) -> 0 | O30: =IF(MID($D30,3,1)="-","*********",ROUND(IF(NOT(ISNUMBER($G30)),IF(NOT(ISNUMBER($F30)),1,$F30),$G30)*(IF(NOT(ISNUMBER(N30)),L30,N30)),2)) -> 0 | P30: =IF(O$116=0,"",O30/O$116) | Q30: =IF($K30=0,"",IF(NOT(ISNUMBER(N30)),L30,N30)/$K30-1) | U30: =IF(MID($D30,3,1)="-","*********",ROUND(IF(NOT(ISNUMBER($G30)),IF(NOT(ISNUMBER($F30)),1,$F30),$G30)*(IF(NOT(ISNUMBER(T30)),R30,T30)),2)) -> 0 | V30: =IF(U$116=0,"",U30/U$116) | W30: =IF($K30=0,"",IF(NOT(ISNUMBER(T30)),R30,T30)/$K30-1) | AA30: =IF(MID($D30,3,1)="-","*********",ROUND(IF(NOT(ISNUMBER($G30)),IF(NOT(ISNUMBER($F30)),1,$F30),$G30)*(IF(NOT(ISNUMBER(Z30)),X30,Z30)),2)) -> 0 | AB30: =IF(AA$116=0,"",AA30/AA$116) | AC30: =IF($K30=0,"",IF(NOT(ISNUMBER(Z30)),X30,Z30)/$K30-1)
A31: =A30+1 -> 13 | B31: =[3]!ArticleCode(Art_01.32.) -> 01.32. | C31: =[3]!ArticleDescription(Art_01.32.) -> werfcondities – geluids- en stofhinder | D31: =[3]!ArticleMeasureType(Art_01.32.) -> PM | E31: =[3]!ArticleMeasureUnit(Art_01.32.) | F31: =[3]!ArticleQuantity(Art_01.32.) | I31: =IF(RIGHT($D31,1)="-","************",ROUND(IF(NOT(ISNUMBER(G31)),IF(NOT(ISNUMBER(F31)),1,F31),G31)*H31,2)) -> 0 | O31: =IF(MID($D31,3,1)="-","*********",ROUND(IF(NOT(ISNUMBER($G31)),IF(NOT(ISNUMBER($F31)),1,$F31),$G31)*(IF(NOT(ISNUMBER(N31)),L31,N31)),2)) -> 0 | P31: =IF(O$116=0,"",O31/O$116) | Q31: =IF($K31=0,"",IF(NOT(ISNUMBER(N31)),L31,N31)/$K31-1) | U31: =IF(MID($D31,3,1)="-","*********",ROUND(IF(NOT(ISNUMBER($G31)),IF(NOT(ISNUMBER($F31)),1,$F31),$G31)*(IF(NOT(ISNUMBER(T31)),R31,T31)),2)) -> 0 | V31: =IF(U$116=0,"",U31/U$116) | W31: =IF($K31=0,"",IF(NOT(ISNUMBER(T31)),R31,T31)/$K31-1) | AA31: =IF(MID($D31,3,1)="-","*********",ROUND(IF(NOT(ISNUMBER($G31)),IF(NOT(ISNUMBER($F31)),1,$F31),$G31)*(IF(NOT(ISNUMBER(Z31)),X31,Z31)),2)) -> 0 | AB31: =IF(AA$116=0,"",AA31/AA$116) | AC31: =IF($K31=0,"",IF(NOT(ISNUMBER(Z31)),X31,Z31)/$K31-1)
A32: =A31+1 -> 14 | B32: =[3]!ArticleCode(Art_01.33.) -> 01.33. | C32: =[3]!ArticleDescription(Art_01.33.) -> werfcondities – nazorg | D32: =[3]!ArticleMeasureType(Art_01.33.) -> PM | E32: =[3]!ArticleMeasureUnit(Art_01.33.) | F32: =[3]!ArticleQuantity(Art_01.33.) | I32: =IF(RIGHT($D32,1)="-","************",ROUND(IF(NOT(ISNUMBER(G32)),IF(NOT(ISNUMBER(F32)),1,F32),G32)*H32,2)) -> 0 | O32: =IF(MID($D32,3,1)="-","*********",ROUND(IF(NOT(ISNUMBER($G32)),IF(NOT(ISNUMBER($F32)),1,$F32),$G32)*(IF(NOT(ISNUMBER(N32)),L32,N32)),2)) -> 0 | P32: =IF(O$116=0,"",O32/O$116) | Q32: =IF($K32=0,"",IF(NOT(ISNUMBER(N32)),L32,N32)/$K32-1) | U32: =IF(MID($D32,3,1)="-","*********",ROUND(IF(NOT(ISNUMBER($G32)),IF(NOT(ISNUMBER($F32)),1,$F32),$G32)*(IF(NOT(ISNUMBER(T32)),R32,T32)),2)) -> 0 | V32: =IF(U$116=0,"",U32/U$116) | W32: =IF($K32=0,"",IF(NOT(ISNUMBER(T32)),R32,T32)/$K32-1) | AA32: =IF(MID($D32,3,1)="-","*********",ROUND(IF(NOT(ISNUMBER($G32)),IF(NOT(ISNUMBER($F32)),1,$F32),$G32)*(IF(NOT(ISNUMBER(Z32)),X32,Z32)),2)) -> 0 | AB32: =IF(AA$116=0,"",AA32/AA$116) | AC32: =IF($K32=0,"",IF(NOT(ISNUMBER(Z32)),X32,Z32)/$K32-1)
A33: =A32+1 -> 15 | B33: =[3]!ArticleCode(Art_01.40.) -> 01.40. | C33: =[3]!ArticleDescription(Art_01.40.) -> veiligheidsvoorschriften – algemeen | D33: =[3]!ArticleMeasureType(Art_01.40.) -> SOG | E33: =[3]!ArticleMeasureUnit(Art_01.40.) | F33: =[3]!ArticleQuantity(Art_01.40.) | I33: =IF(RIGHT($D33,1)="-","************",ROUND(IF(NOT(ISNUMBER(G33)),IF(NOT(ISNUMBER(F33)),1,F33),G33)*H33,2)) -> 0 | O33: =IF(MID($D33,3,1)="-","*********",ROUND(IF(NOT(ISNUMBER($G33)),IF(NOT(ISNUMBER($F33)),1,$F33),$G33)*(IF(NOT(ISNUMBER(N33)),L33,N33)),2)) -> 0 | P33: =IF(O$116=0,"",O33/O$116) | Q33: =IF($K33=0,"",IF(NOT(ISNUMBER(N33)),L33,N33)/$K33-1) | U33: =IF(MID($D33,3,1)="-","*********",ROUND(IF(NOT(ISNUMBER($G33)),IF(NOT(ISNUMBER($F33)),1,$F33),$G33)*(IF(NOT(ISNUMBER(T33)),R33,T33)),2)) -> 0 | V33: =IF(U$116=0,"",U33/U$116) | W33: =IF($K33=0,"",IF(NOT(ISNUMBER(T33)),R33,T33)/$K33-1) | AA33: =IF(MID($D33,3,1)="-","*********",ROUND(IF(NOT(ISNUMBER($G33)),IF(NOT(ISNUMBER($F33)),1,$F33),$G33)*(IF(NOT(ISNUMBER(Z33)),X33,Z33)),2)) -> 0 | AB33: =IF(AA$116=0,"",AA33/AA$116) | AC33: =IF($K33=0,"",IF(NOT(ISNUMBER(Z33)),X33,Z33)/$K33-1)
J34: =SUBTOTAL(9,I15:I33) -> 0 | O34: =IF(MID($D34,3,1)="-","*********",ROUND(IF(NOT(ISNUMBER($G34)),IF(NOT(ISNUMBER($F34)),1,$F34),$G34)*(IF(NOT(ISNUMBER(N34)),L34,N34)),2)) -> 0 | P34: =IF(O$116=0,"",O34/O$116) | Q34: =IF($K34=0,"",IF(NOT(ISNUMBER(N34)),L34,N34)/$K34-1) | U34: =IF(MID($D34,3,1)="-","*********",ROUND(IF(NOT(ISNUMBER($G34)),IF(NOT(ISNUMBER($F34)),1,$F34),$G34)*(IF(NOT(ISNUMBER(T34)),R34,T34)),2)) -> 0 | V34: =IF(U$116=0,"",U34/U$116) | W34: =IF($K34=0,"",IF(NOT(ISNUMBER(T34)),R34,T34)/$K34-1) | AA34: =IF(MID($D34,3,1)="-","*********",ROUND(IF(NOT(ISNUMBER($G34)),IF(NOT(ISNUMBER($F34)),1,$F34),$G34)*(IF(NOT(ISNUMBER(Z34)),X34,Z34)),2)) -> 0 | AB34: =IF(AA$116=0,"",AA34/AA$116) | AC34: =IF($K34=0,"",IF(NOT(ISNUMBER(Z34)),X34,Z34)/$K34-1)
O35: =IF(MID($D35,3,1)="-","*********",ROUND(IF(NOT(ISNUMBER($G35)),IF(NOT(ISNUMBER($F35)),1,$F35),$G35)*(IF(NOT(ISNUMBER(N35)),L35,N35)),2)) -> 0 | P35: =IF(O$116=0,"",O35/O$116) | Q35: =IF($K35=0,"",IF(NOT(ISNUMBER(N35)),L35,N35)/$K35-1) | U35: =IF(MID($D35,3,1)="-","*********",ROUND(IF(NOT(ISNUMBER($G35)),IF(NOT(ISNUMBER($F35)),1,$F35),$G35)*(IF(NOT(ISNUMBER(T35)),R35,T35)),2)) -> 0 | V35: =IF(U$116=0,"",U35/U$116) | W35: =IF($K35=0,"",IF(NOT(ISNUMBER(T35)),R35,T35)/$K35-1) | AA35: =IF(MID($D35,3,1)="-","*********",ROUND(IF(NOT(ISNUMBER($G35)),IF(NOT(ISNUMBER($F35)),1,$F35),$G35)*(IF(NOT(ISNUMBER(Z35)),X35,Z35)),2)) -> 0 | AB35: =IF(AA$116=0,"",AA35/AA$116) | AC35: =IF($K35=0,"",IF(NOT(ISNUMBER(Z35)),X35,Z35)/$K35-1)
B36: Hoofdstuk 2 | O36: =IF(MID($D36,3,1)="-","*********",ROUND(IF(NOT(ISNUMBER($G36)),IF(NOT(ISNUMBER($F36)),1,$F36),$G36)*(IF(NOT(ISNUMBER(N36)),L36,N36)),2)) -> 0 | P36: =IF(O$116=0,"",O36/O$116) | Q36: =IF($K36=0,"",IF(NOT(ISNUMBER(N36)),L36,N36)/$K36-1) | U36: =IF(MID($D36,3,1)="-","*********",ROUND(IF(NOT(ISNUMBER($G36)),IF(NOT(ISNUMBER($F36)),1,$F36),$G36)*(IF(NOT(ISNUMBER(T36)),R36,T36)),2)) -> 0 | V36: =IF(U$116=0,"",U36/U$116) | W36: =IF($K36=0,"",IF(NOT(ISNUMBER(T36)),R36,T36)/$K36-1) | AA36: =IF(MID($D36,3,1)="-","*********",ROUND(IF(NOT(ISNUMBER($G36)),IF(NOT(ISNUMBER($F36)),1,$F36),$G36)*(IF(NOT(ISNUMBER(Z36)),X36,Z36)),2)) -> 0 | AB36: =IF(AA$116=0,"",AA36/AA$116) | AC36: =IF($K36=0,"",IF(NOT(ISNUMBER(Z36)),X36,Z36)/$K36-1)
B37: =[3]!ArticleCode(Art_02.) -> 02. | C37: =[3]!ArticleDescription(Art_02.) -> BOUWPLAATSVOORZIENINGEN | O37: =IF(MID($D37,3,1)="-","*********",ROUND(IF(NOT(ISNUMBER($G37)),IF(NOT(ISNUMBER($F37)),1,$F37),$G37)*(IF(NOT(ISNUMBER(N37)),L37,N37)),2)) -> 0 | P37: =IF(O$116=0,"",O37/O$116) | Q37: =IF($K37=0,"",IF(NOT(ISNUMBER(N37)),L37,N37)/$K37-1) | U37: =IF(MID($D37,3,1)="-","*********",ROUND(IF(NOT(ISNUMBER($G37)),IF(NOT(ISNUMBER($F37)),1,$F37),$G37)*(IF(NOT(ISNUMBER(T37)),R37,T37)),2)) -> 0 | V37: =IF(U$116=0,"",U37/U$116) | W37: =IF($K37=0,"",IF(NOT(ISNUMBER(T37)),R37,T37)/$K37-1) | AA37: =IF(MID($D37,3,1)="-","*********",ROUND(IF(NOT(ISNUMBER($G37)),IF(NOT(ISNUMBER($F37)),1,$F37),$G37)*(IF(NOT(ISNUMBER(Z37)),X37,Z37)),2)) -> 0 | AB37: =IF(AA$116=0,"",AA37/AA$116) | AC37: =IF($K37=0,"",IF(NOT(ISNUMBER(Z37)),X37,Z37)/$K37-1)
B38: =[3]!ArticleCode(Art_02.00.) -> 02.00. | C38: =[3]!ArticleDescription(Art_02.00.) -> bouwplaatsvoorzieningen - algemeen | O38: =IF(MID($D38,3,1)="-","*********",ROUND(IF(NOT(ISNUMBER($G38)),IF(NOT(ISNUMBER($F38)),1,$F38),$G38)*(IF(NOT(ISNUMBER(N38)),L38,N38)),2)) -> 0 | P38: =IF(O$116=0,"",O38/O$116) | Q38: =IF($K38=0,"",IF(NOT(ISNUMBER(N38)),L38,N38)/$K38-1) | U38: =IF(MID($D38,3,1)="-","*********",ROUND(IF(NOT(ISNUMBER($G38)),IF(NOT(ISNUMBER($F38)),1,$F38),$G38)*(IF(NOT(ISNUMBER(T38)),R38,T38)),2)) -> 0 | V38: =IF(U$116=0,"",U38/U$116) | W38: =IF($K38=0,"",IF(NOT(ISNUMBER(T38)),R38,T38)/$K38-1) | AA38: =IF(MID($D38,3,1)="-","*********",ROUND(IF(NOT(ISNUMBER($G38)),IF(NOT(ISNUMBER($F38)),1,$F38),$G38)*(IF(NOT(ISNUMBER(Z38)),X38,Z38)),2)) -> 0 | AB38: =IF(AA$116=0,"",AA38/AA$116) | AC38: =IF($K38=0,"",IF(NOT(ISNUMBER(Z38)),X38,Z38)/$K38-1)
B39: =[3]!ArticleCode(Art_02.10.) -> 02.10. | C39: =[3]!ArticleDescription(Art_02.10.) -> beschermingswerken – algemeen | O39: =IF(MID($D39,3,1)="-","*********",ROUND(IF(NOT(ISNUMBER($G39)),IF(NOT(ISNUMBER($F39)),1,$F39),$G39)*(IF(NOT(ISNUMBER(N39)),L39,N39)),2)) -> 0 | P39: =IF(O$116=0,"",O39/O$116) | Q39: =IF($K39=0,"",IF(NOT(ISNUMBER(N39)),L39,N39)/$K39-1) | U39: =IF(MID($D39,3,1)="-","*********",ROUND(IF(NOT(ISNUMBER($G39)),IF(NOT(ISNUMBER($F39)),1,$F39),$G39)*(IF(NOT(ISNUMBER(T39)),R39,T39)),2)) -> 0 | V39: =IF(U$116=0,"",U39/U$116) | W39: =IF($K39=0,"",IF(NOT(ISNUMBER(T39)),R39,T39)/$K39-1) | AA39: =IF(MID($D39,3,1)="-","*********",ROUND(IF(NOT(ISNUMBER($G39)),IF(NOT(ISNUMBER($F39)),1,$F39),$G39)*(IF(NOT(ISNUMBER(Z39)),X39,Z39)),2)) -> 0 | AB39: =IF(AA$116=0,"",AA39/AA$116) | AC39: =IF($K39=0,"",IF(NOT(ISNUMBER(Z39)),X39,Z39)/$K39-1)
A40: =A33+1 -> 16 | B40: =[3]!ArticleCode(Art_02.11.) -> 02.11. | C40: =[3]!ArticleDescription(Art_02.11.) -> beschermingswerken - openbare weg | D40: =[3]!ArticleMeasureType(Art_02.11.) -> PM | E40: =[3]!ArticleMeasureUnit(Art_02.11.) | F40: =[3]!ArticleQuantity(Art_02.11.) | I40: =IF(RIGHT($D40,1)="-","************",ROUND(IF(NOT(ISNUMBER(G40)),IF(NOT(ISNUMBER(F40)),1,F40),G40)*H40,2)) -> 0 | O40: =IF(MID($D40,3,1)="-","*********",ROUND(IF(NOT(ISNUMBER($G40)),IF(NOT(ISNUMBER($F40)),1,$F40),$G40)*(IF(NOT(ISNUMBER(N40)),L40,N40)),2)) -> 0 | P40: =IF(O$116=0,"",O40/O$116) | Q40: =IF($K40=0,"",IF(NOT(ISNUMBER(N40)),L40,N40)/$K40-1) | U40: =IF(MID($D40,3,1)="-","*********",ROUND(IF(NOT(ISNUMBER($G40)),IF(NOT(ISNUMBER($F40)),1,$F40),$G40)*(IF(NOT(ISNUMBER(T40)),R40,T40)),2)) -> 0 | V40: =IF(U$116=0,"",U40/U$116) | W40: =IF($K40=0,"",IF(NOT(ISNUMBER(T40)),R40,T40)/$K40-1) | AA40: =IF(MID($D40,3,1)="-","*********",ROUND(IF(NOT(ISNUMBER($G40)),IF(NOT(ISNUMBER($F40)),1,$F40),$G40)*(IF(NOT(ISNUMBER(Z40)),X40,Z40)),2)) -> 0 | AB40: =IF(AA$116=0,"",AA40/AA$116) | AC40: =IF($K40=0,"",IF(NOT(ISNUMBER(Z40)),X40,Z40)/$K40-1)
B41: =[3]!ArticleCode(Art_02.12.) -> 02.12. | C41: =[3]!ArticleDescription(Art_02.12.) -> beschermingswerken - beplantingen | O41: =IF(MID($D41,3,1)="-","*********",ROUND(IF(NOT(ISNUMBER($G41)),IF(NOT(ISNUMBER($F41)),1,$F41),$G41)*(IF(NOT(ISNUMBER(N41)),L41,N41)),2)) -> 0 | P41: =IF(O$116=0,"",O41/O$116) | Q41: =IF($K41=0,"",IF(NOT(ISNUMBER(N41)),L41,N41)/$K41-1) | U41: =IF(MID($D41,3,1)="-","*********",ROUND(IF(NOT(ISNUMBER($G41)),IF(NOT(ISNUMBER($F41)),1,$F41),$G41)*(IF(NOT(ISNUMBER(T41)),R41,T41)),2)) -> 0 | V41: =IF(U$116=0,"",U41/U$116) | W41: =IF($K41=0,"",IF(NOT(ISNUMBER(T41)),R41,T41)/$K41-1) | AA41: =IF(MID($D41,3,1)="-","*********",ROUND(IF(NOT(ISNUMBER($G41)),IF(NOT(ISNUMBER($F41)),1,$F41),$G41)*(IF(NOT(ISNUMBER(Z41)),X41,Z41)),2)) -> 0 | AB41: =IF(AA$116=0,"",AA41/AA$116) | AC41: =IF($K41=0,"",IF(NOT(ISNUMBER(Z41)),X41,Z41)/$K41-1)
A42: =A40+1 -> 17 | B42: =[3]!ArticleCode(Art_02.12.10.) -> 02.12.10. | C42: =[3]!ArticleDescription(Art_02.12.10.) -> beschermingswerken - beplantingen/bomen | D42: =[3]!ArticleMeasureType(Art_02.12.10.) -> PM | E42: =[3]!ArticleMeasureUnit(Art_02.12.10.) | F42: =[3]!ArticleQuantity(Art_02.12.10.) | I42: =IF(RIGHT($D42,1)="-","************",ROUND(IF(NOT(ISNUMBER(G42)),IF(NOT(ISNUMBER(F42)),1,F42),G42)*H42,2)) -> 0 | O42: =IF(MID($D42,3,1)="-","*********",ROUND(IF(NOT(ISNUMBER($G42)),IF(NOT(ISNUMBER($F42)),1,$F42),$G42)*(IF(NOT(ISNUMBER(N42)),L42,N42)),2)) -> 0 | P42: =IF(O$116=0,"",O42/O$116) | Q42: =IF($K42=0,"",IF(NOT(ISNUMBER(N42)),L42,N42)/$K42-1) | U42: =IF(MID($D42,3,1)="-","*********",ROUND(IF(NOT(ISNUMBER($G42)),IF(NOT(ISNUMBER($F42)),1,$F42),$G42)*(IF(NOT(ISNUMBER(T42)),R42,T42)),2)) -> 0 | V42: =IF(U$116=0,"",U42/U$116) | W42: =IF($K42=0,"",IF(NOT(ISNUMBER(T42)),R42,T42)/$K42-1) | AA42: =IF(MID($D42,3,1)="-","*********",ROUND(IF(NOT(ISNUMBER($G42)),IF(NOT(ISNUMBER($F42)),1,$F42),$G42)*(IF(NOT(ISNUMBER(Z42)),X42,Z42)),2)) -> 0 | AB42: =IF(AA$116=0,"",AA42/AA$116) | AC42: =IF($K42=0,"",IF(NOT(ISNUMBER(Z42)),X42,Z42)/$K42-1)
A43: =A42+1 -> 18 | B43: =[3]!ArticleCode(Art_02.12.20.) -> 02.12.20. | C43: =[3]!ArticleDescription(Art_02.12.20.) -> beschermingswerken - beplantingen/struiken en hagen | D43: =[3]!ArticleMeasureType(Art_02.12.20.) -> PM | E43: =[3]!ArticleMeasureUnit(Art_02.12.20.) | F43: =[3]!ArticleQuantity(Art_02.12.20.) | I43: =IF(RIGHT($D43,1)="-","************",ROUND(IF(NOT(ISNUMBER(G43)),IF(NOT(ISNUMBER(F43)),1,F43),G43)*H43,2)) -> 0 | O43: =IF(MID($D43,3,1)="-","*********",ROUND(IF(NOT(ISNUMBER($G43)),IF(NOT(ISNUMBER($F43)),1,$F43),$G43)*(IF(NOT(ISNUMBER(N43)),L43,N43)),2)) -> 0 | P43: =IF(O$116=0,"",O43/O$116) | Q43: =IF($K43=0,"",IF(NOT(ISNUMBER(N43)),L43,N43)/$K43-1) | U43: =IF(MID($D43,3,1)="-","*********",ROUND(IF(NOT(ISNUMBER($G43)),IF(NOT(ISNUMBER($F43)),1,$F43),$G43)*(IF(NOT(ISNUMBER(T43)),R43,T43)),2)) -> 0 | V43: =IF(U$116=0,"",U43/U$116) | W43: =IF($K43=0,"",IF(NOT(ISNUMBER(T43)),R43,T43)/$K43-1) | AA43: =IF(MID($D43,3,1)="-","*********",ROUND(IF(NOT(ISNUMBER($G43)),IF(NOT(ISNUMBER($F43)),1,$F43),$G43)*(IF(NOT(ISNUMBER(Z43)),X43,Z43)),2)) -> 0 | AB43: =IF(AA$116=0,"",AA43/AA$116) | AC43: =IF($K43=0,"",IF(NOT(ISNUMBER(Z43)),X43,Z43)/$K43-1)
...
